BEGIN:VCALENDAR
VERSION:2.0
PRODID:-//Gruene - ECPv6.15.11//NONSGML v1.0//EN
CALSCALE:GREGORIAN
METHOD:PUBLISH
X-ORIGINAL-URL:https://www.gruenetexas.com
X-WR-CALDESC:Events for Gruene
REFRESH-INTERVAL;VALUE=DURATION:PT1H
X-Robots-Tag:noindex
X-PUBLISHED-TTL:PT1H
BEGIN:VTIMEZONE
TZID:UTC
BEGIN:STANDARD
TZOFFSETFROM:+0000
TZOFFSETTO:+0000
TZNAME:UTC
DTSTART:20230101T000000
END:STANDARD
END:VTIMEZONE
BEGIN:VTIMEZONE
TZID:America/Chicago
BEGIN:DAYLIGHT
TZOFFSETFROM:-0600
TZOFFSETTO:-0500
TZNAME:CDT
DTSTART:20230312T080000
END:DAYLIGHT
BEGIN:STANDARD
TZOFFSETFROM:-0500
TZOFFSETTO:-0600
TZNAME:CST
DTSTART:20231105T070000
END:STANDARD
BEGIN:DAYLIGHT
TZOFFSETFROM:-0600
TZOFFSETTO:-0500
TZNAME:CDT
DTSTART:20240310T080000
END:DAYLIGHT
BEGIN:STANDARD
TZOFFSETFROM:-0500
TZOFFSETTO:-0600
TZNAME:CST
DTSTART:20241103T070000
END:STANDARD
BEGIN:DAYLIGHT
TZOFFSETFROM:-0600
TZOFFSETTO:-0500
TZNAME:CDT
DTSTART:20250309T080000
END:DAYLIGHT
BEGIN:STANDARD
TZOFFSETFROM:-0500
TZOFFSETTO:-0600
TZNAME:CST
DTSTART:20251102T070000
END:STANDARD
END:VTIMEZONE
BEGIN:VEVENT
DTSTART;TZID=UTC:20241208T100000
DTEND;TZID=UTC:20241208T170000
DTSTAMP:20260422T070826
CREATED:20240113T021004Z
LAST-MODIFIED:20240113T021004Z
UID:10001781-1733652000-1733677200@www.gruenetexas.com
SUMMARY:HOLIDAYS IN GRUENE - Gruene Christmas Market Days
DESCRIPTION:Nearly 100 vendors offer Christmas gifts\, uniquely crafted items and packaged Texas foods. Perfect for everyone on your holiday shopping list! Market hours are 10am to 5pm. Free admission. For more information\, visit GrueneMarketDays.com or call (830) 832-1721.
URL:https://www.gruenetexas.com/event/holidays-in-gruene-gruene-christmas-market-days-2/
CATEGORIES:Special Event,Ticketed Event
END:VEVENT
BEGIN:VEVENT
DTSTART;TZID=America/Chicago:20241207T210000
DTEND;TZID=America/Chicago:20241207T210000
DTSTAMP:20260422T070826
CREATED:20241014T184148Z
LAST-MODIFIED:20241014T184148Z
UID:10002634-1733605200-1733605200@www.gruenetexas.com
SUMMARY:An Evening of Jerry Jeff Walker music featuring Django Walker & The Jerry Jeff Walker Band
DESCRIPTION:| 			\n			\n							 \n\n\nOpener: TBA | Doors: 8pm \n\n		\n\n\n\n\n\n\n						\n							Add to calendar						 \n\n\n\n									\n										Google Calendar									\n								\n\n									\n										iCalendar									\n								\n\n									\n										Outlook 365									\n								\n\n									\n										Outlook Live
URL:https://www.gruenetexas.com/event/an-evening-of-jerry-jeff-walker-music-featuring-django-walker-the-jerry-jeff-walker-band/
LOCATION:Gruene Hall\, 1281 Gruene Rd\, New Braunfels\, 78130
CATEGORIES:Ticketed Event
ATTACH;FMTTYPE=image/jpeg:https://www.gruenetexas.com/wp-content/uploads/2024/10/DW-39_resized-U7NUg2.tmp_.jpg
END:VEVENT
BEGIN:VEVENT
DTSTART;TZID=America/Chicago:20241206T200000
DTEND;TZID=America/Chicago:20241206T200000
DTSTAMP:20260422T070826
CREATED:20240507T065657Z
LAST-MODIFIED:20240507T065657Z
UID:10002191-1733515200-1733515200@www.gruenetexas.com
SUMMARY:American Aquarium
DESCRIPTION:| 			\n			\n							 \n\n\nOpener: TBA | Doors: 7pm \n\n		\n\n\n\n\n\n\n						\n							Add to calendar						 \n\n\n\n									\n										Google Calendar									\n								\n\n									\n										iCalendar									\n								\n\n									\n										Outlook 365									\n								\n\n									\n										Outlook Live
URL:https://www.gruenetexas.com/event/american-aquarium/
LOCATION:Gruene Hall\, 1281 Gruene Rd\, New Braunfels\, 78130
CATEGORIES:Special Event,Ticketed Event
ATTACH;FMTTYPE=image/jpeg:https://www.gruenetexas.com/wp-content/uploads/2024/05/american-aquarium-JVQorp.tmp_.jpg
END:VEVENT
BEGIN:VEVENT
DTSTART;TZID=America/Chicago:20241205T200000
DTEND;TZID=America/Chicago:20241205T200000
DTSTAMP:20260422T070826
CREATED:20240923T172653Z
LAST-MODIFIED:20240923T172653Z
UID:10002602-1733428800-1733428800@www.gruenetexas.com
SUMMARY:Jamestown Revival: A Tiki Christmas Show
DESCRIPTION:| 			\n			\n							 \n\n\nOpener: TBA | Doors: 7pm  \n\n		\n\n\n\n\n\n\n						\n							Add to calendar						 \n\n\n\n									\n										Google Calendar									\n								\n\n									\n										iCalendar									\n								\n\n									\n										Outlook 365									\n								\n\n									\n										Outlook Live
URL:https://www.gruenetexas.com/event/jamestown-revival-a-tiki-christmas-show/
LOCATION:Gruene Hall\, 1281 Gruene Rd\, New Braunfels\, 78130
CATEGORIES:Ticketed Event
ATTACH;FMTTYPE=image/jpeg:https://www.gruenetexas.com/wp-content/uploads/2024/09/JR_Website_resized-Jxqny7.tmp_.jpg
END:VEVENT
BEGIN:VEVENT
DTSTART;TZID=America/Chicago:20241201T200000
DTEND;TZID=America/Chicago:20241201T200000
DTSTAMP:20260422T070826
CREATED:20240904T162652Z
LAST-MODIFIED:20240904T162652Z
UID:10002535-1733083200-1733083200@www.gruenetexas.com
SUMMARY:Aaron Watson: The Armadillo Dance Hall Tour
DESCRIPTION:| 			\n			\n							 \n\n\nOpener: TBA | Doors: 7pm \n\n		\n\n\n\n\n\n\n						\n							Add to calendar						 \n\n\n\n									\n										Google Calendar									\n								\n\n									\n										iCalendar									\n								\n\n									\n										Outlook 365									\n								\n\n									\n										Outlook Live
URL:https://www.gruenetexas.com/event/aaron-watson-the-armadillo-dance-hall-tour-3/
LOCATION:Gruene Hall\, 1281 Gruene Rd\, New Braunfels\, 78130
CATEGORIES:Ticketed Event
ATTACH;FMTTYPE=image/jpeg:https://www.gruenetexas.com/wp-content/uploads/2024/09/Press_Photo_2_2024_resized-YsGZeW.tmp_.jpg
END:VEVENT
BEGIN:VEVENT
DTSTART;TZID=America/Chicago:20241130T210000
DTEND;TZID=America/Chicago:20241130T210000
DTSTAMP:20260422T070826
CREATED:20240904T162652Z
LAST-MODIFIED:20240904T162652Z
UID:10002534-1733000400-1733000400@www.gruenetexas.com
SUMMARY:Aaron Watson: The Armadillo Dance Hall Tour
DESCRIPTION:| 			\n			\n							 \n\n\nOpener: TBA | Doors: 8pm \n\n		\n\n\n\n\n\n\n						\n							Add to calendar						 \n\n\n\n									\n										Google Calendar									\n								\n\n									\n										iCalendar									\n								\n\n									\n										Outlook 365									\n								\n\n									\n										Outlook Live
URL:https://www.gruenetexas.com/event/aaron-watson-the-armadillo-dance-hall-tour-2/
LOCATION:Gruene Hall\, 1281 Gruene Rd\, New Braunfels\, 78130
CATEGORIES:Ticketed Event
ATTACH;FMTTYPE=image/jpeg:https://www.gruenetexas.com/wp-content/uploads/2024/09/Press_Photo_2_2024_resized-YsGZeW.tmp_.jpg
END:VEVENT
BEGIN:VEVENT
DTSTART;TZID=America/Chicago:20241129T200000
DTEND;TZID=America/Chicago:20241129T200000
DTSTAMP:20260422T070826
CREATED:20240904T162652Z
LAST-MODIFIED:20240904T162652Z
UID:10002533-1732910400-1732910400@www.gruenetexas.com
SUMMARY:Aaron Watson: The Armadillo Dance Hall Tour
DESCRIPTION:| 			\n			\n							 \n\n\nOpener: TBA | Doors: 7pm \n\n		\n\n\n\n\n\n\n						\n							Add to calendar						 \n\n\n\n									\n										Google Calendar									\n								\n\n									\n										iCalendar									\n								\n\n									\n										Outlook 365									\n								\n\n									\n										Outlook Live
URL:https://www.gruenetexas.com/event/aaron-watson-the-armadillo-dance-hall-tour/
LOCATION:Gruene Hall\, 1281 Gruene Rd\, New Braunfels\, 78130
CATEGORIES:Ticketed Event
ATTACH;FMTTYPE=image/jpeg:https://www.gruenetexas.com/wp-content/uploads/2024/09/Press_Photo_2_2024_resized-YsGZeW.tmp_.jpg
END:VEVENT
BEGIN:VEVENT
DTSTART;TZID=America/Chicago:20241127T200000
DTEND;TZID=America/Chicago:20241127T200000
DTSTAMP:20260422T070826
CREATED:20240910T164207Z
LAST-MODIFIED:20240910T164207Z
UID:10002538-1732737600-1732737600@www.gruenetexas.com
SUMMARY:Mike Ryan
DESCRIPTION:| 			\n			\n							 \n\n\nOpener: TBA | Doors: 7pm \n\n		\n\n\n\n\n\n\n						\n							Add to calendar						 \n\n\n\n									\n										Google Calendar									\n								\n\n									\n										iCalendar									\n								\n\n									\n										Outlook 365									\n								\n\n									\n										Outlook Live
URL:https://www.gruenetexas.com/event/mike-ryan-2/
LOCATION:Gruene Hall\, 1281 Gruene Rd\, New Braunfels\, 78130
CATEGORIES:Ticketed Event
ATTACH;FMTTYPE=image/jpeg:https://www.gruenetexas.com/wp-content/uploads/2024/09/FT6A9564_2024_resized-k5ANdi.tmp_.jpg
END:VEVENT
BEGIN:VEVENT
DTSTART;TZID=America/Chicago:20241126T203000
DTEND;TZID=America/Chicago:20241126T203000
DTSTAMP:20260422T070826
CREATED:20241007T181155Z
LAST-MODIFIED:20241007T181155Z
UID:10002628-1732653000-1732653000@www.gruenetexas.com
SUMMARY:Two Ton Tuesday Thanksgiving Show & Food Drive
DESCRIPTION:| 			\n			\n							 \n\n\nNo advance tickets – $1 off with donation of canned good \n\n		\n\n\n\n\n\n\n						\n							Add to calendar						 \n\n\n\n									\n										Google Calendar									\n								\n\n									\n										iCalendar									\n								\n\n									\n										Outlook 365									\n								\n\n									\n										Outlook Live
URL:https://www.gruenetexas.com/event/two-ton-tuesday-thanksgiving-show-food-drive-2/
LOCATION:Gruene Hall\, 1281 Gruene Rd\, New Braunfels\, 78130
CATEGORIES:Special Event,Ticketed Event
ATTACH;FMTTYPE=image/jpeg:https://www.gruenetexas.com/wp-content/uploads/2023/03/TTT-1-Rbetxx.tmp_.jpg
END:VEVENT
BEGIN:VEVENT
DTSTART;TZID=America/Chicago:20241123T210000
DTEND;TZID=America/Chicago:20241123T210000
DTSTAMP:20260422T070826
CREATED:20241014T184148Z
LAST-MODIFIED:20241014T184148Z
UID:10002633-1732395600-1732395600@www.gruenetexas.com
SUMMARY:Gary P. Nunn
DESCRIPTION:| 			\n			\n							 \n\n\nOpener: TBA | Doors: 8pm \n\n		\n\n\n\n\n\n\n						\n							Add to calendar						 \n\n\n\n									\n										Google Calendar									\n								\n\n									\n										iCalendar									\n								\n\n									\n										Outlook 365									\n								\n\n									\n										Outlook Live
URL:https://www.gruenetexas.com/event/gary-p-nunn-3/
LOCATION:Gruene Hall\, 1281 Gruene Rd\, New Braunfels\, 78130
CATEGORIES:Ticketed Event
ATTACH;FMTTYPE=image/jpeg:https://www.gruenetexas.com/wp-content/uploads/2024/10/GPN-RA6qWe.tmp_.jpg
END:VEVENT
BEGIN:VEVENT
DTSTART;TZID=America/Chicago:20241123T210000
DTEND;TZID=America/Chicago:20241123T210000
DTSTAMP:20260422T070826
CREATED:20240409T061304Z
LAST-MODIFIED:20240409T061304Z
UID:10002150-1732395600-1732395600@www.gruenetexas.com
SUMMARY:The Cadillac Three
DESCRIPTION:| 			\n			\n							 \n\n\nOpener: TBA | Doors: 8pm \n\n		\n\n\n\n\n\n\n						\n							Add to calendar						 \n\n\n\n									\n										Google Calendar									\n								\n\n									\n										iCalendar									\n								\n\n									\n										Outlook 365									\n								\n\n									\n										Outlook Live
URL:https://www.gruenetexas.com/event/the-cadillac-three/
CATEGORIES:Special Event,Ticketed Event
ATTACH;FMTTYPE=image/jpeg:https://www.gruenetexas.com/wp-content/uploads/2024/04/cadillac_three-45LRrW.tmp_.jpg
END:VEVENT
BEGIN:VEVENT
DTSTART;TZID=America/Chicago:20241122T200000
DTEND;TZID=America/Chicago:20241122T200000
DTSTAMP:20260422T070826
CREATED:20240826T162651Z
LAST-MODIFIED:20240826T162651Z
UID:10002508-1732305600-1732305600@www.gruenetexas.com
SUMMARY:Ray Wylie Hubbard
DESCRIPTION:| 			\n			\n							 \n\n\nOpener: Ellis Bullard | Doors: 7pm \n\n		\n\n\n\n\n\n\n						\n							Add to calendar						 \n\n\n\n									\n										Google Calendar									\n								\n\n									\n										iCalendar									\n								\n\n									\n										Outlook 365									\n								\n\n									\n										Outlook Live
URL:https://www.gruenetexas.com/event/ray-wylie-hubbard-3/
LOCATION:Gruene Hall\, 1281 Gruene Rd\, New Braunfels\, 78130
CATEGORIES:Special Event,Ticketed Event
ATTACH;FMTTYPE=image/jpeg:https://www.gruenetexas.com/wp-content/uploads/2024/08/Ray_Wylie_Hubbard_2024-h0bcVa.tmp_.jpg
END:VEVENT
BEGIN:VEVENT
DTSTART;TZID=America/Chicago:20241121T200000
DTEND;TZID=America/Chicago:20241121T200000
DTSTAMP:20260422T070826
CREATED:20240819T161152Z
LAST-MODIFIED:20240819T161152Z
UID:10002489-1732219200-1732219200@www.gruenetexas.com
SUMMARY:Jon Wolfe’s Honky Tonk Holiday Show
DESCRIPTION:| 			\n			\n							 \n\n\nSpecial Guest: TBA | Doors: 7pm \n\n		\n\n\n\n\n\n\n						\n							Add to calendar						 \n\n\n\n									\n										Google Calendar									\n								\n\n									\n										iCalendar									\n								\n\n									\n										Outlook 365									\n								\n\n									\n										Outlook Live
URL:https://www.gruenetexas.com/event/jon-wolfes-honky-tonk-holiday-show/
LOCATION:Gruene Hall\, 1281 Gruene Rd\, New Braunfels\, 78130
CATEGORIES:Special Event,Ticketed Event
ATTACH;FMTTYPE=image/png:https://www.gruenetexas.com/wp-content/uploads/2024/08/JW_-_11-21-24_fb_event_cover-2ShBar.tmp_.png
END:VEVENT
BEGIN:VEVENT
DTSTART;TZID=America/Chicago:20241116T210000
DTEND;TZID=America/Chicago:20241116T210000
DTSTAMP:20260422T070826
CREATED:20240722T152652Z
LAST-MODIFIED:20240722T152652Z
UID:10002398-1731790800-1731790800@www.gruenetexas.com
SUMMARY:Sean McConnell
DESCRIPTION:| 			\n			\n							 \n\n\nOpener: TBA | Doors: 8pm \n\n		\n\n\n\n\n\n\n						\n							Add to calendar						 \n\n\n\n									\n										Google Calendar									\n								\n\n									\n										iCalendar									\n								\n\n									\n										Outlook 365									\n								\n\n									\n										Outlook Live
URL:https://www.gruenetexas.com/event/sean-mcconnell-4/
LOCATION:Gruene Hall\, 1281 Gruene Rd\, New Braunfels\, 78130
CATEGORIES:Special Event,Ticketed Event
ATTACH;FMTTYPE=image/jpeg:https://www.gruenetexas.com/wp-content/uploads/2024/07/sean-mcconnell_2024-Nur3CD.tmp_.jpg
END:VEVENT
BEGIN:VEVENT
DTSTART;TZID=America/Chicago:20241115T200000
DTEND;TZID=America/Chicago:20241115T200000
DTSTAMP:20260422T070826
CREATED:20240722T152651Z
LAST-MODIFIED:20240722T152651Z
UID:10002397-1731700800-1731700800@www.gruenetexas.com
SUMMARY:Sean McConnell
DESCRIPTION:| 			\n			\n							 \n\n\nOpener: TBA | Doors: 7pm \n\n		\n\n\n\n\n\n\n						\n							Add to calendar						 \n\n\n\n									\n										Google Calendar									\n								\n\n									\n										iCalendar									\n								\n\n									\n										Outlook 365									\n								\n\n									\n										Outlook Live
URL:https://www.gruenetexas.com/event/sean-mcconnell-3/
LOCATION:Gruene Hall\, 1281 Gruene Rd\, New Braunfels\, 78130
CATEGORIES:Special Event,Ticketed Event
ATTACH;FMTTYPE=image/jpeg:https://www.gruenetexas.com/wp-content/uploads/2024/07/sean-mcconnell_2024-Nur3CD.tmp_.jpg
END:VEVENT
BEGIN:VEVENT
DTSTART;TZID=America/Chicago:20241109T210000
DTEND;TZID=America/Chicago:20241109T210000
DTSTAMP:20260422T070826
CREATED:20240923T172652Z
LAST-MODIFIED:20240923T172652Z
UID:10002601-1731186000-1731186000@www.gruenetexas.com
SUMMARY:Slade Coulter
DESCRIPTION:| 			\n			\n							 \n\n\nOpener: Parker Ryan | Doors: 8pm \n\n		\n\n\n\n\n\n\n						\n							Add to calendar						 \n\n\n\n									\n										Google Calendar									\n								\n\n									\n										iCalendar									\n								\n\n									\n										Outlook 365									\n								\n\n									\n										Outlook Live
URL:https://www.gruenetexas.com/event/slade-coulter-2/
LOCATION:Gruene Hall\, 1281 Gruene Rd\, New Braunfels\, 78130
CATEGORIES:Ticketed Event
ATTACH;FMTTYPE=image/jpeg:https://www.gruenetexas.com/wp-content/uploads/2024/09/Slade-coulter-5gwK3C.tmp_.jpg
END:VEVENT
BEGIN:VEVENT
DTSTART;TZID=America/Chicago:20241108T220000
DTEND;TZID=America/Chicago:20241108T220000
DTSTAMP:20260422T070826
CREATED:20240722T152651Z
LAST-MODIFIED:20240722T152651Z
UID:10002396-1731103200-1731103200@www.gruenetexas.com
SUMMARY:Sara Evans: Unbroke Tour (10pm)
DESCRIPTION:| 			\n			\n							 \n\n\nSara Evans: 10pm | Doors: 9pm \n\n		\n\n\n\n\n\n\n						\n							Add to calendar						 \n\n\n\n									\n										Google Calendar									\n								\n\n									\n										iCalendar									\n								\n\n									\n										Outlook 365									\n								\n\n									\n										Outlook Live
URL:https://www.gruenetexas.com/event/sara-evans-unbroke-tour-10pm/
LOCATION:Gruene Hall\, 1281 Gruene Rd\, New Braunfels\, 78130
CATEGORIES:Special Event,Ticketed Event
ATTACH;FMTTYPE=image/jpeg:https://www.gruenetexas.com/wp-content/uploads/2024/07/sara_evans_2024-RiGmSx.tmp_.jpg
END:VEVENT
BEGIN:VEVENT
DTSTART;TZID=America/Chicago:20241108T180000
DTEND;TZID=America/Chicago:20241108T180000
DTSTAMP:20260422T070826
CREATED:20240722T152651Z
LAST-MODIFIED:20240722T152651Z
UID:10002395-1731088800-1731088800@www.gruenetexas.com
SUMMARY:Sara Evans: Unbroke Tour (6pm)
DESCRIPTION:| 			\n			\n							 \n\n\nSara Evans: 6pm | Doors: 5pm \n\n		\n\n\n\n\n\n\n						\n							Add to calendar						 \n\n\n\n									\n										Google Calendar									\n								\n\n									\n										iCalendar									\n								\n\n									\n										Outlook 365									\n								\n\n									\n										Outlook Live
URL:https://www.gruenetexas.com/event/sara-evans-unbroke-tour-6pm/
LOCATION:Gruene Hall\, 1281 Gruene Rd\, New Braunfels\, 78130
CATEGORIES:Special Event,Ticketed Event
ATTACH;FMTTYPE=image/jpeg:https://www.gruenetexas.com/wp-content/uploads/2024/07/sara_evans_2024-RiGmSx.tmp_.jpg
END:VEVENT
BEGIN:VEVENT
DTSTART;TZID=America/Chicago:20241102T210000
DTEND;TZID=America/Chicago:20241102T210000
DTSTAMP:20260422T070826
CREATED:20240819T161152Z
LAST-MODIFIED:20240819T161152Z
UID:10002488-1730581200-1730581200@www.gruenetexas.com
SUMMARY:Three Dog Night
DESCRIPTION:| 			\n			\n							 \n\n\nOpener: TBA | Doors: 8pm \n\n		\n\n\n\n\n\n\n						\n							Add to calendar						 \n\n\n\n									\n										Google Calendar									\n								\n\n									\n										iCalendar									\n								\n\n									\n										Outlook 365									\n								\n\n									\n										Outlook Live
URL:https://www.gruenetexas.com/event/three-dog-night-4/
LOCATION:Gruene Hall\, 1281 Gruene Rd\, New Braunfels\, 78130
CATEGORIES:Special Event,Ticketed Event
ATTACH;FMTTYPE=image/jpeg:https://www.gruenetexas.com/wp-content/uploads/2024/08/three_dog_night-JAzEmn.tmp_.jpg
END:VEVENT
BEGIN:VEVENT
DTSTART;TZID=America/Chicago:20241101T200000
DTEND;TZID=America/Chicago:20241101T200000
DTSTAMP:20260422T070826
CREATED:20240819T161152Z
LAST-MODIFIED:20240819T161152Z
UID:10002487-1730491200-1730491200@www.gruenetexas.com
SUMMARY:Three Dog Night
DESCRIPTION:| 			\n			\n							 \n\n\nOpener: TBA | Doors: 7pm \n\n		\n\n\n\n\n\n\n						\n							Add to calendar						 \n\n\n\n									\n										Google Calendar									\n								\n\n									\n										iCalendar									\n								\n\n									\n										Outlook 365									\n								\n\n									\n										Outlook Live
URL:https://www.gruenetexas.com/event/three-dog-night-3/
LOCATION:Gruene Hall\, 1281 Gruene Rd\, New Braunfels\, 78130
CATEGORIES:Special Event,Ticketed Event
ATTACH;FMTTYPE=image/jpeg:https://www.gruenetexas.com/wp-content/uploads/2024/08/three_dog_night-JAzEmn.tmp_.jpg
END:VEVENT
BEGIN:VEVENT
DTSTART;TZID=America/Chicago:20241026T200000
DTEND;TZID=America/Chicago:20241026T210000
DTSTAMP:20260422T070826
CREATED:20240812T155657Z
LAST-MODIFIED:20240812T155657Z
UID:10002474-1729972800-1729976400@www.gruenetexas.com
SUMMARY:Jack Ingram
DESCRIPTION:| 			\n			\n							 \n\n\nOpener: TBA | Doors: 8pm \n\n		\n\n\n\n\n\n\n						\n							Add to calendar						 \n\n\n\n									\n										Google Calendar									\n								\n\n									\n										iCalendar									\n								\n\n									\n										Outlook 365									\n								\n\n									\n										Outlook Live
URL:https://www.gruenetexas.com/event/jack-ingram-4/
LOCATION:Gruene Hall\, 1281 Gruene Rd\, New Braunfels\, 78130
CATEGORIES:Special Event,Ticketed Event
ATTACH;FMTTYPE=image/jpeg:https://www.gruenetexas.com/wp-content/uploads/2024/08/Front_Cover-9TKuko.tmp_.jpg
END:VEVENT
BEGIN:VEVENT
DTSTART;TZID=America/Chicago:20241025T200000
DTEND;TZID=America/Chicago:20241025T200000
DTSTAMP:20260422T070826
CREATED:20240812T155657Z
LAST-MODIFIED:20240812T155657Z
UID:10002473-1729886400-1729886400@www.gruenetexas.com
SUMMARY:Cody Canada & The Departed
DESCRIPTION:| 			\n			\n							 \n\n\nOpener: Waves in April | Tickets: 25 \n\n		\n\n\n\n\n\n\n						\n							Add to calendar						 \n\n\n\n									\n										Google Calendar									\n								\n\n									\n										iCalendar									\n								\n\n									\n										Outlook 365									\n								\n\n									\n										Outlook Live
URL:https://www.gruenetexas.com/event/cody-canada-the-departed-2/
LOCATION:Gruene Hall\, 1281 Gruene Rd\, New Braunfels\, 78130
CATEGORIES:Special Event,Ticketed Event
ATTACH;FMTTYPE=image/jpeg:https://www.gruenetexas.com/wp-content/uploads/2024/08/CodyCanada_reduced-uqc1Ie.tmp_.jpg
END:VEVENT
BEGIN:VEVENT
DTSTART;TZID=America/Chicago:20241020T200000
DTEND;TZID=America/Chicago:20241020T200000
DTSTAMP:20260422T070826
CREATED:20240819T161151Z
LAST-MODIFIED:20240819T161151Z
UID:10002486-1729454400-1729454400@www.gruenetexas.com
SUMMARY:The Bacon Brothers: Freestanding Tour
DESCRIPTION:| 			\n			\n							 \n\n\nOpener: TBA | Doors: 7pm \n\n		\n\n\n\n\n\n\n						\n							Add to calendar						 \n\n\n\n									\n										Google Calendar									\n								\n\n									\n										iCalendar									\n								\n\n									\n										Outlook 365									\n								\n\n									\n										Outlook Live
URL:https://www.gruenetexas.com/event/the-bacon-brothers-freestanding-tour/
LOCATION:Gruene Hall\, 1281 Gruene Rd\, New Braunfels\, 78130
CATEGORIES:Special Event,Ticketed Event
ATTACH;FMTTYPE=image/jpeg:https://www.gruenetexas.com/wp-content/uploads/2024/08/bacon_2024-xlTZTx.tmp_.jpg
END:VEVENT
BEGIN:VEVENT
DTSTART;TZID=America/Chicago:20241019T210000
DTEND;TZID=America/Chicago:20241019T210000
DTSTAMP:20260422T070826
CREATED:20240812T155657Z
LAST-MODIFIED:20240812T155657Z
UID:10002472-1729371600-1729371600@www.gruenetexas.com
SUMMARY:Junior Brown
DESCRIPTION:| 			\n			\n							 \n\n\nOpener: TBA | Doors: 8pm \n\n		\n\n\n\n\n\n\n						\n							Add to calendar						 \n\n\n\n									\n										Google Calendar									\n								\n\n									\n										iCalendar									\n								\n\n									\n										Outlook 365									\n								\n\n									\n										Outlook Live
URL:https://www.gruenetexas.com/event/junior-brown-4/
LOCATION:Gruene Hall\, 1281 Gruene Rd\, New Braunfels\, 78130
CATEGORIES:Special Event,Ticketed Event
ATTACH;FMTTYPE=image/jpeg:https://www.gruenetexas.com/wp-content/uploads/2024/08/JuniorBrown-6_2022-iuQkyj.tmp_.jpg
END:VEVENT
BEGIN:VEVENT
DTSTART;TZID=America/Chicago:20241018T200000
DTEND;TZID=America/Chicago:20241018T200000
DTSTAMP:20260422T070826
CREATED:20240611T081152Z
LAST-MODIFIED:20240611T081152Z
UID:10002298-1729281600-1729281600@www.gruenetexas.com
SUMMARY:Sixpence None the Richer – 25th Anniversary Tour: We are Love
DESCRIPTION:| 			\n			\n							 \n\n\nOpener: TBA | Doors: 7pm \n\n		\n\n\n\n\n\n\n						\n							Add to calendar						 \n\n\n\n									\n										Google Calendar									\n								\n\n									\n										iCalendar									\n								\n\n									\n										Outlook 365									\n								\n\n									\n										Outlook Live
URL:https://www.gruenetexas.com/event/sixpence-none-the-richer-25th-anniversary-tour-we-are-love/
LOCATION:Gruene Hall\, 1281 Gruene Rd\, New Braunfels\, 78130
CATEGORIES:Special Event,Ticketed Event
ATTACH;FMTTYPE=image/jpeg:https://www.gruenetexas.com/wp-content/uploads/2024/06/sixpence-cQAuhU.tmp_.jpg
END:VEVENT
BEGIN:VEVENT
DTSTART;TZID=America/Chicago:20241017T200000
DTEND;TZID=America/Chicago:20241017T200000
DTSTAMP:20260422T070826
CREATED:20240611T081152Z
LAST-MODIFIED:20240611T081152Z
UID:10002297-1729195200-1729195200@www.gruenetexas.com
SUMMARY:The Steel Woods
DESCRIPTION:| 			\n			\n							 \n\n\nOpener: Bones Owens | Doors 7pm \n\n		\n\n\n\n\n\n\n						\n							Add to calendar						 \n\n\n\n									\n										Google Calendar									\n								\n\n									\n										iCalendar									\n								\n\n									\n										Outlook 365									\n								\n\n									\n										Outlook Live
URL:https://www.gruenetexas.com/event/the-steel-woods-2/
LOCATION:Gruene Hall\, 1281 Gruene Rd\, New Braunfels\, 78130
CATEGORIES:Special Event,Ticketed Event
ATTACH;FMTTYPE=image/jpeg:https://www.gruenetexas.com/wp-content/uploads/2024/06/the_steel_woods-BLTGCh.tmp_.jpg
END:VEVENT
BEGIN:VEVENT
DTSTART;TZID=America/Chicago:20241013T130000
DTEND;TZID=America/Chicago:20241013T220000
DTSTAMP:20260422T070826
CREATED:20240730T154201Z
LAST-MODIFIED:20240730T154201Z
UID:10002430-1728824400-1728856800@www.gruenetexas.com
SUMMARY:Sunday Showdown
DESCRIPTION:| 			\n			\n							 \n\n\nFull day lineup of the best artists playing on two stages | Doors: 12pm \n\n		\n\n\n\n\n\n\n						\n							Add to calendar						 \n\n\n\n									\n										Google Calendar									\n								\n\n									\n										iCalendar									\n								\n\n									\n										Outlook 365									\n								\n\n									\n										Outlook Live
URL:https://www.gruenetexas.com/event/sunday-showdown/
LOCATION:Gruene Hall\, 1281 Gruene Rd\, New Braunfels\, 78130
CATEGORIES:Special Event,Ticketed Event
ATTACH;FMTTYPE=image/jpeg:https://www.gruenetexas.com/wp-content/uploads/2024/07/GRUENE_HALL_9x11-ZT2zkT.tmp_.jpg
END:VEVENT
BEGIN:VEVENT
DTSTART;TZID=America/Chicago:20241012T210000
DTEND;TZID=America/Chicago:20241012T210000
DTSTAMP:20260422T070826
CREATED:20240730T154201Z
LAST-MODIFIED:20240730T154201Z
UID:10002429-1728766800-1728766800@www.gruenetexas.com
SUMMARY:Robert Earl Keen
DESCRIPTION:| 			\n			\n							 \n\n\nOpener: Kelsey Waldon | Doors: 8pm \n\n		\n\n\n\n\n\n\n						\n							Add to calendar						 \n\n\n\n									\n										Google Calendar									\n								\n\n									\n										iCalendar									\n								\n\n									\n										Outlook 365									\n								\n\n									\n										Outlook Live
URL:https://www.gruenetexas.com/event/robert-earl-keen/
LOCATION:Gruene Hall\, 1281 Gruene Rd\, New Braunfels\, 78130
CATEGORIES:Special Event,Ticketed Event
ATTACH;FMTTYPE=image/jpeg:https://www.gruenetexas.com/wp-content/uploads/2024/07/REK_EG201054_resized-rGkaJX.tmp_.jpg
END:VEVENT
BEGIN:VEVENT
DTSTART;TZID=America/Chicago:20241011T213000
DTEND;TZID=America/Chicago:20241011T213000
DTSTAMP:20260422T070826
CREATED:20240730T154201Z
LAST-MODIFIED:20240730T154201Z
UID:10002428-1728682200-1728682200@www.gruenetexas.com
SUMMARY:Randy Rogers Band
DESCRIPTION:| 			\n			\n							 \n\n\nRandy Rogers Band: 9:30pm | Doors: 9pm  \n\n		\n\n\n\n\n\n\n						\n							Add to calendar						 \n\n\n\n									\n										Google Calendar									\n								\n\n									\n										iCalendar									\n								\n\n									\n										Outlook 365									\n								\n\n									\n										Outlook Live
URL:https://www.gruenetexas.com/event/randy-rogers-band/
LOCATION:Gruene Hall\, 1281 Gruene Rd\, New Braunfels\, 78130
CATEGORIES:Special Event,Ticketed Event
ATTACH;FMTTYPE=image/jpeg:https://www.gruenetexas.com/wp-content/uploads/2024/07/PressPhoto3_2024_resized-bDzMgL.tmp_.jpg
END:VEVENT
BEGIN:VEVENT
DTSTART;TZID=America/Chicago:20241011T170000
DTEND;TZID=America/Chicago:20241011T170000
DTSTAMP:20260422T070826
CREATED:20240802T155735Z
LAST-MODIFIED:20240802T155735Z
UID:10002442-1728666000-1728666000@www.gruenetexas.com
SUMMARY:Stars & Guitars
DESCRIPTION:| 			\n			\n							 \n\n\nGruene Music and Wine Fest event featuring Randy Rogers  \n\n		\n\n\n\n\n\n\n						\n							Add to calendar						 \n\n\n\n									\n										Google Calendar									\n								\n\n									\n										iCalendar									\n								\n\n									\n										Outlook 365									\n								\n\n									\n										Outlook Live
URL:https://www.gruenetexas.com/event/stars-guitars/
LOCATION:Gruene Hall\, 1281 Gruene Rd\, New Braunfels\, 78130
CATEGORIES:Special Event,Ticketed Event
ATTACH;FMTTYPE=image/jpeg:https://www.gruenetexas.com/wp-content/uploads/2024/08/E1A3786-Enhanced-NR-2-1-70_2024-LCUFYy.tmp_.jpg
END:VEVENT
END:VCALENDAR