BEGIN:VCALENDAR
VERSION:2.0
PRODID:-//Gruene - ECPv6.15.11//NONSGML v1.0//EN
CALSCALE:GREGORIAN
METHOD:PUBLISH
X-ORIGINAL-URL:https://www.gruenetexas.com
X-WR-CALDESC:Events for Gruene
REFRESH-INTERVAL;VALUE=DURATION:PT1H
X-Robots-Tag:noindex
X-PUBLISHED-TTL:PT1H
BEGIN:VTIMEZONE
TZID:America/Chicago
BEGIN:DAYLIGHT
TZOFFSETFROM:-0600
TZOFFSETTO:-0500
TZNAME:CDT
DTSTART:20230312T080000
END:DAYLIGHT
BEGIN:STANDARD
TZOFFSETFROM:-0500
TZOFFSETTO:-0600
TZNAME:CST
DTSTART:20231105T070000
END:STANDARD
BEGIN:DAYLIGHT
TZOFFSETFROM:-0600
TZOFFSETTO:-0500
TZNAME:CDT
DTSTART:20240310T080000
END:DAYLIGHT
BEGIN:STANDARD
TZOFFSETFROM:-0500
TZOFFSETTO:-0600
TZNAME:CST
DTSTART:20241103T070000
END:STANDARD
BEGIN:DAYLIGHT
TZOFFSETFROM:-0600
TZOFFSETTO:-0500
TZNAME:CDT
DTSTART:20250309T080000
END:DAYLIGHT
BEGIN:STANDARD
TZOFFSETFROM:-0500
TZOFFSETTO:-0600
TZNAME:CST
DTSTART:20251102T070000
END:STANDARD
BEGIN:DAYLIGHT
TZOFFSETFROM:-0600
TZOFFSETTO:-0500
TZNAME:CDT
DTSTART:20260308T080000
END:DAYLIGHT
BEGIN:STANDARD
TZOFFSETFROM:-0500
TZOFFSETTO:-0600
TZNAME:CST
DTSTART:20261101T070000
END:STANDARD
END:VTIMEZONE
BEGIN:VTIMEZONE
TZID:UTC
BEGIN:STANDARD
TZOFFSETFROM:+0000
TZOFFSETTO:+0000
TZNAME:UTC
DTSTART:20230101T000000
END:STANDARD
END:VTIMEZONE
BEGIN:VEVENT
DTSTART;TZID=America/Chicago:20250207T200000
DTEND;TZID=America/Chicago:20250207T200000
DTSTAMP:20260422T054305
CREATED:20240805T155652Z
LAST-MODIFIED:20240805T155652Z
UID:10002447-1738958400-1738958400@www.gruenetexas.com
SUMMARY:Lyle Lovett and his Acoustic Group
DESCRIPTION:| 			\n			\n							 \n\n\nLyle Lovett and his Acoustic Group: 8pm | Doors: 7pm \n\n		\n\n\n\n\n\n\n						\n							Add to calendar						 \n\n\n\n									\n										Google Calendar									\n								\n\n									\n										iCalendar									\n								\n\n									\n										Outlook 365									\n								\n\n									\n										Outlook Live
URL:https://www.gruenetexas.com/event/lyle-lovett-and-his-acoustic-group-5/
LOCATION:Gruene Hall\, 1281 Gruene Rd\, New Braunfels\, 78130
CATEGORIES:Special Event,Ticketed Event
ATTACH;FMTTYPE=image/jpeg:https://www.gruenetexas.com/wp-content/uploads/2024/08/LYLE_LOVETT_2024_resized2-ZOQOwI.tmp_.jpg
END:VEVENT
BEGIN:VEVENT
DTSTART;TZID=America/Chicago:20250206T200000
DTEND;TZID=America/Chicago:20250206T200000
DTSTAMP:20260422T054305
CREATED:20240805T155651Z
LAST-MODIFIED:20240805T155651Z
UID:10002446-1738872000-1738872000@www.gruenetexas.com
SUMMARY:Lyle Lovett and his Acoustic Group
DESCRIPTION:| 			\n			\n							 \n\n\nLyle Lovett and his Acoustic Group: 8pm | Doors: 7pm \n\n		\n\n\n\n\n\n\n						\n							Add to calendar						 \n\n\n\n									\n										Google Calendar									\n								\n\n									\n										iCalendar									\n								\n\n									\n										Outlook 365									\n								\n\n									\n										Outlook Live
URL:https://www.gruenetexas.com/event/lyle-lovett-and-his-acoustic-group-4/
LOCATION:Gruene Hall\, 1281 Gruene Rd\, New Braunfels\, 78130
CATEGORIES:Special Event,Ticketed Event
ATTACH;FMTTYPE=image/jpeg:https://www.gruenetexas.com/wp-content/uploads/2024/08/LYLE_LOVETT_2024_resized2-ZOQOwI.tmp_.jpg
END:VEVENT
BEGIN:VEVENT
DTSTART;TZID=America/Chicago:20250205T200000
DTEND;TZID=America/Chicago:20250205T200000
DTSTAMP:20260422T054305
CREATED:20240805T155651Z
LAST-MODIFIED:20240805T155651Z
UID:10002445-1738785600-1738785600@www.gruenetexas.com
SUMMARY:Lyle Lovett and his Acoustic Group
DESCRIPTION:| 			\n			\n							 \n\n\nLyle Lovett and his Acoustic Group: 8pm | Doors: 7pm \n\n		\n\n\n\n\n\n\n						\n							Add to calendar						 \n\n\n\n									\n										Google Calendar									\n								\n\n									\n										iCalendar									\n								\n\n									\n										Outlook 365									\n								\n\n									\n										Outlook Live
URL:https://www.gruenetexas.com/event/lyle-lovett-and-his-acoustic-group-3/
LOCATION:Gruene Hall\, 1281 Gruene Rd\, New Braunfels\, 78130
CATEGORIES:Special Event,Ticketed Event
ATTACH;FMTTYPE=image/jpeg:https://www.gruenetexas.com/wp-content/uploads/2024/08/LYLE_LOVETT_2024_resized2-ZOQOwI.tmp_.jpg
END:VEVENT
BEGIN:VEVENT
DTSTART;TZID=America/Chicago:20250201T210000
DTEND;TZID=America/Chicago:20250201T210000
DTSTAMP:20260422T054305
CREATED:20241209T195705Z
LAST-MODIFIED:20241209T195705Z
UID:10002859-1738443600-1738443600@www.gruenetexas.com
SUMMARY:Ty Myers: The Select Tour
DESCRIPTION:| 			\n			\n							 \n\n\nOpener: TBA | Doors: 8pm \n\n		\n\n\n\n\n\n\n						\n							Add to calendar						 \n\n\n\n									\n										Google Calendar									\n								\n\n									\n										iCalendar									\n								\n\n									\n										Outlook 365									\n								\n\n									\n										Outlook Live
URL:https://www.gruenetexas.com/event/ty-myers-the-select-tour/
LOCATION:Gruene Hall\, 1281 Gruene Rd\, New Braunfels\, 78130
CATEGORIES:Ticketed Event
ATTACH;FMTTYPE=image/jpeg:https://www.gruenetexas.com/wp-content/uploads/2024/12/ty-myers-zcHOlf.tmp_.jpg
END:VEVENT
BEGIN:VEVENT
DTSTART;TZID=America/Chicago:20250131T200000
DTEND;TZID=America/Chicago:20250131T200000
DTSTAMP:20260422T054305
CREATED:20241125T194153Z
LAST-MODIFIED:20241125T194153Z
UID:10002751-1738353600-1738353600@www.gruenetexas.com
SUMMARY:Dylan Wheeler
DESCRIPTION:| 			\n			\n							 \n\n\nOpener: TBA | Doors: 7pm \n\n		\n\n\n\n\n\n\n						\n							Add to calendar						 \n\n\n\n									\n										Google Calendar									\n								\n\n									\n										iCalendar									\n								\n\n									\n										Outlook 365									\n								\n\n									\n										Outlook Live
URL:https://www.gruenetexas.com/event/dylan-wheeler-2/
LOCATION:Gruene Hall\, 1281 Gruene Rd\, New Braunfels\, 78130
CATEGORIES:Special Event,Ticketed Event
ATTACH;FMTTYPE=image/jpeg:https://www.gruenetexas.com/wp-content/uploads/2024/11/dylan_wheeler-szi4Uw.tmp_.jpg
END:VEVENT
BEGIN:VEVENT
DTSTART;TZID=America/Chicago:20250130T200000
DTEND;TZID=America/Chicago:20250130T200000
DTSTAMP:20260422T054305
CREATED:20241213T201155Z
LAST-MODIFIED:20241213T201155Z
UID:10002866-1738267200-1738267200@www.gruenetexas.com
SUMMARY:Ty Myers: The Select Tour
DESCRIPTION:| 			\n			\n							 \n\n\nOpener: TBA | Doors: 7pm \n\n		\n\n\n\n\n\n\n						\n							Add to calendar						 \n\n\n\n									\n										Google Calendar									\n								\n\n									\n										iCalendar									\n								\n\n									\n										Outlook 365									\n								\n\n									\n										Outlook Live
URL:https://www.gruenetexas.com/event/ty-myers-the-select-tour-2/
LOCATION:Gruene Hall\, 1281 Gruene Rd\, New Braunfels\, 78130
CATEGORIES:Ticketed Event
ATTACH;FMTTYPE=image/jpeg:https://www.gruenetexas.com/wp-content/uploads/2024/12/ty-myers-zcHOlf.tmp_.jpg
END:VEVENT
BEGIN:VEVENT
DTSTART;TZID=America/Chicago:20250125T210000
DTEND;TZID=America/Chicago:20250125T210000
DTSTAMP:20260422T054305
CREATED:20241125T194153Z
LAST-MODIFIED:20241125T194153Z
UID:10002750-1737838800-1737838800@www.gruenetexas.com
SUMMARY:The Droptines
DESCRIPTION:| 			\n			\n							 \n\n\nOpener: TBA | Doors: 8pm \n\n		\n\n\n\n\n\n\n						\n							Add to calendar						 \n\n\n\n									\n										Google Calendar									\n								\n\n									\n										iCalendar									\n								\n\n									\n										Outlook 365									\n								\n\n									\n										Outlook Live
URL:https://www.gruenetexas.com/event/the-droptines/
LOCATION:Gruene Hall\, 1281 Gruene Rd\, New Braunfels\, 78130
CATEGORIES:Special Event,Ticketed Event
ATTACH;FMTTYPE=image/jpeg:https://www.gruenetexas.com/wp-content/uploads/2024/11/Photo_Sep_17_2024__2_46_13_PM_3-XBfd8w.tmp_.jpg
END:VEVENT
BEGIN:VEVENT
DTSTART;TZID=America/Chicago:20250124T180000
DTEND;TZID=America/Chicago:20250124T190000
DTSTAMP:20260422T054305
CREATED:20241226T202653Z
LAST-MODIFIED:20241226T202653Z
UID:10002889-1737741600-1737745200@www.gruenetexas.com
SUMMARY:Two Step Dance Lessons
DESCRIPTION:| 			\n			\n							 \n\n\n\n		\n\n\n\n\n\n\n						\n							Add to calendar						 \n\n\n\n									\n										Google Calendar									\n								\n\n									\n										iCalendar									\n								\n\n									\n										Outlook 365									\n								\n\n									\n										Outlook Live
URL:https://www.gruenetexas.com/event/two-step-dance-lessons-3/
LOCATION:Gruene Hall\, 1281 Gruene Rd\, New Braunfels\, 78130
CATEGORIES:Ticketed Event
END:VEVENT
BEGIN:VEVENT
DTSTART;TZID=America/Chicago:20250118T210000
DTEND;TZID=America/Chicago:20250118T210000
DTSTAMP:20260422T054305
CREATED:20241125T194153Z
LAST-MODIFIED:20241125T194153Z
UID:10002749-1737234000-1737234000@www.gruenetexas.com
SUMMARY:Stoney LaRue
DESCRIPTION:| 			\n			\n							 \n\n\nOpener: TBA | Doors: 8pm \n\n		\n\n\n\n\n\n\n						\n							Add to calendar						 \n\n\n\n									\n										Google Calendar									\n								\n\n									\n										iCalendar									\n								\n\n									\n										Outlook 365									\n								\n\n									\n										Outlook Live
URL:https://www.gruenetexas.com/event/stoney-larue-8/
LOCATION:Gruene Hall\, 1281 Gruene Rd\, New Braunfels\, 78130
CATEGORIES:Special Event,Ticketed Event
ATTACH;FMTTYPE=image/jpeg:https://www.gruenetexas.com/wp-content/uploads/2024/11/stoney_larue_2024-4Kdu1G.tmp_.jpg
END:VEVENT
BEGIN:VEVENT
DTSTART;TZID=America/Chicago:20250117T200000
DTEND;TZID=America/Chicago:20250117T200000
DTSTAMP:20260422T054305
CREATED:20241125T194153Z
LAST-MODIFIED:20241125T194153Z
UID:10002748-1737144000-1737144000@www.gruenetexas.com
SUMMARY:Stoney LaRue
DESCRIPTION:| 			\n			\n							 \n\n\nOpener: TBA | Doors: 7pm \n\n		\n\n\n\n\n\n\n						\n							Add to calendar						 \n\n\n\n									\n										Google Calendar									\n								\n\n									\n										iCalendar									\n								\n\n									\n										Outlook 365									\n								\n\n									\n										Outlook Live
URL:https://www.gruenetexas.com/event/stoney-larue-7/
LOCATION:Gruene Hall\, 1281 Gruene Rd\, New Braunfels\, 78130
CATEGORIES:Special Event,Ticketed Event
ATTACH;FMTTYPE=image/jpeg:https://www.gruenetexas.com/wp-content/uploads/2024/11/stoney_larue_2024-4Kdu1G.tmp_.jpg
END:VEVENT
BEGIN:VEVENT
DTSTART;TZID=America/Chicago:20250111T200000
DTEND;TZID=America/Chicago:20250111T200000
DTSTAMP:20260422T054305
CREATED:20241125T194153Z
LAST-MODIFIED:20241125T194153Z
UID:10002747-1736625600-1736625600@www.gruenetexas.com
SUMMARY:Curtis Grimes
DESCRIPTION:| 			\n			\n							 \n\n\nOpener: TBA | Doors: 7pm \n\n		\n\n\n\n\n\n\n						\n							Add to calendar						 \n\n\n\n									\n										Google Calendar									\n								\n\n									\n										iCalendar									\n								\n\n									\n										Outlook 365									\n								\n\n									\n										Outlook Live
URL:https://www.gruenetexas.com/event/curtis-grimes/
LOCATION:Gruene Hall\, 1281 Gruene Rd\, New Braunfels\, 78130
CATEGORIES:Special Event,Ticketed Event
ATTACH;FMTTYPE=image/jpeg:https://www.gruenetexas.com/wp-content/uploads/2024/11/CG_2021_reduced-iYHHhO.tmp_.jpg
END:VEVENT
BEGIN:VEVENT
DTSTART;TZID=America/Chicago:20250110T180000
DTEND;TZID=America/Chicago:20250110T190000
DTSTAMP:20260422T054305
CREATED:20241226T202652Z
LAST-MODIFIED:20241226T202652Z
UID:10002888-1736532000-1736535600@www.gruenetexas.com
SUMMARY:Two Step Dance Lessons
DESCRIPTION:| 			\n			\n							 \n\n\n\n		\n\n\n\n\n\n\n						\n							Add to calendar						 \n\n\n\n									\n										Google Calendar									\n								\n\n									\n										iCalendar									\n								\n\n									\n										Outlook 365									\n								\n\n									\n										Outlook Live
URL:https://www.gruenetexas.com/event/two-step-dance-lessons-2/
LOCATION:Gruene Hall\, 1281 Gruene Rd\, New Braunfels\, 78130
CATEGORIES:Ticketed Event
END:VEVENT
BEGIN:VEVENT
DTSTART;TZID=America/Chicago:20250104T210000
DTEND;TZID=America/Chicago:20250104T210000
DTSTAMP:20260422T054305
CREATED:20241028T184216Z
LAST-MODIFIED:20241028T184216Z
UID:10002677-1736024400-1736024400@www.gruenetexas.com
SUMMARY:The Lowdown Drifters
DESCRIPTION:| 			\n			\n							 \n\n\nOpener: Wade Forster | Doors: 8pm \n\n		\n\n\n\n\n\n\n						\n							Add to calendar						 \n\n\n\n									\n										Google Calendar									\n								\n\n									\n										iCalendar									\n								\n\n									\n										Outlook 365									\n								\n\n									\n										Outlook Live
URL:https://www.gruenetexas.com/event/the-lowdown-drifters/
LOCATION:Gruene Hall\, 1281 Gruene Rd\, New Braunfels\, 78130
CATEGORIES:Ticketed Event
ATTACH;FMTTYPE=image/jpeg:https://www.gruenetexas.com/wp-content/uploads/2024/10/lowdown-drifters-scaled-5eTevP.tmp_.jpg
END:VEVENT
BEGIN:VEVENT
DTSTART;TZID=America/Chicago:20250103T180000
DTEND;TZID=America/Chicago:20250103T190000
DTSTAMP:20260422T054305
CREATED:20241226T202652Z
LAST-MODIFIED:20241226T202652Z
UID:10002887-1735927200-1735930800@www.gruenetexas.com
SUMMARY:Two Step Dance Lessons
DESCRIPTION:| 			\n			\n							 \n\n\n\n		\n\n\n\n\n\n\n						\n							Add to calendar						 \n\n\n\n									\n										Google Calendar									\n								\n\n									\n										iCalendar									\n								\n\n									\n										Outlook 365									\n								\n\n									\n										Outlook Live
URL:https://www.gruenetexas.com/event/two-step-dance-lessons/
LOCATION:Gruene Hall\, 1281 Gruene Rd\, New Braunfels\, 78130
CATEGORIES:Ticketed Event
END:VEVENT
BEGIN:VEVENT
DTSTART;TZID=UTC:20241231T200000
DTEND;TZID=UTC:20241231T200000
DTSTAMP:20260422T054305
CREATED:20240116T023712Z
LAST-MODIFIED:20240116T023712Z
UID:10001914-1735675200-1735675200@www.gruenetexas.com
SUMMARY:HOLIDAYS IN GRUENE - New Year's Eve at Gruene Hall
DESCRIPTION:A Gruene Hall favorite returns to help rind in the New Year at Texas’ Oldest Dance Hall. Advance tickets are recommended at www.GrueneHall.com.
URL:https://www.gruenetexas.com/event/holidays-in-gruene-new-years-eve-at-gruene-hall/
LOCATION:Gruene Hall\, 1281 Gruene Rd\, New Braunfels\, 78130
CATEGORIES:Special Event,Ticketed Event
END:VEVENT
BEGIN:VEVENT
DTSTART;TZID=America/Chicago:20241231T180000
DTEND;TZID=America/Chicago:20241231T180000
DTSTAMP:20260422T054305
CREATED:20241001T175722Z
LAST-MODIFIED:20241001T175722Z
UID:10002618-1735668000-1735668000@www.gruenetexas.com
SUMMARY:New Year’s Eve with Pat Green (Early Show)
DESCRIPTION:| 			\n			\n							 \n\n\nSpecial Guest: Walt Wilkins | Doors: 5pm \n\n		\n\n\n\n\n\n\n						\n							Add to calendar						 \n\n\n\n									\n										Google Calendar									\n								\n\n									\n										iCalendar									\n								\n\n									\n										Outlook 365									\n								\n\n									\n										Outlook Live
URL:https://www.gruenetexas.com/event/new-years-eve-with-pat-green-early-show/
LOCATION:Gruene Hall\, 1281 Gruene Rd\, New Braunfels\, 78130
CATEGORIES:Ticketed Event
ATTACH;FMTTYPE=image/jpeg:https://www.gruenetexas.com/wp-content/uploads/2024/10/pat_9645_2024_resized-nPS4Ut.tmp_.jpg
END:VEVENT
BEGIN:VEVENT
DTSTART;TZID=America/Chicago:20241229T200000
DTEND;TZID=America/Chicago:20241229T200000
DTSTAMP:20260422T054305
CREATED:20241111T192650Z
LAST-MODIFIED:20241111T192650Z
UID:10002690-1735502400-1735502400@www.gruenetexas.com
SUMMARY:Giovannie & The Hired Guns
DESCRIPTION:| 			\n			\n							 \n\n\nOpener: TBA | Doors: 7pm \n\n		\n\n\n\n\n\n\n						\n							Add to calendar						 \n\n\n\n									\n										Google Calendar									\n								\n\n									\n										iCalendar									\n								\n\n									\n										Outlook 365									\n								\n\n									\n										Outlook Live
URL:https://www.gruenetexas.com/event/giovannie-the-hired-guns-3/
LOCATION:Gruene Hall\, 1281 Gruene Rd\, New Braunfels\, 78130
CATEGORIES:Special Event,Ticketed Event
ATTACH;FMTTYPE=image/jpeg:https://www.gruenetexas.com/wp-content/uploads/2024/11/giovannie-lgPJbf.tmp_.jpg
END:VEVENT
BEGIN:VEVENT
DTSTART;TZID=America/Chicago:20241229T200000
DTEND;TZID=America/Chicago:20241229T200000
DTSTAMP:20260422T054305
CREATED:20241021T184149Z
LAST-MODIFIED:20241021T184149Z
UID:10002660-1735502400-1735502400@www.gruenetexas.com
SUMMARY:The Mavericks: Moon & Stars Tour
DESCRIPTION:| 			\n			\n							 \n\n\nThe Mavericks: 8pm | Doors: 7pm \n\n		\n\n\n\n\n\n\n						\n							Add to calendar						 \n\n\n\n									\n										Google Calendar									\n								\n\n									\n										iCalendar									\n								\n\n									\n										Outlook 365									\n								\n\n									\n										Outlook Live
URL:https://www.gruenetexas.com/event/the-mavericks-moon-stars-tour-2/
LOCATION:Gruene Hall\, 1281 Gruene Rd\, New Braunfels\, 78130
CATEGORIES:Ticketed Event
ATTACH;FMTTYPE=image/jpeg:https://www.gruenetexas.com/wp-content/uploads/2024/10/TheMavericks_Moon_Stars24-AlejandroMenendez_2024_-9P49Mi.tmp_.jpg
END:VEVENT
BEGIN:VEVENT
DTSTART;TZID=America/Chicago:20241228T210000
DTEND;TZID=America/Chicago:20241228T210000
DTSTAMP:20260422T054305
CREATED:20241104T191157Z
LAST-MODIFIED:20241104T191157Z
UID:10002683-1735419600-1735419600@www.gruenetexas.com
SUMMARY:Max Stalling
DESCRIPTION:| 			\n			\n							 \n\n\nOpener: TBA | Doors: 8pm \n\n		\n\n\n\n\n\n\n						\n							Add to calendar						 \n\n\n\n									\n										Google Calendar									\n								\n\n									\n										iCalendar									\n								\n\n									\n										Outlook 365									\n								\n\n									\n										Outlook Live
URL:https://www.gruenetexas.com/event/max-stalling-3/
LOCATION:Gruene Hall\, 1281 Gruene Rd\, New Braunfels\, 78130
CATEGORIES:Special Event,Ticketed Event
END:VEVENT
BEGIN:VEVENT
DTSTART;TZID=America/Chicago:20241228T210000
DTEND;TZID=America/Chicago:20241228T210000
DTSTAMP:20260422T054305
CREATED:20241021T184149Z
LAST-MODIFIED:20241021T184149Z
UID:10002659-1735419600-1735419600@www.gruenetexas.com
SUMMARY:The Mavericks: Moon & Stars Tour
DESCRIPTION:| 			\n			\n							 \n\n\nThe Mavericks: 9pm | Doors: 8pm \n\n		\n\n\n\n\n\n\n						\n							Add to calendar						 \n\n\n\n									\n										Google Calendar									\n								\n\n									\n										iCalendar									\n								\n\n									\n										Outlook 365									\n								\n\n									\n										Outlook Live
URL:https://www.gruenetexas.com/event/the-mavericks-moon-stars-tour/
LOCATION:Gruene Hall\, 1281 Gruene Rd\, New Braunfels\, 78130
CATEGORIES:Ticketed Event
ATTACH;FMTTYPE=image/jpeg:https://www.gruenetexas.com/wp-content/uploads/2024/10/TheMavericks_Moon_Stars24-AlejandroMenendez_2024_-1-LKf01t.tmp_.jpg
END:VEVENT
BEGIN:VEVENT
DTSTART;TZID=America/Chicago:20241227T200000
DTEND;TZID=America/Chicago:20241227T200000
DTSTAMP:20260422T054305
CREATED:20241021T184149Z
LAST-MODIFIED:20241021T184149Z
UID:10002658-1735329600-1735329600@www.gruenetexas.com
SUMMARY:Cory Morrow
DESCRIPTION:| 			\n			\n							 \n\n\nOpener: TBA | Doors: 7pm \n\n		\n\n\n\n\n\n\n						\n							Add to calendar						 \n\n\n\n									\n										Google Calendar									\n								\n\n									\n										iCalendar									\n								\n\n									\n										Outlook 365									\n								\n\n									\n										Outlook Live
URL:https://www.gruenetexas.com/event/cory-morrow-4/
LOCATION:Gruene Hall\, 1281 Gruene Rd\, New Braunfels\, 78130
CATEGORIES:Ticketed Event
ATTACH;FMTTYPE=image/jpeg:https://www.gruenetexas.com/wp-content/uploads/2024/10/DSC6004_resized-yyMKem.tmp_.jpg
END:VEVENT
BEGIN:VEVENT
DTSTART;TZID=America/Chicago:20241226T200000
DTEND;TZID=America/Chicago:20241226T200000
DTSTAMP:20260422T054305
CREATED:20240917T171245Z
LAST-MODIFIED:20240917T171245Z
UID:10002569-1735243200-1735243200@www.gruenetexas.com
SUMMARY:Hudson Westbrook
DESCRIPTION:| 			\n			\n							 \n\n\nOpener: TBA | Doors: 7pm \n\n		\n\n\n\n\n\n\n						\n							Add to calendar						 \n\n\n\n									\n										Google Calendar									\n								\n\n									\n										iCalendar									\n								\n\n									\n										Outlook 365									\n								\n\n									\n										Outlook Live
URL:https://www.gruenetexas.com/event/hudson-westbrook/
LOCATION:Gruene Hall\, 1281 Gruene Rd\, New Braunfels\, 78130
CATEGORIES:Ticketed Event
ATTACH;FMTTYPE=image/jpeg:https://www.gruenetexas.com/wp-content/uploads/2024/09/HW1_1-A6De6W.tmp_.jpg
END:VEVENT
BEGIN:VEVENT
DTSTART;TZID=America/Chicago:20241222T200000
DTEND;TZID=America/Chicago:20241222T200000
DTSTAMP:20260422T054305
CREATED:20241014T184148Z
LAST-MODIFIED:20241014T184148Z
UID:10002635-1734897600-1734897600@www.gruenetexas.com
SUMMARY:Asleep at the Wheel
DESCRIPTION:| 			\n			\n							 \n\n\nAsleep at the Wheel: 8pm | Doors: 7pm \n\n		\n\n\n\n\n\n\n						\n							Add to calendar						 \n\n\n\n									\n										Google Calendar									\n								\n\n									\n										iCalendar									\n								\n\n									\n										Outlook 365									\n								\n\n									\n										Outlook Live
URL:https://www.gruenetexas.com/event/asleep-at-the-wheel-2/
LOCATION:Gruene Hall\, 1281 Gruene Rd\, New Braunfels\, 78130
CATEGORIES:Ticketed Event
ATTACH;FMTTYPE=image/jpeg:https://www.gruenetexas.com/wp-content/uploads/2024/10/Credit_Curtis_Clogston-_WEB_RESOLUTION-LIhTBa.tmp_.jpg
END:VEVENT
BEGIN:VEVENT
DTSTART;TZID=America/Chicago:20241221T210000
DTEND;TZID=America/Chicago:20241221T210000
DTSTAMP:20260422T054305
CREATED:20240923T172653Z
LAST-MODIFIED:20240923T172653Z
UID:10002603-1734814800-1734814800@www.gruenetexas.com
SUMMARY:Carson Jeffrey: Ranch Girl Dream Tour
DESCRIPTION:| 			\n			\n							 \n\n\nOpener: TBA | Doors: 8pm \n\n		\n\n\n\n\n\n\n						\n							Add to calendar						 \n\n\n\n									\n										Google Calendar									\n								\n\n									\n										iCalendar									\n								\n\n									\n										Outlook 365									\n								\n\n									\n										Outlook Live
URL:https://www.gruenetexas.com/event/carson-jeffrey-ranch-girl-dream-tour/
LOCATION:Gruene Hall\, 1281 Gruene Rd\, New Braunfels\, 78130
CATEGORIES:Ticketed Event
ATTACH;FMTTYPE=image/jpeg:https://www.gruenetexas.com/wp-content/uploads/2024/09/Carson-Jeffrey-WvE0EV.tmp_.jpg
END:VEVENT
BEGIN:VEVENT
DTSTART;TZID=America/Chicago:20241220T200000
DTEND;TZID=America/Chicago:20241220T200000
DTSTAMP:20260422T054305
CREATED:20240917T171245Z
LAST-MODIFIED:20240917T171245Z
UID:10002568-1734724800-1734724800@www.gruenetexas.com
SUMMARY:Paul Cauthen (Acoustic)
DESCRIPTION:| 			\n			\n							 \n\n\nOpener: TBA | Doors: 7pm \n\n		\n\n\n\n\n\n\n						\n							Add to calendar						 \n\n\n\n									\n										Google Calendar									\n								\n\n									\n										iCalendar									\n								\n\n									\n										Outlook 365									\n								\n\n									\n										Outlook Live
URL:https://www.gruenetexas.com/event/paul-cauthen-acoustic-2/
LOCATION:Gruene Hall\, 1281 Gruene Rd\, New Braunfels\, 78130
CATEGORIES:Ticketed Event
ATTACH;FMTTYPE=image/jpeg:https://www.gruenetexas.com/wp-content/uploads/2024/09/4C4A6776_2024_resized-eSFPkb.tmp_.jpg
END:VEVENT
BEGIN:VEVENT
DTSTART;TZID=America/Chicago:20241219T200000
DTEND;TZID=America/Chicago:20241219T200000
DTSTAMP:20260422T054305
CREATED:20240917T171244Z
LAST-MODIFIED:20240917T171244Z
UID:10002567-1734638400-1734638400@www.gruenetexas.com
SUMMARY:Paul Cauthen (Acoustic)
DESCRIPTION:| 			\n			\n							 \n\n\nOpener: TBA | Doors: 7pm \n\n		\n\n\n\n\n\n\n						\n							Add to calendar						 \n\n\n\n									\n										Google Calendar									\n								\n\n									\n										iCalendar									\n								\n\n									\n										Outlook 365									\n								\n\n									\n										Outlook Live
URL:https://www.gruenetexas.com/event/paul-cauthen-acoustic/
LOCATION:Gruene Hall\, 1281 Gruene Rd\, New Braunfels\, 78130
CATEGORIES:Ticketed Event
ATTACH;FMTTYPE=image/jpeg:https://www.gruenetexas.com/wp-content/uploads/2024/09/4C4A6776_2024_resized-eSFPkb.tmp_.jpg
END:VEVENT
BEGIN:VEVENT
DTSTART;TZID=America/Chicago:20241217T193000
DTEND;TZID=America/Chicago:20241217T193000
DTSTAMP:20260422T054305
CREATED:20241121T192648Z
LAST-MODIFIED:20241121T192648Z
UID:10002726-1734463800-1734463800@www.gruenetexas.com
SUMMARY:Two Ton Tuesday Holiday Show
DESCRIPTION:| 			\n			\n							 \n\n\nNo advance tickets — $12 cash at the door \n\n		\n\n\n\n\n\n\n						\n							Add to calendar						 \n\n\n\n									\n										Google Calendar									\n								\n\n									\n										iCalendar									\n								\n\n									\n										Outlook 365									\n								\n\n									\n										Outlook Live
URL:https://www.gruenetexas.com/event/two-ton-tuesday-holiday-show-3/
LOCATION:Gruene Hall\, 1281 Gruene Rd\, New Braunfels\, 78130
CATEGORIES:Special Event,Ticketed Event
ATTACH;FMTTYPE=image/jpeg:https://www.gruenetexas.com/wp-content/uploads/2023/03/TTT-1-Rbetxx.tmp_.jpg
END:VEVENT
BEGIN:VEVENT
DTSTART;TZID=America/Chicago:20241214T210000
DTEND;TZID=America/Chicago:20241214T210000
DTSTAMP:20260422T054305
CREATED:20240805T155650Z
LAST-MODIFIED:20240805T155650Z
UID:10002444-1734210000-1734210000@www.gruenetexas.com
SUMMARY:Wade Bowen
DESCRIPTION:| 			\n			\n							 \n\n\nOpener: Brooke Lee | Doors: 8pm \n\n		\n\n\n\n\n\n\n						\n							Add to calendar						 \n\n\n\n									\n										Google Calendar									\n								\n\n									\n										iCalendar									\n								\n\n									\n										Outlook 365									\n								\n\n									\n										Outlook Live
URL:https://www.gruenetexas.com/event/wade-bowen-4/
LOCATION:Gruene Hall\, 1281 Gruene Rd\, New Braunfels\, 78130
CATEGORIES:Special Event,Ticketed Event
ATTACH;FMTTYPE=image/jpeg:https://www.gruenetexas.com/wp-content/uploads/2024/08/Wade_Bowen_Image_2_revised-RZ7blF.tmp_.jpg
END:VEVENT
BEGIN:VEVENT
DTSTART;TZID=America/Chicago:20241213T200000
DTEND;TZID=America/Chicago:20241213T200000
DTSTAMP:20260422T054305
CREATED:20240805T155650Z
LAST-MODIFIED:20240805T155650Z
UID:10002443-1734120000-1734120000@www.gruenetexas.com
SUMMARY:Wade Bowen
DESCRIPTION:| 			\n			\n							 \n\n\nOpener: Brooke Lee | Doors: 7pm \n\n		\n\n\n\n\n\n\n						\n							Add to calendar						 \n\n\n\n									\n										Google Calendar									\n								\n\n									\n										iCalendar									\n								\n\n									\n										Outlook 365									\n								\n\n									\n										Outlook Live
URL:https://www.gruenetexas.com/event/wade-bowen-3/
LOCATION:Gruene Hall\, 1281 Gruene Rd\, New Braunfels\, 78130
CATEGORIES:Special Event,Ticketed Event
ATTACH;FMTTYPE=image/jpeg:https://www.gruenetexas.com/wp-content/uploads/2024/08/Wade_Bowen_Image_2_revised-RZ7blF.tmp_.jpg
END:VEVENT
BEGIN:VEVENT
DTSTART;TZID=America/Chicago:20241212T200000
DTEND;TZID=America/Chicago:20241212T200000
DTSTAMP:20260422T054305
CREATED:20240904T162652Z
LAST-MODIFIED:20240904T162652Z
UID:10002536-1734033600-1734033600@www.gruenetexas.com
SUMMARY:Kaitlin Butts
DESCRIPTION:| 			\n			\n							 \n\n\nOpener: TBA | Doors: 7pm \n\n		\n\n\n\n\n\n\n						\n							Add to calendar						 \n\n\n\n									\n										Google Calendar									\n								\n\n									\n										iCalendar									\n								\n\n									\n										Outlook 365									\n								\n\n									\n										Outlook Live
URL:https://www.gruenetexas.com/event/kaitlin-butts-2/
LOCATION:Gruene Hall\, 1281 Gruene Rd\, New Braunfels\, 78130
CATEGORIES:Ticketed Event
ATTACH;FMTTYPE=image/jpeg:https://www.gruenetexas.com/wp-content/uploads/2024/09/kzyfc_3A_2024_resized-freyJD.tmp_.jpg
END:VEVENT
END:VCALENDAR