BEGIN:VCALENDAR
VERSION:2.0
PRODID:-//Gruene - ECPv6.15.11//NONSGML v1.0//EN
CALSCALE:GREGORIAN
METHOD:PUBLISH
X-WR-CALNAME:Gruene
X-ORIGINAL-URL:https://www.gruenetexas.com
X-WR-CALDESC:Events for Gruene
REFRESH-INTERVAL;VALUE=DURATION:PT1H
X-Robots-Tag:noindex
X-PUBLISHED-TTL:PT1H
BEGIN:VTIMEZONE
TZID:America/Chicago
BEGIN:DAYLIGHT
TZOFFSETFROM:-0600
TZOFFSETTO:-0500
TZNAME:CDT
DTSTART:20240310T080000
END:DAYLIGHT
BEGIN:STANDARD
TZOFFSETFROM:-0500
TZOFFSETTO:-0600
TZNAME:CST
DTSTART:20241103T070000
END:STANDARD
BEGIN:DAYLIGHT
TZOFFSETFROM:-0600
TZOFFSETTO:-0500
TZNAME:CDT
DTSTART:20250309T080000
END:DAYLIGHT
BEGIN:STANDARD
TZOFFSETFROM:-0500
TZOFFSETTO:-0600
TZNAME:CST
DTSTART:20251102T070000
END:STANDARD
BEGIN:DAYLIGHT
TZOFFSETFROM:-0600
TZOFFSETTO:-0500
TZNAME:CDT
DTSTART:20260308T080000
END:DAYLIGHT
BEGIN:STANDARD
TZOFFSETFROM:-0500
TZOFFSETTO:-0600
TZNAME:CST
DTSTART:20261101T070000
END:STANDARD
END:VTIMEZONE
BEGIN:VEVENT
DTSTART;TZID=America/Chicago:20250614T210000
DTEND;TZID=America/Chicago:20250614T210000
DTSTAMP:20260422T030002
CREATED:20250317T232729Z
LAST-MODIFIED:20250317T232729Z
UID:10003183-1749934800-1749934800@www.gruenetexas.com
SUMMARY:The Wilder Blue
DESCRIPTION:| 			\n			\n							 \n\n\nOpener: TBA | Doors: 8pm \n\n		\n\n\n\n\n\n\n						\n							Add to calendar						 \n\n\n\n									\n										Google Calendar									\n								\n\n									\n										iCalendar									\n								\n\n									\n										Outlook 365									\n								\n\n									\n										Outlook Live
URL:https://www.gruenetexas.com/event/the-wilder-blue-3/
LOCATION:Gruene Hall\, 1281 Gruene Rd\, New Braunfels\, 78130
CATEGORIES:Ticketed Event
ATTACH;FMTTYPE=image/jpeg:https://www.gruenetexas.com/wp-content/uploads/2025/03/wilder-blue-2025-fOqiq4.tmp_.jpg
END:VEVENT
BEGIN:VEVENT
DTSTART;TZID=America/Chicago:20250613T200000
DTEND;TZID=America/Chicago:20250613T200000
DTSTAMP:20260422T030002
CREATED:20250415T004242Z
LAST-MODIFIED:20250415T004242Z
UID:10003282-1749844800-1749844800@www.gruenetexas.com
SUMMARY:Bo Phillips Band
DESCRIPTION:| 			\n			\n							 \n\n\nOpener: Ryan Hunter | Doors: 7 pm \n\n		\n\n\n\n\n\n\n						\n							Add to calendar						 \n\n\n\n									\n										Google Calendar									\n								\n\n									\n										iCalendar									\n								\n\n									\n										Outlook 365									\n								\n\n									\n										Outlook Live
URL:https://www.gruenetexas.com/event/bo-phillips-band-14/
LOCATION:Gruene Hall\, 1281 Gruene Rd\, New Braunfels\, 78130
CATEGORIES:Ticketed Event
ATTACH;FMTTYPE=image/jpeg:https://www.gruenetexas.com/wp-content/uploads/2025/04/bo-phillips-band-43fhHc.tmp_.jpg
END:VEVENT
BEGIN:VEVENT
DTSTART;TZID=America/Chicago:20250612T180000
DTEND;TZID=America/Chicago:20250612T190000
DTSTAMP:20260422T030002
CREATED:20250502T011156Z
LAST-MODIFIED:20250502T011156Z
UID:10003378-1749751200-1749754800@www.gruenetexas.com
SUMMARY:Dance Lessons
DESCRIPTION:| 			\n			\n							 \n\n\n\n		\n\n\n\n\n\n\n						\n							Add to calendar						 \n\n\n\n									\n										Google Calendar									\n								\n\n									\n										iCalendar									\n								\n\n									\n										Outlook 365									\n								\n\n									\n										Outlook Live
URL:https://www.gruenetexas.com/event/dance-lessons-7/
LOCATION:Gruene Hall\, 1281 Gruene Rd\, New Braunfels\, 78130
CATEGORIES:Ticketed Event
END:VEVENT
BEGIN:VEVENT
DTSTART;TZID=America/Chicago:20250610T203000
DTEND;TZID=America/Chicago:20250610T203000
DTSTAMP:20260422T030002
CREATED:20250303T224238Z
LAST-MODIFIED:20250303T224238Z
UID:10003134-1749587400-1749587400@www.gruenetexas.com
SUMMARY:Two Ton Tuesdays
DESCRIPTION:| 			\n			\n							 \n\n\nTwo Tons of Steel returns to Gruene Hall! \n\n		\n\n\n\n\n\n\n						\n							Add to calendar						 \n\n\n\n									\n										Google Calendar									\n								\n\n									\n										iCalendar									\n								\n\n									\n										Outlook 365									\n								\n\n									\n										Outlook Live
URL:https://www.gruenetexas.com/event/two-ton-tuesdays-2/
LOCATION:Gruene Hall\, 1281 Gruene Rd\, New Braunfels\, 78130
CATEGORIES:Ticketed Event
END:VEVENT
BEGIN:VEVENT
DTSTART;TZID=America/Chicago:20250610T200000
DTEND;TZID=America/Chicago:20250610T230000
DTSTAMP:20260422T030002
CREATED:20250415T004242Z
LAST-MODIFIED:20250415T004242Z
UID:10003280-1749585600-1749596400@www.gruenetexas.com
SUMMARY:Two Ton Tuesdays
DESCRIPTION:| 			\n			\n							 \n\n\nTwo Tons of Steel returns to Gruene Hall! | Doors: 7 pm \n\n		\n\n\n\n\n\n\n						\n							Add to calendar						 \n\n\n\n									\n										Google Calendar									\n								\n\n									\n										iCalendar									\n								\n\n									\n										Outlook 365									\n								\n\n									\n										Outlook Live
URL:https://www.gruenetexas.com/event/two-ton-tuesdays-13/
LOCATION:Gruene Hall\, 1281 Gruene Rd\, New Braunfels\, 78130
CATEGORIES:Ticketed Event
END:VEVENT
BEGIN:VEVENT
DTSTART;TZID=America/Chicago:20250610T180000
DTEND;TZID=America/Chicago:20250610T190000
DTSTAMP:20260422T030002
CREATED:20250415T004242Z
LAST-MODIFIED:20250415T004242Z
UID:10003279-1749578400-1749582000@www.gruenetexas.com
SUMMARY:Swing Dance Lessons w/ Michelle
DESCRIPTION:| 			\n			\n							 \n\n\n\n		\n\n\n\n\n\n\n						\n							Add to calendar						 \n\n\n\n									\n										Google Calendar									\n								\n\n									\n										iCalendar									\n								\n\n									\n										Outlook 365									\n								\n\n									\n										Outlook Live
URL:https://www.gruenetexas.com/event/swing-dance-lessons-w-michelle-2/
LOCATION:Gruene Hall\, 1281 Gruene Rd\, New Braunfels\, 78130
CATEGORIES:Ticketed Event
END:VEVENT
BEGIN:VEVENT
DTSTART;TZID=America/Chicago:20250607T210000
DTEND;TZID=America/Chicago:20250607T210000
DTSTAMP:20260422T030002
CREATED:20250303T224238Z
LAST-MODIFIED:20250303T224238Z
UID:10003133-1749330000-1749330000@www.gruenetexas.com
SUMMARY:Red Shahan
DESCRIPTION:| 			\n			\n							 \n\n\nOpener: TBA | Doors: 8pm \n\n		\n\n\n\n\n\n\n						\n							Add to calendar						 \n\n\n\n									\n										Google Calendar									\n								\n\n									\n										iCalendar									\n								\n\n									\n										Outlook 365									\n								\n\n									\n										Outlook Live
URL:https://www.gruenetexas.com/event/red-shahan-3/
LOCATION:Gruene Hall\, 1281 Gruene Rd\, New Braunfels\, 78130
CATEGORIES:Special Event,Ticketed Event
ATTACH;FMTTYPE=image/jpeg:https://www.gruenetexas.com/wp-content/uploads/2025/03/RED_SHAHAN-vo6kcU.tmp_.jpg
END:VEVENT
BEGIN:VEVENT
DTSTART;TZID=America/Chicago:20250606T200000
DTEND;TZID=America/Chicago:20250606T200000
DTSTAMP:20260422T030002
CREATED:20250317T232729Z
LAST-MODIFIED:20250317T232729Z
UID:10003182-1749240000-1749240000@www.gruenetexas.com
SUMMARY:Tyler Halverson
DESCRIPTION:| 			\n			\n							 \n\n\nOpener: TBA | Doors: 7pm \n\n		\n\n\n\n\n\n\n						\n							Add to calendar						 \n\n\n\n									\n										Google Calendar									\n								\n\n									\n										iCalendar									\n								\n\n									\n										Outlook 365									\n								\n\n									\n										Outlook Live
URL:https://www.gruenetexas.com/event/tyler-halverson/
LOCATION:Gruene Hall\, 1281 Gruene Rd\, New Braunfels\, 78130
CATEGORIES:Ticketed Event
ATTACH;FMTTYPE=image/jpeg:https://www.gruenetexas.com/wp-content/uploads/2025/03/tyler-halverson-H9WQS0.tmp_.jpg
END:VEVENT
BEGIN:VEVENT
DTSTART;TZID=America/Chicago:20250605T180000
DTEND;TZID=America/Chicago:20250605T190000
DTSTAMP:20260422T030002
CREATED:20250502T011155Z
LAST-MODIFIED:20250502T011155Z
UID:10003375-1749146400-1749150000@www.gruenetexas.com
SUMMARY:Dance Lessons
DESCRIPTION:| 			\n			\n							 \n\n\n\n		\n\n\n\n\n\n\n						\n							Add to calendar						 \n\n\n\n									\n										Google Calendar									\n								\n\n									\n										iCalendar									\n								\n\n									\n										Outlook 365									\n								\n\n									\n										Outlook Live
URL:https://www.gruenetexas.com/event/dance-lessons-6/
LOCATION:Gruene Hall\, 1281 Gruene Rd\, New Braunfels\, 78130
CATEGORIES:Ticketed Event
END:VEVENT
BEGIN:VEVENT
DTSTART;TZID=America/Chicago:20250604T200000
DTEND;TZID=America/Chicago:20250604T200000
DTSTAMP:20260422T030002
CREATED:20241206T195656Z
LAST-MODIFIED:20241206T195656Z
UID:10002839-1749067200-1749067200@www.gruenetexas.com
SUMMARY:The War And Treaty
DESCRIPTION:| 			\n			\n							 \n\n\nOpener: TBA | Doors: 7pm \n\n		\n\n\n\n\n\n\n						\n							Add to calendar						 \n\n\n\n									\n										Google Calendar									\n								\n\n									\n										iCalendar									\n								\n\n									\n										Outlook 365									\n								\n\n									\n										Outlook Live
URL:https://www.gruenetexas.com/event/the-war-and-treaty/
LOCATION:Gruene Hall\, 1281 Gruene Rd\, New Braunfels\, 78130
CATEGORIES:Ticketed Event
ATTACH;FMTTYPE=image/jpeg:https://www.gruenetexas.com/wp-content/uploads/2024/12/WT_SM-3977_0005_HIres_WEB_resized-PCWszt.tmp_.jpg
END:VEVENT
BEGIN:VEVENT
DTSTART;TZID=America/Chicago:20250603T203000
DTEND;TZID=America/Chicago:20250603T203000
DTSTAMP:20260422T030002
CREATED:20250303T224238Z
LAST-MODIFIED:20250303T224238Z
UID:10003132-1748982600-1748982600@www.gruenetexas.com
SUMMARY:Two Ton Tuesdays
DESCRIPTION:| 			\n			\n							 \n\n\nTwo Tons of Steel returns to Gruene Hall! \n\n		\n\n\n\n\n\n\n						\n							Add to calendar						 \n\n\n\n									\n										Google Calendar									\n								\n\n									\n										iCalendar									\n								\n\n									\n										Outlook 365									\n								\n\n									\n										Outlook Live
URL:https://www.gruenetexas.com/event/two-ton-tuesdays/
LOCATION:Gruene Hall\, 1281 Gruene Rd\, New Braunfels\, 78130
CATEGORIES:Ticketed Event
END:VEVENT
BEGIN:VEVENT
DTSTART;TZID=America/Chicago:20250603T200000
DTEND;TZID=America/Chicago:20250603T230000
DTSTAMP:20260422T030002
CREATED:20250415T004241Z
LAST-MODIFIED:20250415T004241Z
UID:10003271-1748980800-1748991600@www.gruenetexas.com
SUMMARY:Two Ton Tuesdays
DESCRIPTION:| 			\n			\n							 \n\n\nTwo Tons of Steel returns to Gruene Hall! | Doors: 7 pm \n\n		\n\n\n\n\n\n\n						\n							Add to calendar						 \n\n\n\n									\n										Google Calendar									\n								\n\n									\n										iCalendar									\n								\n\n									\n										Outlook 365									\n								\n\n									\n										Outlook Live
URL:https://www.gruenetexas.com/event/two-ton-tuesdays-12/
LOCATION:Gruene Hall\, 1281 Gruene Rd\, New Braunfels\, 78130
CATEGORIES:Ticketed Event
END:VEVENT
BEGIN:VEVENT
DTSTART;TZID=America/Chicago:20250603T180000
DTEND;TZID=America/Chicago:20250603T190000
DTSTAMP:20260422T030002
CREATED:20250415T004241Z
LAST-MODIFIED:20250415T004241Z
UID:10003270-1748973600-1748977200@www.gruenetexas.com
SUMMARY:Swing Dance Lessons w/ Michelle
DESCRIPTION:| 			\n			\n							 \n\n\n\n		\n\n\n\n\n\n\n						\n							Add to calendar						 \n\n\n\n									\n										Google Calendar									\n								\n\n									\n										iCalendar									\n								\n\n									\n										Outlook 365									\n								\n\n									\n										Outlook Live
URL:https://www.gruenetexas.com/event/swing-dance-lessons-w-michelle/
LOCATION:Gruene Hall\, 1281 Gruene Rd\, New Braunfels\, 78130
CATEGORIES:Ticketed Event
END:VEVENT
BEGIN:VEVENT
DTSTART;TZID=America/Chicago:20250531T210000
DTEND;TZID=America/Chicago:20250531T210000
DTSTAMP:20260422T030002
CREATED:20250210T214157Z
LAST-MODIFIED:20250210T214157Z
UID:10003044-1748725200-1748725200@www.gruenetexas.com
SUMMARY:Kody West
DESCRIPTION:| 			\n			\n							 \n\n\nOpener: Sterling Ezra | Doors: 8pm \n\n		\n\n\n\n\n\n\n						\n							Add to calendar						 \n\n\n\n									\n										Google Calendar									\n								\n\n									\n										iCalendar									\n								\n\n									\n										Outlook 365									\n								\n\n									\n										Outlook Live
URL:https://www.gruenetexas.com/event/kody-west-3/
LOCATION:Gruene Hall\, 1281 Gruene Rd\, New Braunfels\, 78130
CATEGORIES:Ticketed Event
ATTACH;FMTTYPE=image/jpeg:https://www.gruenetexas.com/wp-content/uploads/2025/02/KodyWest_Approved-2025_resized-G0piUb.tmp_.jpg
END:VEVENT
BEGIN:VEVENT
DTSTART;TZID=America/Chicago:20250530T200000
DTEND;TZID=America/Chicago:20250530T200000
DTSTAMP:20260422T030002
CREATED:20250203T212805Z
LAST-MODIFIED:20250203T212805Z
UID:10003041-1748635200-1748635200@www.gruenetexas.com
SUMMARY:Blue Water Highway: 10th Anniversary Things We Carry
DESCRIPTION:| 			\n			\n							 \n\n\nOpener: TBA | Doors: 7pm \n\n		\n\n\n\n\n\n\n						\n							Add to calendar						 \n\n\n\n									\n										Google Calendar									\n								\n\n									\n										iCalendar									\n								\n\n									\n										Outlook 365									\n								\n\n									\n										Outlook Live
URL:https://www.gruenetexas.com/event/blue-water-highway-10th-anniversary-things-we-carry/
LOCATION:Gruene Hall\, 1281 Gruene Rd\, New Braunfels\, 78130
CATEGORIES:Ticketed Event
ATTACH;FMTTYPE=image/jpeg:https://www.gruenetexas.com/wp-content/uploads/2025/02/bwh_ticket_booth-g2R0DB.tmp_.jpg
END:VEVENT
BEGIN:VEVENT
DTSTART;TZID=America/Chicago:20250529T180000
DTEND;TZID=America/Chicago:20250529T190000
DTSTAMP:20260422T030002
CREATED:20250502T011154Z
LAST-MODIFIED:20250502T011154Z
UID:10003372-1748541600-1748545200@www.gruenetexas.com
SUMMARY:Dance Lessons
DESCRIPTION:| 			\n			\n							 \n\n\n\n		\n\n\n\n\n\n\n						\n							Add to calendar						 \n\n\n\n									\n										Google Calendar									\n								\n\n									\n										iCalendar									\n								\n\n									\n										Outlook 365									\n								\n\n									\n										Outlook Live
URL:https://www.gruenetexas.com/event/dance-lessons-5/
LOCATION:Gruene Hall\, 1281 Gruene Rd\, New Braunfels\, 78130
CATEGORIES:Ticketed Event
END:VEVENT
BEGIN:VEVENT
DTSTART;TZID=America/Chicago:20250529T180000
DTEND;TZID=America/Chicago:20250529T190000
DTSTAMP:20260422T030002
CREATED:20250415T004240Z
LAST-MODIFIED:20250415T004240Z
UID:10003261-1748541600-1748545200@www.gruenetexas.com
SUMMARY:Dance Lessons
DESCRIPTION:| 			\n			\n							 \n\n\n\n		\n\n\n\n\n\n\n						\n							Add to calendar						 \n\n\n\n									\n										Google Calendar									\n								\n\n									\n										iCalendar									\n								\n\n									\n										Outlook 365									\n								\n\n									\n										Outlook Live
URL:https://www.gruenetexas.com/event/dance-lessons-4/
LOCATION:Gruene Hall\, 1281 Gruene Rd\, New Braunfels\, 78130
CATEGORIES:Ticketed Event
END:VEVENT
BEGIN:VEVENT
DTSTART;TZID=America/Chicago:20250525T200000
DTEND;TZID=America/Chicago:20250525T200000
DTSTAMP:20260422T030002
CREATED:20250217T221206Z
LAST-MODIFIED:20250217T221206Z
UID:10003051-1748203200-1748203200@www.gruenetexas.com
SUMMARY:The Derailers
DESCRIPTION:| 			\n			\n							 \n\n\nNo Opener | Doors: 7pm \n\n		\n\n\n\n\n\n\n						\n							Add to calendar						 \n\n\n\n									\n										Google Calendar									\n								\n\n									\n										iCalendar									\n								\n\n									\n										Outlook 365									\n								\n\n									\n										Outlook Live
URL:https://www.gruenetexas.com/event/the-derailers-2/
LOCATION:Gruene Hall\, 1281 Gruene Rd\, New Braunfels\, 78130
CATEGORIES:Ticketed Event
ATTACH;FMTTYPE=image/jpeg:https://www.gruenetexas.com/wp-content/uploads/2025/02/Derailers2-DdEblL.tmp_.jpg
END:VEVENT
BEGIN:VEVENT
DTSTART;TZID=America/Chicago:20250524T210000
DTEND;TZID=America/Chicago:20250524T210000
DTSTAMP:20260422T030002
CREATED:20250217T221206Z
LAST-MODIFIED:20250217T221206Z
UID:10003050-1748120400-1748120400@www.gruenetexas.com
SUMMARY:Jon Wolfe
DESCRIPTION:| 			\n			\n							 \n\n\nOpener: TBA | Doors: 8pm \n\n		\n\n\n\n\n\n\n						\n							Add to calendar						 \n\n\n\n									\n										Google Calendar									\n								\n\n									\n										iCalendar									\n								\n\n									\n										Outlook 365									\n								\n\n									\n										Outlook Live
URL:https://www.gruenetexas.com/event/jon-wolfe-3/
LOCATION:Gruene Hall\, 1281 Gruene Rd\, New Braunfels\, 78130
CATEGORIES:Ticketed Event
ATTACH;FMTTYPE=image/jpeg:https://www.gruenetexas.com/wp-content/uploads/2025/02/Jon_Wolfe___Press_11_1-V0Q3Fz.tmp_.jpg
END:VEVENT
BEGIN:VEVENT
DTSTART;TZID=America/Chicago:20250523T200000
DTEND;TZID=America/Chicago:20250523T200000
DTSTAMP:20260422T030002
CREATED:20250325T001200Z
LAST-MODIFIED:20250325T001200Z
UID:10003241-1748030400-1748030400@www.gruenetexas.com
SUMMARY:Carson Jeffrey
DESCRIPTION:| 			\n			\n							 \n\n\nOpener: Kenny Feidler | Doors: 7pm \n\n		\n\n\n\n\n\n\n						\n							Add to calendar						 \n\n\n\n									\n										Google Calendar									\n								\n\n									\n										iCalendar									\n								\n\n									\n										Outlook 365									\n								\n\n									\n										Outlook Live
URL:https://www.gruenetexas.com/event/carson-jeffrey-3/
LOCATION:Gruene Hall\, 1281 Gruene Rd\, New Braunfels\, 78130
CATEGORIES:Ticketed Event
ATTACH;FMTTYPE=image/jpeg:https://www.gruenetexas.com/wp-content/uploads/2025/03/carson_jeffrey-HXe8Sh.tmp_.jpg
END:VEVENT
BEGIN:VEVENT
DTSTART;TZID=America/Chicago:20250518T190000
DTEND;TZID=America/Chicago:20250518T190000
DTSTAMP:20260422T030002
CREATED:20250401T002655Z
LAST-MODIFIED:20250401T002655Z
UID:10003247-1747594800-1747594800@www.gruenetexas.com
SUMMARY:Robert Earl Keen
DESCRIPTION:| 			\n			\n							 \n\n\nOpener: Adam Wright | Doors 6pm \n\n		\n\n\n\n\n\n\n						\n							Add to calendar						 \n\n\n\n									\n										Google Calendar									\n								\n\n									\n										iCalendar									\n								\n\n									\n										Outlook 365									\n								\n\n									\n										Outlook Live
URL:https://www.gruenetexas.com/event/robert-earl-keen-3/
LOCATION:Gruene Hall\, 1281 Gruene Rd\, New Braunfels\, 78130
CATEGORIES:Ticketed Event
ATTACH;FMTTYPE=image/jpeg:https://www.gruenetexas.com/wp-content/uploads/2025/03/RobertEarlKeen-photo-2025-EG200643_resized-zuVGAv.tmp_.jpg
END:VEVENT
BEGIN:VEVENT
DTSTART;TZID=America/Chicago:20250517T210000
DTEND;TZID=America/Chicago:20250517T210000
DTSTAMP:20260422T030002
CREATED:20250310T225708Z
LAST-MODIFIED:20250310T225708Z
UID:10003180-1747515600-1747515600@www.gruenetexas.com
SUMMARY:Robert Earl Keen
DESCRIPTION:| 			\n			\n							 \n\n\nOpener: TBA | Doors: 8pm \n\n		\n\n\n\n\n\n\n						\n							Add to calendar						 \n\n\n\n									\n										Google Calendar									\n								\n\n									\n										iCalendar									\n								\n\n									\n										Outlook 365									\n								\n\n									\n										Outlook Live
URL:https://www.gruenetexas.com/event/robert-earl-keen-2/
LOCATION:Gruene Hall\, 1281 Gruene Rd\, New Braunfels\, 78130
CATEGORIES:Ticketed Event
ATTACH;FMTTYPE=image/jpeg:https://www.gruenetexas.com/wp-content/uploads/2025/03/RobertEarlKeen-photo-2025-EG200643_resized-zuVGAv.tmp_.jpg
END:VEVENT
BEGIN:VEVENT
DTSTART;TZID=America/Chicago:20250516T200000
DTEND;TZID=America/Chicago:20250516T200000
DTSTAMP:20260422T030002
CREATED:20250303T224238Z
LAST-MODIFIED:20250303T224238Z
UID:10003131-1747425600-1747425600@www.gruenetexas.com
SUMMARY:Old 97’s
DESCRIPTION:| 			\n			\n							 \n\n\nOpener: TBA | Doors: 7pm \n\n		\n\n\n\n\n\n\n						\n							Add to calendar						 \n\n\n\n									\n										Google Calendar									\n								\n\n									\n										iCalendar									\n								\n\n									\n										Outlook 365									\n								\n\n									\n										Outlook Live
URL:https://www.gruenetexas.com/event/old-97s/
LOCATION:Gruene Hall\, 1281 Gruene Rd\, New Braunfels\, 78130
CATEGORIES:Ticketed Event
ATTACH;FMTTYPE=image/jpeg:https://www.gruenetexas.com/wp-content/uploads/2025/03/Old97s2025-wJC0ai.tmp_.jpg
END:VEVENT
BEGIN:VEVENT
DTSTART;TZID=America/Chicago:20250515T200000
DTEND;TZID=America/Chicago:20250515T200000
DTSTAMP:20260422T030002
CREATED:20250310T225708Z
LAST-MODIFIED:20250310T225708Z
UID:10003179-1747339200-1747339200@www.gruenetexas.com
SUMMARY:Josh Turner: This Country Music Thing Tour
DESCRIPTION:| 			\n			\n							 \n\n\nOpener: TBA | Doors: 7pm \n\n		\n\n\n\n\n\n\n						\n							Add to calendar						 \n\n\n\n									\n										Google Calendar									\n								\n\n									\n										iCalendar									\n								\n\n									\n										Outlook 365									\n								\n\n									\n										Outlook Live
URL:https://www.gruenetexas.com/event/josh-turner-this-country-music-thing-tour/
LOCATION:Gruene Hall\, 1281 Gruene Rd\, New Braunfels\, 78130
CATEGORIES:Ticketed Event
ATTACH;FMTTYPE=image/jpeg:https://www.gruenetexas.com/wp-content/uploads/2025/03/josh_photo-DoZoy5.tmp_.jpg
END:VEVENT
BEGIN:VEVENT
DTSTART;TZID=America/Chicago:20250510T210000
DTEND;TZID=America/Chicago:20250510T210000
DTSTAMP:20260422T030002
CREATED:20241209T195706Z
LAST-MODIFIED:20241209T195706Z
UID:10002864-1746910800-1746910800@www.gruenetexas.com
SUMMARY:The SteelDrivers
DESCRIPTION:| 			\n			\n							 \n\n\nOpener: TBA | Doors: 8pm \n\n		\n\n\n\n\n\n\n						\n							Add to calendar						 \n\n\n\n									\n										Google Calendar									\n								\n\n									\n										iCalendar									\n								\n\n									\n										Outlook 365									\n								\n\n									\n										Outlook Live
URL:https://www.gruenetexas.com/event/the-steeldrivers/
LOCATION:Gruene Hall\, 1281 Gruene Rd\, New Braunfels\, 78130
CATEGORIES:Ticketed Event
ATTACH;FMTTYPE=image/jpeg:https://www.gruenetexas.com/wp-content/uploads/2024/12/Cropped_edited2-ZAXEu5.tmp_.jpg
END:VEVENT
BEGIN:VEVENT
DTSTART;TZID=America/Chicago:20250509T200000
DTEND;TZID=America/Chicago:20250509T200000
DTSTAMP:20260422T030002
CREATED:20250303T224237Z
LAST-MODIFIED:20250303T224237Z
UID:10003130-1746820800-1746820800@www.gruenetexas.com
SUMMARY:Cody Canada & The Departed
DESCRIPTION:| 			\n			\n							 \n\n\nOpener: Waves in April | Doors: 7pm \n\n		\n\n\n\n\n\n\n						\n							Add to calendar						 \n\n\n\n									\n										Google Calendar									\n								\n\n									\n										iCalendar									\n								\n\n									\n										Outlook 365									\n								\n\n									\n										Outlook Live
URL:https://www.gruenetexas.com/event/cody-canada-the-departed-3/
LOCATION:Gruene Hall\, 1281 Gruene Rd\, New Braunfels\, 78130
CATEGORIES:Ticketed Event
ATTACH;FMTTYPE=image/jpeg:https://www.gruenetexas.com/wp-content/uploads/2025/03/CodyCanada_TheDeparted_resized-16Wt6D.tmp_.jpg
END:VEVENT
BEGIN:VEVENT
DTSTART;TZID=America/Chicago:20250503T210000
DTEND;TZID=America/Chicago:20250503T210000
DTSTAMP:20260422T030002
CREATED:20250203T212805Z
LAST-MODIFIED:20250203T212805Z
UID:10003040-1746306000-1746306000@www.gruenetexas.com
SUMMARY:The Band of Heathens
DESCRIPTION:| 			\n			\n							 \n\n\nOpener: TBA | Doors: 8pm \n\n		\n\n\n\n\n\n\n						\n							Add to calendar						 \n\n\n\n									\n										Google Calendar									\n								\n\n									\n										iCalendar									\n								\n\n									\n										Outlook 365									\n								\n\n									\n										Outlook Live
URL:https://www.gruenetexas.com/event/the-band-of-heathens-4/
LOCATION:Gruene Hall\, 1281 Gruene Rd\, New Braunfels\, 78130
CATEGORIES:Ticketed Event
ATTACH;FMTTYPE=image/jpeg:https://www.gruenetexas.com/wp-content/uploads/2025/02/DSC01576-2-g7Mm75.tmp_.jpg
END:VEVENT
BEGIN:VEVENT
DTSTART;TZID=America/Chicago:20250502T200000
DTEND;TZID=America/Chicago:20250502T200000
DTSTAMP:20260422T030002
CREATED:20250203T212805Z
LAST-MODIFIED:20250203T212805Z
UID:10003039-1746216000-1746216000@www.gruenetexas.com
SUMMARY:The Band of Heathens
DESCRIPTION:| 			\n			\n							 \n\n\nOpener: TBA | Doors: 7pm \n\n		\n\n\n\n\n\n\n						\n							Add to calendar						 \n\n\n\n									\n										Google Calendar									\n								\n\n									\n										iCalendar									\n								\n\n									\n										Outlook 365									\n								\n\n									\n										Outlook Live
URL:https://www.gruenetexas.com/event/the-band-of-heathens-3/
LOCATION:Gruene Hall\, 1281 Gruene Rd\, New Braunfels\, 78130
CATEGORIES:Ticketed Event
ATTACH;FMTTYPE=image/jpeg:https://www.gruenetexas.com/wp-content/uploads/2025/02/DSC01576-2-g7Mm75.tmp_.jpg
END:VEVENT
BEGIN:VEVENT
DTSTART;TZID=America/Chicago:20250426T210000
DTEND;TZID=America/Chicago:20250426T210000
DTSTAMP:20260422T030002
CREATED:20250217T221206Z
LAST-MODIFIED:20250217T221206Z
UID:10003049-1745701200-1745701200@www.gruenetexas.com
SUMMARY:Jacob Stelly
DESCRIPTION:| 			\n			\n							 \n\n\nOpener: TBA | Doors: 8pm \n\n		\n\n\n\n\n\n\n						\n							Add to calendar						 \n\n\n\n									\n										Google Calendar									\n								\n\n									\n										iCalendar									\n								\n\n									\n										Outlook 365									\n								\n\n									\n										Outlook Live
URL:https://www.gruenetexas.com/event/jacob-stelly-2/
LOCATION:Gruene Hall\, 1281 Gruene Rd\, New Braunfels\, 78130
CATEGORIES:Ticketed Event
ATTACH;FMTTYPE=image/jpeg:https://www.gruenetexas.com/wp-content/uploads/2025/02/jacob-stelly-FN7kF4.tmp_.jpg
END:VEVENT
BEGIN:VEVENT
DTSTART;TZID=America/Chicago:20250425T200000
DTEND;TZID=America/Chicago:20250425T200000
DTSTAMP:20260422T030002
CREATED:20250113T205700Z
LAST-MODIFIED:20250113T205700Z
UID:10002979-1745611200-1745611200@www.gruenetexas.com
SUMMARY:Joshua Ray Walker
DESCRIPTION:| 			\n			\n							 \n\n\nOpener: TBA | Doors: 7pm \n\n		\n\n\n\n\n\n\n						\n							Add to calendar						 \n\n\n\n									\n										Google Calendar									\n								\n\n									\n										iCalendar									\n								\n\n									\n										Outlook 365									\n								\n\n									\n										Outlook Live
URL:https://www.gruenetexas.com/event/joshua-ray-walker-2/
LOCATION:Gruene Hall\, 1281 Gruene Rd\, New Braunfels\, 78130
CATEGORIES:Ticketed Event
ATTACH;FMTTYPE=image/jpeg:https://www.gruenetexas.com/wp-content/uploads/2025/01/20230718-JoshWalker_ModernElectric_120_BW-113_CASEY_KINNEY_resized-NX3UBw.tmp_.jpg
END:VEVENT
END:VCALENDAR