BEGIN:VCALENDAR
VERSION:2.0
PRODID:-//Gruene - ECPv6.15.11//NONSGML v1.0//EN
CALSCALE:GREGORIAN
METHOD:PUBLISH
X-WR-CALNAME:Gruene
X-ORIGINAL-URL:https://www.gruenetexas.com
X-WR-CALDESC:Events for Gruene
REFRESH-INTERVAL;VALUE=DURATION:PT1H
X-Robots-Tag:noindex
X-PUBLISHED-TTL:PT1H
BEGIN:VTIMEZONE
TZID:America/Chicago
BEGIN:DAYLIGHT
TZOFFSETFROM:-0600
TZOFFSETTO:-0500
TZNAME:CDT
DTSTART:20240310T080000
END:DAYLIGHT
BEGIN:STANDARD
TZOFFSETFROM:-0500
TZOFFSETTO:-0600
TZNAME:CST
DTSTART:20241103T070000
END:STANDARD
BEGIN:DAYLIGHT
TZOFFSETFROM:-0600
TZOFFSETTO:-0500
TZNAME:CDT
DTSTART:20250309T080000
END:DAYLIGHT
BEGIN:STANDARD
TZOFFSETFROM:-0500
TZOFFSETTO:-0600
TZNAME:CST
DTSTART:20251102T070000
END:STANDARD
BEGIN:DAYLIGHT
TZOFFSETFROM:-0600
TZOFFSETTO:-0500
TZNAME:CDT
DTSTART:20260308T080000
END:DAYLIGHT
BEGIN:STANDARD
TZOFFSETFROM:-0500
TZOFFSETTO:-0600
TZNAME:CST
DTSTART:20261101T070000
END:STANDARD
END:VTIMEZONE
BEGIN:VEVENT
DTSTART;TZID=America/Chicago:20251101T210000
DTEND;TZID=America/Chicago:20251101T210000
DTSTAMP:20260421T223607
CREATED:20250811T173012Z
LAST-MODIFIED:20251101T211459Z
UID:10003791-1762030800-1762030800@www.gruenetexas.com
SUMMARY:Mike Ryan
DESCRIPTION:| 			\n			\n							 \n\n\nOpener: Matt Daniel | Doors: 8pm \n\n		\n\n\n\n\n\n\n						\n							Add to calendar						 \n\n\n\n									\n										Google Calendar									\n								\n\n									\n										iCalendar									\n								\n\n									\n										Outlook 365									\n								\n\n									\n										Outlook Live
URL:https://www.gruenetexas.com/event/mike-ryan-3/
LOCATION:Gruene Hall\, 1281 Gruene Rd\, New Braunfels\, 78130
CATEGORIES:Ticketed Event
ATTACH;FMTTYPE=image/jpeg:https://www.gruenetexas.com/wp-content/uploads/2025/08/mike-ryan-thundertix-WxfXsg.jpg
END:VEVENT
BEGIN:VEVENT
DTSTART;TZID=America/Chicago:20251031T200000
DTEND;TZID=America/Chicago:20251031T200000
DTSTAMP:20260421T223607
CREATED:20250811T173011Z
LAST-MODIFIED:20251031T211456Z
UID:10003790-1761940800-1761940800@www.gruenetexas.com
SUMMARY:Tejas Brothers: Dia de los Muertos
DESCRIPTION:| 			\n			\n							 \n\n\nOpener: TBA | Doors: 7pm
URL:https://www.gruenetexas.com/event/tejas-brothers-dia-de-los-muertos/
LOCATION:Gruene Hall\, 1281 Gruene Rd\, New Braunfels\, 78130
CATEGORIES:Special Event,Ticketed Event
ATTACH;FMTTYPE=image/jpeg:https://www.gruenetexas.com/wp-content/uploads/2025/08/Dave-Dia-de-Accordion-2-crop-copy_2025_resized-scaled-tiv5gn.jpg
END:VEVENT
BEGIN:VEVENT
DTSTART;TZID=America/Chicago:20251025T210000
DTEND;TZID=America/Chicago:20251025T210000
DTSTAMP:20260421T223607
CREATED:20250723T043004Z
LAST-MODIFIED:20251025T205957Z
UID:10003621-1761426000-1761426000@www.gruenetexas.com
SUMMARY:The Lowdown Drifters & Adam Hood
DESCRIPTION:| 			\n			\n							 \n\n\nDoors: 8pm \n\n		\n\n\n\n\n\n\n						\n							Add to calendar						 \n\n\n\n									\n										Google Calendar									\n								\n\n									\n										iCalendar									\n								\n\n									\n										Outlook 365									\n								\n\n									\n										Outlook Live
URL:https://www.gruenetexas.com/event/the-lowdown-drifters-adam-hood/
LOCATION:Gruene Hall\, 1281 Gruene Rd\, New Braunfels\, 78130
CATEGORIES:Ticketed Event
ATTACH;FMTTYPE=image/jpeg:https://www.gruenetexas.com/wp-content/uploads/2025/07/lowdown-thundertix-1-7v6kKq.jpg
END:VEVENT
BEGIN:VEVENT
DTSTART;TZID=America/Chicago:20251024T200000
DTEND;TZID=America/Chicago:20251024T200000
DTSTAMP:20260421T223607
CREATED:20250723T043004Z
LAST-MODIFIED:20251024T204458Z
UID:10003620-1761336000-1761336000@www.gruenetexas.com
SUMMARY:Sean McConnell
DESCRIPTION:| 			\n			\n							 \n\n\nwith special guest JOE STARK | Doors: 7pm \n\n		\n\n\n\n\n\n\n						\n							Add to calendar						 \n\n\n\n									\n										Google Calendar									\n								\n\n									\n										iCalendar									\n								\n\n									\n										Outlook 365									\n								\n\n									\n										Outlook Live
URL:https://www.gruenetexas.com/event/sean-mcconnell-5/
LOCATION:Gruene Hall\, 1281 Gruene Rd\, New Braunfels\, 78130
CATEGORIES:Ticketed Event
ATTACH;FMTTYPE=image/jpeg:https://www.gruenetexas.com/wp-content/uploads/2025/07/Copy-of-SM12-main_resized2-scaled-qWFAn8.jpg
END:VEVENT
BEGIN:VEVENT
DTSTART;TZID=America/Chicago:20251018T210000
DTEND;TZID=America/Chicago:20251018T210000
DTSTAMP:20260421T223607
CREATED:20250624T034159Z
LAST-MODIFIED:20251018T204509Z
UID:10003523-1760821200-1760821200@www.gruenetexas.com
SUMMARY:The Damn Quails w/ special guest The Smokin’ Oaks
DESCRIPTION:| 			\n			\n							 \n\n\nDoors: 8 pm | The Smokin’ Oaks 9 pm \n\n		\n\n\n\n\n\n\n						\n							Add to calendar						 \n\n\n\n									\n										Google Calendar									\n								\n\n									\n										iCalendar									\n								\n\n									\n										Outlook 365									\n								\n\n									\n										Outlook Live
URL:https://www.gruenetexas.com/event/the-damn-quails-w-special-guest-the-smokin-oaks/
LOCATION:Gruene Hall\, 1281 Gruene Rd\, New Braunfels\, 78130
CATEGORIES:Ticketed Event
ATTACH;FMTTYPE=image/jpeg:https://www.gruenetexas.com/wp-content/uploads/2025/09/Picture2_2025_thundertix-3a2rYu.jpg
END:VEVENT
BEGIN:VEVENT
DTSTART;TZID=America/Chicago:20251017T200000
DTEND;TZID=America/Chicago:20251017T200000
DTSTAMP:20260421T223607
CREATED:20250624T034159Z
LAST-MODIFIED:20251017T204452Z
UID:10003522-1760731200-1760731200@www.gruenetexas.com
SUMMARY:Bleu Edmondson & John Baumann
DESCRIPTION:| 			\n			\n							 \n\n\nDoors: 7 pm \n\n		\n\n\n\n\n\n\n						\n							Add to calendar						 \n\n\n\n									\n										Google Calendar									\n								\n\n									\n										iCalendar									\n								\n\n									\n										Outlook 365									\n								\n\n									\n										Outlook Live
URL:https://www.gruenetexas.com/event/bleu-edmondson-john-baumann/
LOCATION:Gruene Hall\, 1281 Gruene Rd\, New Braunfels\, 78130
CATEGORIES:Ticketed Event
ATTACH;FMTTYPE=image/jpeg:https://www.gruenetexas.com/wp-content/uploads/2025/06/bleu_john_thundertix-1n1TrS.jpg
END:VEVENT
BEGIN:VEVENT
DTSTART;TZID=America/Chicago:20251012T140000
DTEND;TZID=America/Chicago:20251012T190000
DTSTAMP:20260421T223607
CREATED:20250805T125723Z
LAST-MODIFIED:20250805T153815Z
UID:10003750-1760277600-1760295600@www.gruenetexas.com
SUMMARY:39th Annual Gruene Music & Wine Festival: Cody Canada's Sunday All-Star Playlist
DESCRIPTION:Jam to a lineup full of the best Americana and country artists! Browse a pop-up market and enjoy savory festival food from Gristmill River Restaurant. \nhttps://gruenehall.thundertix.com/events/251203
URL:https://www.gruenetexas.com/event/39th-annual-gruene-music-wine-festival-cody-canadas-sunday-all-star-playlist/
CATEGORIES:Ticketed Event
END:VEVENT
BEGIN:VEVENT
DTSTART;TZID=America/Chicago:20251012T140000
DTEND;TZID=America/Chicago:20251012T190000
DTSTAMP:20260421T223607
CREATED:20250729T044511Z
LAST-MODIFIED:20251012T202957Z
UID:10003635-1760277600-1760295600@www.gruenetexas.com
SUMMARY:Cody Canada’s Sunday All-Star Playlist
DESCRIPTION:| 			\n			\n							 \n\n\nDoors: 1pm | Featuring: Cody Canada\, Justin Furstenfeld (of Blue October) William Clark Green\, Jamie Lin Wilson\, Mike McClure\, Shelby Stone\, Dalton Domino\, Graycie Yorke\, Drew Cooper\, Jordan Nix\, Mila Rae \n\n		\n\n\n\n\n\n\n						\n							Add to calendar						 \n\n\n\n									\n										Google Calendar									\n								\n\n									\n										iCalendar									\n								\n\n									\n										Outlook 365									\n								\n\n									\n										Outlook Live
URL:https://www.gruenetexas.com/event/cody-canadas-sunday-all-star-playlist/
LOCATION:Gruene Hall\, 1281 Gruene Rd\, New Braunfels\, 78130
CATEGORIES:Ticketed Event
ATTACH;FMTTYPE=image/jpeg:https://www.gruenetexas.com/wp-content/uploads/2025/07/GMWF_SS_WCG-01-scaled-m71IrO.jpg
END:VEVENT
BEGIN:VEVENT
DTSTART;TZID=America/Chicago:20251011T210000
DTEND;TZID=America/Chicago:20251011T210000
DTSTAMP:20260421T223607
CREATED:20250729T044510Z
LAST-MODIFIED:20251011T202957Z
UID:10003634-1760216400-1760216400@www.gruenetexas.com
SUMMARY:Chaparelle
DESCRIPTION:| 			\n			\n							 \n\n\nOpener: Cactus Lee | Doors: 8 pm \n\n		\n\n\n\n\n\n\n						\n							Add to calendar						 \n\n\n\n									\n										Google Calendar									\n								\n\n									\n										iCalendar									\n								\n\n									\n										Outlook 365									\n								\n\n									\n										Outlook Live
URL:https://www.gruenetexas.com/event/chaparelle/
LOCATION:Gruene Hall\, 1281 Gruene Rd\, New Braunfels\, 78130
CATEGORIES:Ticketed Event
ATTACH;FMTTYPE=image/webp:https://www.gruenetexas.com/wp-content/uploads/2025/08/CSjpeg_resized-2025-scaled-JSjWrS.webp
END:VEVENT
BEGIN:VEVENT
DTSTART;TZID=America/Chicago:20251011T120000
DTEND;TZID=America/Chicago:20251011T180000
DTSTAMP:20260421T223607
CREATED:20250805T125723Z
LAST-MODIFIED:20250805T153818Z
UID:10003749-1760184000-1760205600@www.gruenetexas.com
SUMMARY:39th Annual Gruene Music & Wine Festival: Tastings & Tunes
DESCRIPTION:Join us for this popular event in The Grapevine Garden! Enjoy live music alongside six Texas wineries and six Texas breweries. Admission is free to the public and tasting tickets will be available for purchase along with the featured wines and beers. All proceeds benefit United Way of Comal County. \nhttps://gruenehall.thundertix.com/events/250683
URL:https://www.gruenetexas.com/event/39th-annual-gruene-music-wine-festival-tastings-tunes/
CATEGORIES:Ticketed Event
END:VEVENT
BEGIN:VEVENT
DTSTART;TZID=America/Chicago:20251010T210000
DTEND;TZID=America/Chicago:20251010T210000
DTSTAMP:20260421T223607
CREATED:20250729T044509Z
LAST-MODIFIED:20251010T203004Z
UID:10003632-1760130000-1760130000@www.gruenetexas.com
SUMMARY:Josh Abbott Band
DESCRIPTION:| 			\n			\n							 \n\n\nDoors: 7pm \n\n		\n\n\n\n\n\n\n						\n							Add to calendar						 \n\n\n\n									\n										Google Calendar									\n								\n\n									\n										iCalendar									\n								\n\n									\n										Outlook 365									\n								\n\n									\n										Outlook Live
URL:https://www.gruenetexas.com/event/josh-abbott-band-3/
LOCATION:Gruene Hall\, 1281 Gruene Rd\, New Braunfels\, 78130
CATEGORIES:Ticketed Event
ATTACH;FMTTYPE=image/webp:https://www.gruenetexas.com/wp-content/uploads/2025/08/JAB_GMWF-1Ty8Cp.webp
END:VEVENT
BEGIN:VEVENT
DTSTART;TZID=America/Chicago:20251010T170000
DTEND;TZID=America/Chicago:20251010T203000
DTSTAMP:20260421T223607
CREATED:20250805T125723Z
LAST-MODIFIED:20250805T153821Z
UID:10003748-1760115600-1760128200@www.gruenetexas.com
SUMMARY:39th Annual Gruene Music & Wine Festival: Stars & Guitars
DESCRIPTION:Benefiting United Way of Comal County and presented by Gruene Hall and KNBT 92.1FM Radio New Braunfels\, this annual event features a dinner catered by Gristmill River Restaurant\, wine tasting\, a private performance by a Gruene Hall favorite and The Great Guitar Auction featuring guitars signed by some of the best artists to headline the historic stage. Event is 21 and up. \nhttps://gruenehall.thundertix.com/events/250532
URL:https://www.gruenetexas.com/event/39th-annual-gruene-music-wine-festival-stars-guitars/
CATEGORIES:Ticketed Event
END:VEVENT
BEGIN:VEVENT
DTSTART;TZID=America/Chicago:20251010T170000
DTEND;TZID=America/Chicago:20251010T203000
DTSTAMP:20260421T223607
CREATED:20250729T044510Z
LAST-MODIFIED:20251010T203003Z
UID:10003633-1760115600-1760128200@www.gruenetexas.com
SUMMARY:Stars & Guitars with Josh Abbott Band
DESCRIPTION:| 			\n			\n							 \n\n\nDoors: 5pm | EXTREMELY Limited Availability \n\n				Table Pricing\n	\n\n\n\n\n\n\n						\n							Add to calendar						 \n\n\n\n									\n										Google Calendar									\n								\n\n									\n										iCalendar									\n								\n\n									\n										Outlook 365									\n								\n\n									\n										Outlook Live
URL:https://www.gruenetexas.com/event/stars-guitars-with-josh-abbott-band/
LOCATION:Gruene Hall\, 1281 Gruene Rd\, New Braunfels\, 78130
CATEGORIES:Ticketed Event
ATTACH;FMTTYPE=image/jpeg:https://www.gruenetexas.com/wp-content/uploads/2025/08/JAB_GMWF_FRI-dwIRqh.jpg
END:VEVENT
BEGIN:VEVENT
DTSTART;TZID=America/Chicago:20251009T200000
DTEND;TZID=America/Chicago:20251009T200000
DTSTAMP:20260421T223607
CREATED:20250729T044509Z
LAST-MODIFIED:20251009T203008Z
UID:10003631-1760040000-1760040000@www.gruenetexas.com
SUMMARY:Jamey Johnson: The Last Honky Tonk Tour
DESCRIPTION:| 			\n			\n							 \n\n\nOpener: The Bennett Hall Band | Doors: 7pm \n\n		\n\n\n\n\n\n\n						\n							Add to calendar						 \n\n\n\n									\n										Google Calendar									\n								\n\n									\n										iCalendar									\n								\n\n									\n										Outlook 365									\n								\n\n									\n										Outlook Live
URL:https://www.gruenetexas.com/event/jamey-johnson-the-last-honky-tonk-tour-2/
LOCATION:Gruene Hall\, 1281 Gruene Rd\, New Braunfels\, 78130
CATEGORIES:Ticketed Event
ATTACH;FMTTYPE=image/jpeg:https://www.gruenetexas.com/wp-content/uploads/2025/07/Main_Press_Photo.credit.DavidMcClister_resized3-6eFgP5.jpg
END:VEVENT
BEGIN:VEVENT
DTSTART;TZID=America/Chicago:20251009T170000
DTEND;TZID=America/Chicago:20251009T200000
DTSTAMP:20260421T223607
CREATED:20250805T125723Z
LAST-MODIFIED:20250805T153824Z
UID:10003747-1760029200-1760040000@www.gruenetexas.com
SUMMARY:39th Annual Gruene Music & Wine Festival: Kickoff Party
DESCRIPTION:Kick off Gruene Music & Wine Fest weekend at The Grapevine in Gruene Historic District with live music and tastings from up to four Texas wineries and four Texas craft breweries. Admission is free to the public and tasting tickets will be available for purchase along with the featured wines and beers. All proceeds benefit United Way of Comal County. \nhttps://gruenehall.thundertix.com/events/250683
URL:https://www.gruenetexas.com/event/39th-annual-gruene-music-wine-festival-kickoff-party/
CATEGORIES:Ticketed Event
END:VEVENT
BEGIN:VEVENT
DTSTART;TZID=America/Chicago:20251008T200000
DTEND;TZID=America/Chicago:20251008T200000
DTSTAMP:20260421T223607
CREATED:20250729T044509Z
LAST-MODIFIED:20251008T202953Z
UID:10003630-1759953600-1759953600@www.gruenetexas.com
SUMMARY:Jamey Johnson: The Last Honky Tonk Tour
DESCRIPTION:| 			\n			\n							 \n\n\nOpener: The Bennett Hall Band | Doors: 7pm \n\n		\n\n\n\n\n\n\n						\n							Add to calendar						 \n\n\n\n									\n										Google Calendar									\n								\n\n									\n										iCalendar									\n								\n\n									\n										Outlook 365									\n								\n\n									\n										Outlook Live
URL:https://www.gruenetexas.com/event/jamey-johnson-the-last-honky-tonk-tour/
LOCATION:Gruene Hall\, 1281 Gruene Rd\, New Braunfels\, 78130
CATEGORIES:Ticketed Event
ATTACH;FMTTYPE=image/jpeg:https://www.gruenetexas.com/wp-content/uploads/2025/07/Main_Press_Photo.credit.DavidMcClister_resized3-6eFgP5.jpg
END:VEVENT
BEGIN:VEVENT
DTSTART;TZID=America/Chicago:20251004T210000
DTEND;TZID=America/Chicago:20251004T210000
DTSTAMP:20260421T223607
CREATED:20250617T031207Z
LAST-MODIFIED:20251004T202959Z
UID:10003520-1759611600-1759611600@www.gruenetexas.com
SUMMARY:Tab Benoit: I Hear Thunder Tour
DESCRIPTION:| 			\n			\n							 \n\n\nOpener: TBA | Doors: 8 pm \n\n		\n\n\n\n\n\n\n						\n							Add to calendar						 \n\n\n\n									\n										Google Calendar									\n								\n\n									\n										iCalendar									\n								\n\n									\n										Outlook 365									\n								\n\n									\n										Outlook Live
URL:https://www.gruenetexas.com/event/tab-benoit-i-hear-thunder-tour/
LOCATION:Gruene Hall\, 1281 Gruene Rd\, New Braunfels\, 78130
CATEGORIES:Ticketed Event
ATTACH;FMTTYPE=image/jpeg:https://www.gruenetexas.com/wp-content/uploads/2025/06/tab-benoit-thundertix-aoI08l.jpg
END:VEVENT
BEGIN:VEVENT
DTSTART;TZID=America/Chicago:20251003T200000
DTEND;TZID=America/Chicago:20251003T200000
DTSTAMP:20260421T223607
CREATED:20250617T031207Z
LAST-MODIFIED:20251003T203006Z
UID:10003519-1759521600-1759521600@www.gruenetexas.com
SUMMARY:Max Stalling
DESCRIPTION:| 			\n			\n							 \n\n\nOpener: TBA | Doors: 7 pm \n\n		\n\n\n\n\n\n\n						\n							Add to calendar						 \n\n\n\n									\n										Google Calendar									\n								\n\n									\n										iCalendar									\n								\n\n									\n										Outlook 365									\n								\n\n									\n										Outlook Live
URL:https://www.gruenetexas.com/event/max-stalling-4/
LOCATION:Gruene Hall\, 1281 Gruene Rd\, New Braunfels\, 78130
CATEGORIES:Ticketed Event
ATTACH;FMTTYPE=image/jpeg:https://www.gruenetexas.com/wp-content/uploads/2025/06/max-thundertix-hbiUAo.jpg
END:VEVENT
BEGIN:VEVENT
DTSTART;TZID=America/Chicago:20250927T200000
DTEND;TZID=America/Chicago:20250927T200000
DTSTAMP:20260421T223607
CREATED:20250610T025720Z
LAST-MODIFIED:20250927T202958Z
UID:10003516-1759003200-1759003200@www.gruenetexas.com
SUMMARY:Kelly Willis w/ special guest Dallas Burrow
DESCRIPTION:| 			\n			\n							 \n\n\nSpecial Guest: Dallas Burrow | Doors: 7pm \n\n		\n\n\n\n\n\n\n						\n							Add to calendar						 \n\n\n\n									\n										Google Calendar									\n								\n\n									\n										iCalendar									\n								\n\n									\n										Outlook 365									\n								\n\n									\n										Outlook Live
URL:https://www.gruenetexas.com/event/kelly-willis-w-special-guest-dallas-burrow/
LOCATION:Gruene Hall\, 1281 Gruene Rd\, New Braunfels\, 78130
CATEGORIES:Ticketed Event
ATTACH;FMTTYPE=image/jpeg:https://www.gruenetexas.com/wp-content/uploads/2025/06/kelly_thundertix-Eu3zDz.jpg
END:VEVENT
BEGIN:VEVENT
DTSTART;TZID=America/Chicago:20250926T200000
DTEND;TZID=America/Chicago:20250926T200000
DTSTAMP:20260421T223607
CREATED:20250610T025720Z
LAST-MODIFIED:20250926T202954Z
UID:10003515-1758916800-1758916800@www.gruenetexas.com
SUMMARY:Jackson Wendell
DESCRIPTION:| 			\n			\n							 \n\n\nOpener: TBA | Doors: 7pm \n\n		\n\n\n\n\n\n\n						\n							Add to calendar						 \n\n\n\n									\n										Google Calendar									\n								\n\n									\n										iCalendar									\n								\n\n									\n										Outlook 365									\n								\n\n									\n										Outlook Live
URL:https://www.gruenetexas.com/event/jackson-wendell/
LOCATION:Gruene Hall\, 1281 Gruene Rd\, New Braunfels\, 78130
CATEGORIES:Ticketed Event
ATTACH;FMTTYPE=image/jpeg:https://www.gruenetexas.com/wp-content/uploads/2025/06/jackson_thundertix-ZFxvs1.jpg
END:VEVENT
BEGIN:VEVENT
DTSTART;TZID=America/Chicago:20250925T200000
DTEND;TZID=America/Chicago:20250925T200000
DTSTAMP:20260421T223607
CREATED:20250422T005737Z
LAST-MODIFIED:20250925T203000Z
UID:10003355-1758830400-1758830400@www.gruenetexas.com
SUMMARY:Billy Bob Thornton & The Boxmasters: Pepper Tree Hill Tour
DESCRIPTION:| 			\n			\n							 \n\n\nOpener: Fran Moran & The Nervous Wrecks | Doors: 7pm \n\n		\n\n\n\n\n\n\n						\n							Add to calendar						 \n\n\n\n									\n										Google Calendar									\n								\n\n									\n										iCalendar									\n								\n\n									\n										Outlook 365									\n								\n\n									\n										Outlook Live
URL:https://www.gruenetexas.com/event/billy-bob-thornton-the-boxmasters-pepper-tree-hill-tour/
LOCATION:Gruene Hall\, 1281 Gruene Rd\, New Braunfels\, 78130
CATEGORIES:Ticketed Event
ATTACH;FMTTYPE=image/jpeg:https://www.gruenetexas.com/wp-content/uploads/2025/08/billy-bob-sold-out-mJhPc2.jpg
END:VEVENT
BEGIN:VEVENT
DTSTART;TZID=America/Chicago:20250925T090000
DTEND;TZID=America/Chicago:20250925T090000
DTSTAMP:20260421T223607
CREATED:20250815T180009Z
LAST-MODIFIED:20250925T202959Z
UID:10003792-1758790800-1758790800@www.gruenetexas.com
SUMMARY:United Way Speaker Series: Billy Bob Thornton & The Boxmasters
DESCRIPTION:| 			\n			\n							 \n\n\nDoors & Buffet: 9am \n\n		\n\n\n\n\n\n\n						\n							Add to calendar						 \n\n\n\n									\n										Google Calendar									\n								\n\n									\n										iCalendar									\n								\n\n									\n										Outlook 365									\n								\n\n									\n										Outlook Live
URL:https://www.gruenetexas.com/event/united-way-speaker-series-billy-bob-thornton-the-boxmasters/
LOCATION:Gruene Hall\, 1281 Gruene Rd\, New Braunfels\, 78130
CATEGORIES:Ticketed Event
ATTACH;FMTTYPE=image/jpeg:https://www.gruenetexas.com/wp-content/uploads/2025/08/billy_bob_thornton_UW-2c1Rdx.jpg
END:VEVENT
BEGIN:VEVENT
DTSTART;TZID=America/Chicago:20250920T210000
DTEND;TZID=America/Chicago:20250920T210000
DTSTAMP:20260421T223607
CREATED:20250807T173015Z
LAST-MODIFIED:20250920T202958Z
UID:10003787-1758402000-1758402000@www.gruenetexas.com
SUMMARY:Scotty Alexander
DESCRIPTION:| 			\n			\n							 \n\n\nDoors: 8 pm \n\n		\n\n\n\n\n\n\n						\n							Add to calendar						 \n\n\n\n									\n										Google Calendar									\n								\n\n									\n										iCalendar									\n								\n\n									\n										Outlook 365									\n								\n\n									\n										Outlook Live
URL:https://www.gruenetexas.com/event/scotty-alexander/
LOCATION:Gruene Hall\, 1281 Gruene Rd\, New Braunfels\, 78130
CATEGORIES:Ticketed Event
ATTACH;FMTTYPE=image/jpeg:https://www.gruenetexas.com/wp-content/uploads/2025/08/scotty-alexander-thundertix-cU8c5A.jpg
END:VEVENT
BEGIN:VEVENT
DTSTART;TZID=America/Chicago:20250919T200000
DTEND;TZID=America/Chicago:20250919T200000
DTSTAMP:20260421T223607
CREATED:20250624T034158Z
LAST-MODIFIED:20250919T201537Z
UID:10003521-1758312000-1758312000@www.gruenetexas.com
SUMMARY:Junior Brown
DESCRIPTION:| 			\n			\n							 \n\n\nOpener: Luke Olson | Doors: 7 pm \n\n		\n\n\n\n\n\n\n						\n							Add to calendar						 \n\n\n\n									\n										Google Calendar									\n								\n\n									\n										iCalendar									\n								\n\n									\n										Outlook 365									\n								\n\n									\n										Outlook Live
URL:https://www.gruenetexas.com/event/junior-brown-6/
LOCATION:Gruene Hall\, 1281 Gruene Rd\, New Braunfels\, 78130
CATEGORIES:Ticketed Event
ATTACH;FMTTYPE=image/jpeg:https://www.gruenetexas.com/wp-content/uploads/2025/06/junior_brown_thundertix-2KueXc.jpg
END:VEVENT
BEGIN:VEVENT
DTSTART;TZID=America/Chicago:20250918T200000
DTEND;TZID=America/Chicago:20250918T200000
DTSTAMP:20260421T223607
CREATED:20250617T031206Z
LAST-MODIFIED:20250918T200001Z
UID:10003518-1758225600-1758225600@www.gruenetexas.com
SUMMARY:Walker Montgomery
DESCRIPTION:| 			\n			\n							 \n\n\nDoors: 7 pm | Opener: Kate Watson \n\n		\n\n\n\n\n\n\n						\n							Add to calendar						 \n\n\n\n									\n										Google Calendar									\n								\n\n									\n										iCalendar									\n								\n\n									\n										Outlook 365									\n								\n\n									\n										Outlook Live
URL:https://www.gruenetexas.com/event/walker-montgomery/
LOCATION:Gruene Hall\, 1281 Gruene Rd\, New Braunfels\, 78130
CATEGORIES:Ticketed Event
ATTACH;FMTTYPE=image/jpeg:https://www.gruenetexas.com/wp-content/uploads/2025/06/walker-thundertix-e3PfLf.jpg
END:VEVENT
BEGIN:VEVENT
DTSTART;TZID=America/Chicago:20250913T210000
DTEND;TZID=America/Chicago:20250913T210000
DTSTAMP:20260421T223607
CREATED:20250603T021211Z
LAST-MODIFIED:20250913T195959Z
UID:10003458-1757797200-1757797200@www.gruenetexas.com
SUMMARY:Giovannie & The Hired Guns
DESCRIPTION:| 			\n			\n							 \n\n\nRob Baird opens | Doors: 8pm \n\n		\n\n\n\n\n\n\n						\n							Add to calendar						 \n\n\n\n									\n										Google Calendar									\n								\n\n									\n										iCalendar									\n								\n\n									\n										Outlook 365									\n								\n\n									\n										Outlook Live
URL:https://www.gruenetexas.com/event/giovannie-the-hired-guns-5/
LOCATION:Gruene Hall\, 1281 Gruene Rd\, New Braunfels\, 78130
CATEGORIES:Ticketed Event
ATTACH;FMTTYPE=image/jpeg:https://www.gruenetexas.com/wp-content/uploads/2025/06/giovannie_thundertix-vR1xbC.jpg
END:VEVENT
BEGIN:VEVENT
DTSTART;TZID=America/Chicago:20250912T200000
DTEND;TZID=America/Chicago:20250912T200000
DTSTAMP:20260421T223607
CREATED:20250603T021211Z
LAST-MODIFIED:20250912T195955Z
UID:10003457-1757707200-1757707200@www.gruenetexas.com
SUMMARY:Giovannie & The Hired Guns
DESCRIPTION:| 			\n			\n							 \n\n\nRob Baird opens | Doors: 7pm \n\n		\n\n\n\n\n\n\n						\n							Add to calendar						 \n\n\n\n									\n										Google Calendar									\n								\n\n									\n										iCalendar									\n								\n\n									\n										Outlook 365									\n								\n\n									\n										Outlook Live
URL:https://www.gruenetexas.com/event/giovannie-the-hired-guns-4/
LOCATION:Gruene Hall\, 1281 Gruene Rd\, New Braunfels\, 78130
CATEGORIES:Ticketed Event
ATTACH;FMTTYPE=image/jpeg:https://www.gruenetexas.com/wp-content/uploads/2025/06/giovannie_thundertix-vR1xbC.jpg
END:VEVENT
BEGIN:VEVENT
DTSTART;TZID=America/Chicago:20250906T210000
DTEND;TZID=America/Chicago:20250906T210000
DTSTAMP:20260421T223607
CREATED:20250603T021211Z
LAST-MODIFIED:20250906T195953Z
UID:10003456-1757192400-1757192400@www.gruenetexas.com
SUMMARY:Stoney LaRue
DESCRIPTION:| 			\n			\n							 \n\n\nOpener: Ashton Naylor | Doors: 8 pm \n\n		\n\n\n\n\n\n\n						\n							Add to calendar						 \n\n\n\n									\n										Google Calendar									\n								\n\n									\n										iCalendar									\n								\n\n									\n										Outlook 365									\n								\n\n									\n										Outlook Live
URL:https://www.gruenetexas.com/event/stoney-larue-10/
LOCATION:Gruene Hall\, 1281 Gruene Rd\, New Braunfels\, 78130
CATEGORIES:Ticketed Event
ATTACH;FMTTYPE=image/jpeg:https://www.gruenetexas.com/wp-content/uploads/2025/06/stoney_larue_thundertix-sOBQqf.jpg
END:VEVENT
BEGIN:VEVENT
DTSTART;TZID=America/Chicago:20250905T200000
DTEND;TZID=America/Chicago:20250905T200000
DTSTAMP:20260421T223607
CREATED:20250603T021211Z
LAST-MODIFIED:20250905T200000Z
UID:10003455-1757102400-1757102400@www.gruenetexas.com
SUMMARY:Stoney LaRue
DESCRIPTION:| 			\n			\n							 \n\n\nOpener: Hank Weaver | Doors: 7 pm \n\n		\n\n\n\n\n\n\n						\n							Add to calendar						 \n\n\n\n									\n										Google Calendar									\n								\n\n									\n										iCalendar									\n								\n\n									\n										Outlook 365									\n								\n\n									\n										Outlook Live
URL:https://www.gruenetexas.com/event/stoney-larue-9/
LOCATION:Gruene Hall\, 1281 Gruene Rd\, New Braunfels\, 78130
CATEGORIES:Ticketed Event
ATTACH;FMTTYPE=image/jpeg:https://www.gruenetexas.com/wp-content/uploads/2025/06/stoney_larue_thundertix-sOBQqf.jpg
END:VEVENT
BEGIN:VEVENT
DTSTART;TZID=America/Chicago:20250904T180000
DTEND;TZID=America/Chicago:20250904T190000
DTSTAMP:20260421T223607
CREATED:20250502T011158Z
LAST-MODIFIED:20250904T194459Z
UID:10003405-1757008800-1757012400@www.gruenetexas.com
SUMMARY:Dance Lessons
DESCRIPTION:| 			\n			\n							 \n\n\n\n		\n\n\n\n\n\n\n						\n							Add to calendar						 \n\n\n\n									\n										Google Calendar									\n								\n\n									\n										iCalendar									\n								\n\n									\n										Outlook 365									\n								\n\n									\n										Outlook Live
URL:https://www.gruenetexas.com/event/dance-lessons-16/
LOCATION:Gruene Hall\, 1281 Gruene Rd\, New Braunfels\, 78130
CATEGORIES:Ticketed Event
END:VEVENT
END:VCALENDAR