BEGIN:VCALENDAR
VERSION:2.0
PRODID:-//Gruene - ECPv6.15.11//NONSGML v1.0//EN
CALSCALE:GREGORIAN
METHOD:PUBLISH
X-ORIGINAL-URL:https://www.gruenetexas.com
X-WR-CALDESC:Events for Gruene
REFRESH-INTERVAL;VALUE=DURATION:PT1H
X-Robots-Tag:noindex
X-PUBLISHED-TTL:PT1H
BEGIN:VTIMEZONE
TZID:America/Chicago
BEGIN:DAYLIGHT
TZOFFSETFROM:-0600
TZOFFSETTO:-0500
TZNAME:CDT
DTSTART:20250309T080000
END:DAYLIGHT
BEGIN:STANDARD
TZOFFSETFROM:-0500
TZOFFSETTO:-0600
TZNAME:CST
DTSTART:20251102T070000
END:STANDARD
BEGIN:DAYLIGHT
TZOFFSETFROM:-0600
TZOFFSETTO:-0500
TZNAME:CDT
DTSTART:20260308T080000
END:DAYLIGHT
BEGIN:STANDARD
TZOFFSETFROM:-0500
TZOFFSETTO:-0600
TZNAME:CST
DTSTART:20261101T070000
END:STANDARD
BEGIN:DAYLIGHT
TZOFFSETFROM:-0600
TZOFFSETTO:-0500
TZNAME:CDT
DTSTART:20270314T080000
END:DAYLIGHT
BEGIN:STANDARD
TZOFFSETFROM:-0500
TZOFFSETTO:-0600
TZNAME:CST
DTSTART:20271107T070000
END:STANDARD
END:VTIMEZONE
BEGIN:VEVENT
DTSTART;TZID=America/Chicago:20260516T210000
DTEND;TZID=America/Chicago:20260516T210000
DTSTAMP:20260421T213711
CREATED:20260210T004513Z
LAST-MODIFIED:20260421T064533Z
UID:10004410-1778965200-1778965200@www.gruenetexas.com
SUMMARY:Kolby Cooper
DESCRIPTION:| 			\n			\n							 \n\nTickets on sale Friday\, February 13th at 10AM! \nDoors: 8pm \nOpener: Jaxon Malone 9pm \nKolby Cooper: 10:30pm \nGENERAL ADMISSION: $20 (+ $5.50 service fee) \n\n\n\n\n\n						\n							Add to calendar						 \n\n\n\n									\n										Google Calendar									\n								\n\n									\n										iCalendar									\n								\n\n									\n										Outlook 365									\n								\n\n									\n										Outlook Live									\n								\n\n \n \n \n \n\n\n\n					Details\n	\n\n\n				Date:\n				\n					  \n				\n			\n\n				Time:
URL:https://www.gruenetexas.com/event/kolby-cooper-6/
LOCATION:Gruene Hall\, 1281 Gruene Rd\, New Braunfels\, 78130
CATEGORIES:Ticketed Event
ATTACH;FMTTYPE=image/jpeg:https://www.gruenetexas.com/wp-content/uploads/2026/02/event-flyer-62929-AqjvPx.jpg
END:VEVENT
BEGIN:VEVENT
DTSTART;TZID=America/Chicago:20260517T130000
DTEND;TZID=America/Chicago:20260517T130000
DTSTAMP:20260421T213711
CREATED:20260409T053007Z
LAST-MODIFIED:20260421T064533Z
UID:10004621-1779022800-1779022800@www.gruenetexas.com
SUMMARY:Still Rammin’ Fest: SIMS Foundation Benefit
DESCRIPTION:| 			\n			\n							 \n\nDoors: 12pm \n1:00pm- Shelby Stone\, Dalton Domino \n1:55pm- Coleman Jennings \n2:35pm- Logan Ryan Band \n3:25pm- Summer Dean \n4:05pm- Kolton Moore & The Clever Few \n4:55pm- Lance Roark \n5:35pm- Jesse Daniel \n6:25pm- Emily Nenni \n7:05pm- Vincent Neil Emerson \nGENERAL ADMISSION: $89.50  \n\n\n\n\n\n						\n							Add to calendar						 \n\n\n\n									\n										Google Calendar									\n								\n\n									\n										iCalendar									\n								\n\n									\n										Outlook 365									\n								\n\n									\n										Outlook Live									\n								\n\n \n \n \n \n\n\n\n					Details\n	\n\n\n				Date:\n				\n					  \n				\n			\n\n				Time:
URL:https://www.gruenetexas.com/event/still-rammin-fest-sims-foundation-benefit/
LOCATION:Gruene Hall\, 1281 Gruene Rd\, New Braunfels\, 78130
CATEGORIES:Ticketed Event
ATTACH;FMTTYPE=image/jpeg:https://www.gruenetexas.com/wp-content/uploads/2026/04/StillRammin_ticketbooth-N8hDrF.jpg
END:VEVENT
BEGIN:VEVENT
DTSTART;TZID=America/Chicago:20260522T200000
DTEND;TZID=America/Chicago:20260522T200000
DTSTAMP:20260421T213711
CREATED:20260210T004514Z
LAST-MODIFIED:20260421T064534Z
UID:10004411-1779480000-1779480000@www.gruenetexas.com
SUMMARY:Kody West
DESCRIPTION:| 			\n			\n							 \n\nTickets on sale Friday\, February 13th at 10AM! \nDoors: 7pm \nOpener: TBA 8pm \nKody West: 9:30pm \nGENERAL ADMISSION: $20 (+ $5.50 service fee) \n\n\n\n\n\n						\n							Add to calendar						 \n\n\n\n									\n										Google Calendar									\n								\n\n									\n										iCalendar									\n								\n\n									\n										Outlook 365									\n								\n\n									\n										Outlook Live									\n								\n\n \n \n \n \n\n\n\n					Details\n	\n\n\n				Date:\n				\n					  \n				\n			\n\n				Time:
URL:https://www.gruenetexas.com/event/kody-west-4/
LOCATION:Gruene Hall\, 1281 Gruene Rd\, New Braunfels\, 78130
CATEGORIES:Ticketed Event
ATTACH;FMTTYPE=image/jpeg:https://www.gruenetexas.com/wp-content/uploads/2026/02/event-flyer-62932-xFFab2.jpg
END:VEVENT
BEGIN:VEVENT
DTSTART;TZID=America/Chicago:20260523T200000
DTEND;TZID=America/Chicago:20260523T200000
DTSTAMP:20260421T213711
CREATED:20260217T010000Z
LAST-MODIFIED:20260421T064534Z
UID:10004428-1779566400-1779566400@www.gruenetexas.com
SUMMARY:The Wilder Blue
DESCRIPTION:| 			\n			\n							 \n\nDoors: 7pm \nOpener: TBA 8pm \nThe Wilder Blue: 9:30pm \nGENERAL ADMISSION: $25 (+ $6.50 service fee) \n\n\n\n\n\n						\n							Add to calendar						 \n\n\n\n									\n										Google Calendar									\n								\n\n									\n										iCalendar									\n								\n\n									\n										Outlook 365									\n								\n\n									\n										Outlook Live									\n								\n\n \n \n \n \n\n\n\n					Details\n	\n\n\n				Date:\n				\n					  \n				\n			\n\n				Time:
URL:https://www.gruenetexas.com/event/the-wilder-blue-4/
LOCATION:Gruene Hall\, 1281 Gruene Rd\, New Braunfels\, 78130
CATEGORIES:Ticketed Event
ATTACH;FMTTYPE=image/jpeg:https://www.gruenetexas.com/wp-content/uploads/2026/02/event-flyer-63033-ENiiZD.jpg
END:VEVENT
BEGIN:VEVENT
DTSTART;TZID=America/Chicago:20260524T200000
DTEND;TZID=America/Chicago:20260524T200000
DTSTAMP:20260421T213711
CREATED:20260224T011513Z
LAST-MODIFIED:20260421T064535Z
UID:10004528-1779652800-1779652800@www.gruenetexas.com
SUMMARY:Dale Watson & His Lone Stars
DESCRIPTION:| 			\n			\n							 \n\n \nDoors: 7pmDale Watson & His Lone Stars: 8pm \nGENERAL ADMISSION: $15 (+ $5.50 service fee) \n\n\n\n\n\n						\n							Add to calendar						 \n\n\n\n									\n										Google Calendar									\n								\n\n									\n										iCalendar									\n								\n\n									\n										Outlook 365									\n								\n\n									\n										Outlook Live									\n								\n\n \n \n \n \n\n\n\n					Details\n	\n\n\n				Date:\n				\n					  \n				\n			\n\n				Time:
URL:https://www.gruenetexas.com/event/dale-watson-his-lone-stars-4/
LOCATION:Gruene Hall\, 1281 Gruene Rd\, New Braunfels\, 78130
CATEGORIES:Ticketed Event
ATTACH;FMTTYPE=image/jpeg:https://www.gruenetexas.com/wp-content/uploads/2026/02/event-flyer-63138-cKGL3q.jpg
END:VEVENT
BEGIN:VEVENT
DTSTART;TZID=America/Chicago:20260529T200000
DTEND;TZID=America/Chicago:20260529T200000
DTSTAMP:20260421T213711
CREATED:20260224T011514Z
LAST-MODIFIED:20260421T064536Z
UID:10004529-1780084800-1780084800@www.gruenetexas.com
SUMMARY:Midnight River Choir
DESCRIPTION:| 			\n			\n							 \n\nDoors: 7pm \nOpener: Ellis Bullard 8pm \nMidnight River Choir: 9:30pm \nGENERAL ADMISSION: $20 (+ $5.50 service fee) \n\n\n\n\n\n						\n							Add to calendar						 \n\n\n\n									\n										Google Calendar									\n								\n\n									\n										iCalendar									\n								\n\n									\n										Outlook 365									\n								\n\n									\n										Outlook Live									\n								\n\n \n \n \n \n\n\n\n					Details\n	\n\n\n				Date:\n				\n					  \n				\n			\n\n				Time:
URL:https://www.gruenetexas.com/event/midnight-river-choir-4/
LOCATION:Gruene Hall\, 1281 Gruene Rd\, New Braunfels\, 78130
CATEGORIES:Ticketed Event
ATTACH;FMTTYPE=image/jpeg:https://www.gruenetexas.com/wp-content/uploads/2026/02/event-flyer-63132-kYvYxc.jpg
END:VEVENT
BEGIN:VEVENT
DTSTART;TZID=America/Chicago:20260530T210000
DTEND;TZID=America/Chicago:20260530T210000
DTSTAMP:20260421T213711
CREATED:20260120T231503Z
LAST-MODIFIED:20260421T064536Z
UID:10004370-1780174800-1780174800@www.gruenetexas.com
SUMMARY:Old 97’s
DESCRIPTION:| 			\n			\n							 \n\nDoors: 8pm \nOpener: Caleb Caudle 9pm \nOld 97’s: 10pm \nGENERAL ADMISSION: $30 (+ $6.50 service fee) \n\n\n\n\n\n						\n							Add to calendar						 \n\n\n\n									\n										Google Calendar									\n								\n\n									\n										iCalendar									\n								\n\n									\n										Outlook 365									\n								\n\n									\n										Outlook Live									\n								\n\n \n \n \n \n\n\n\n					Details\n	\n\n\n				Date:\n				\n					  \n				\n			\n\n				Time:
URL:https://www.gruenetexas.com/event/old-97s-2/
LOCATION:Gruene Hall\, 1281 Gruene Rd\, New Braunfels\, 78130
CATEGORIES:Ticketed Event
ATTACH;FMTTYPE=image/jpeg:https://www.gruenetexas.com/wp-content/uploads/2026/01/event-flyer-62582-84C4uf.jpg
END:VEVENT
BEGIN:VEVENT
DTSTART;TZID=America/Chicago:20260605T200000
DTEND;TZID=America/Chicago:20260605T200000
DTSTAMP:20260421T213711
CREATED:20260317T023009Z
LAST-MODIFIED:20260421T064538Z
UID:10004594-1780689600-1780689600@www.gruenetexas.com
SUMMARY:Jamie Lin Wilson & Courtney Patton
DESCRIPTION:| 			\n			\n							 \n\nDoors: 7pm \nJamie Lin Wilson & Courtney Patton: 8pm \nGENERAL ADMISSION: $20 (+ $5.50 service fee) \n\n\n\n\n\n						\n							Add to calendar						 \n\n\n\n									\n										Google Calendar									\n								\n\n									\n										iCalendar									\n								\n\n									\n										Outlook 365									\n								\n\n									\n										Outlook Live									\n								\n\n \n \n \n \n\n\n\n					Details\n	\n\n\n				Date:\n				\n					  \n				\n			\n\n				Time:
URL:https://www.gruenetexas.com/event/jamie-lin-wilson-courtney-patton/
LOCATION:Gruene Hall\, 1281 Gruene Rd\, New Braunfels\, 78130
CATEGORIES:Ticketed Event
ATTACH;FMTTYPE=image/jpeg:https://www.gruenetexas.com/wp-content/uploads/2026/03/event-flyer-63545-SZAg6x.jpg
END:VEVENT
BEGIN:VEVENT
DTSTART;TZID=America/Chicago:20260606T210000
DTEND;TZID=America/Chicago:20260606T210000
DTSTAMP:20260421T213711
CREATED:20260224T011515Z
LAST-MODIFIED:20260421T064538Z
UID:10004530-1780779600-1780779600@www.gruenetexas.com
SUMMARY:Red Shahan
DESCRIPTION:| 			\n			\n							 \n\nDoors: 8pm \nOpener: Ronnie & The Redwoods 9pm \nRed Shahan: 10:30pm \nGENERAL ADMISSION: $20 (+ $5.50 service fee) \n\n\n\n\n\n						\n							Add to calendar						 \n\n\n\n									\n										Google Calendar									\n								\n\n									\n										iCalendar									\n								\n\n									\n										Outlook 365									\n								\n\n									\n										Outlook Live									\n								\n\n \n \n \n \n\n\n\n					Details\n	\n\n\n				Date:\n				\n					  \n				\n			\n\n				Time:
URL:https://www.gruenetexas.com/event/red-shahan-4/
LOCATION:Gruene Hall\, 1281 Gruene Rd\, New Braunfels\, 78130
CATEGORIES:Ticketed Event
ATTACH;FMTTYPE=image/jpeg:https://www.gruenetexas.com/wp-content/uploads/2026/02/event-flyer-63135-H74I0d.jpg
END:VEVENT
BEGIN:VEVENT
DTSTART;TZID=America/Chicago:20260612T200000
DTEND;TZID=America/Chicago:20260612T200000
DTSTAMP:20260421T213711
CREATED:20260210T004514Z
LAST-MODIFIED:20260421T064539Z
UID:10004412-1781294400-1781294400@www.gruenetexas.com
SUMMARY:Hayes Carll: Home Again Tour
DESCRIPTION:| 			\n			\n							 \n\nTickets on sale Friday\, February 13th at 10AM! \nDoors: 7pm \nOpener: Andrew Duhon  8pm \nHayes Carll: 9pm \nGENERAL ADMISSION: $25 (+ $6.50 service fee) \nArtist Presale:Start: Tuesday\, February 10 @ 10AM \nEnd: Thursday\, February 12 @ 11:59PM \n\n\n\n\n\n						\n							Add to calendar						 \n\n\n\n									\n										Google Calendar									\n								\n\n									\n										iCalendar									\n								\n\n									\n										Outlook 365									\n								\n\n									\n										Outlook Live									\n								\n\n \n \n \n \n\n\n\n					Details\n	\n\n\n				Date:\n				\n					  \n				\n			\n\n				Time:
URL:https://www.gruenetexas.com/event/hayes-carll-home-again-tour/
LOCATION:Gruene Hall\, 1281 Gruene Rd\, New Braunfels\, 78130
CATEGORIES:Ticketed Event
ATTACH;FMTTYPE=image/jpeg:https://www.gruenetexas.com/wp-content/uploads/2026/02/event-flyer-62941-dGm9Qs.jpg
END:VEVENT
BEGIN:VEVENT
DTSTART;TZID=America/Chicago:20260613T210000
DTEND;TZID=America/Chicago:20260613T210000
DTSTAMP:20260421T213711
CREATED:20260210T004515Z
LAST-MODIFIED:20260421T064539Z
UID:10004413-1781384400-1781384400@www.gruenetexas.com
SUMMARY:Hayes Carll: Home Again Tour
DESCRIPTION:| 			\n			\n							 \n\nTickets on sale Friday\, February 13th at 10AM! \nDoors: 8pm \nOpener: Andrew Duhon  9pm \nHayes Carll: 10pm \nGENERAL ADMISSION: $25 (+ $6.50 service fee) \nArtist Presale:Start: Tuesday\, February 10 @ 10AM \nEnd: Thursday\, February 12 @ 11:59PM \n\n\n\n\n\n						\n							Add to calendar						 \n\n\n\n									\n										Google Calendar									\n								\n\n									\n										iCalendar									\n								\n\n									\n										Outlook 365									\n								\n\n									\n										Outlook Live									\n								\n\n \n \n \n \n\n\n\n					Details\n	\n\n\n				Date:\n				\n					  \n				\n			\n\n				Time:
URL:https://www.gruenetexas.com/event/hayes-carll-home-again-tour-2/
LOCATION:Gruene Hall\, 1281 Gruene Rd\, New Braunfels\, 78130
CATEGORIES:Ticketed Event
ATTACH;FMTTYPE=image/jpeg:https://www.gruenetexas.com/wp-content/uploads/2026/02/event-flyer-62944-qutlSJ.jpg
END:VEVENT
BEGIN:VEVENT
DTSTART;TZID=America/Chicago:20260619T200000
DTEND;TZID=America/Chicago:20260619T200000
DTSTAMP:20260421T213711
CREATED:20260317T023010Z
LAST-MODIFIED:20260421T064540Z
UID:10004595-1781899200-1781899200@www.gruenetexas.com
SUMMARY:Larry Joe Taylor w/ special guest Presley Haile
DESCRIPTION:| 			\n			\n							 \n\nDoors: 7pm \nSpecial Guest: Presley Haile 8pm \nLarry Joe Taylor: 9:15pm \nGENERAL ADMISSION: $20 (+ $5.50 service fee) \n\n\n\n\n\n						\n							Add to calendar						 \n\n\n\n									\n										Google Calendar									\n								\n\n									\n										iCalendar									\n								\n\n									\n										Outlook 365									\n								\n\n									\n										Outlook Live									\n								\n\n \n \n \n \n\n\n\n					Details\n	\n\n\n				Date:\n				\n					  \n				\n			\n\n				Time:
URL:https://www.gruenetexas.com/event/larry-joe-taylor-w-special-guest-presley-haile-2/
LOCATION:Gruene Hall\, 1281 Gruene Rd\, New Braunfels\, 78130
CATEGORIES:Ticketed Event
ATTACH;FMTTYPE=image/jpeg:https://www.gruenetexas.com/wp-content/uploads/2026/03/event-flyer-63539-usK47b.jpg
END:VEVENT
BEGIN:VEVENT
DTSTART;TZID=America/Chicago:20260620T210000
DTEND;TZID=America/Chicago:20260620T210000
DTSTAMP:20260421T213711
CREATED:20260317T023011Z
LAST-MODIFIED:20260421T064540Z
UID:10004596-1781989200-1781989200@www.gruenetexas.com
SUMMARY:Radney Foster Band
DESCRIPTION:| 			\n			\n							 \n\nDoors: 8pm \nOpener: Ty Smith & The Minor Offenses 9pm \nRadney Foster Band: 10pm \nGENERAL ADMISSION: $30 (+ $6.50 service fee) \n\n\n\n\n\n						\n							Add to calendar						 \n\n\n\n									\n										Google Calendar									\n								\n\n									\n										iCalendar									\n								\n\n									\n										Outlook 365									\n								\n\n									\n										Outlook Live									\n								\n\n \n \n \n \n\n\n\n					Details\n	\n\n\n				Date:\n				\n					  \n				\n			\n\n				Time:
URL:https://www.gruenetexas.com/event/radney-foster-band-2/
LOCATION:Gruene Hall\, 1281 Gruene Rd\, New Braunfels\, 78130
CATEGORIES:Ticketed Event
ATTACH;FMTTYPE=image/jpeg:https://www.gruenetexas.com/wp-content/uploads/2026/03/event-flyer-63542-noyh7Q.jpg
END:VEVENT
BEGIN:VEVENT
DTSTART;TZID=America/Chicago:20260626T200000
DTEND;TZID=America/Chicago:20260626T200000
DTSTAMP:20260421T213711
CREATED:20260325T031458Z
LAST-MODIFIED:20260421T064541Z
UID:10004598-1782504000-1782504000@www.gruenetexas.com
SUMMARY:Billie Jo Jones
DESCRIPTION:| 			\n			\n							 \n\n \nDoors: 7pmOpener: TBA 8pmBillie Jo Jones: 9:30pm \nGENERAL ADMISSION: $15 (+ $5.50 service fee) \n\n\n\n\n\n						\n							Add to calendar						 \n\n\n\n									\n										Google Calendar									\n								\n\n									\n										iCalendar									\n								\n\n									\n										Outlook 365									\n								\n\n									\n										Outlook Live									\n								\n\n \n \n \n \n\n\n\n					Details\n	\n\n\n				Date:\n				\n					  \n				\n			\n\n				Time:
URL:https://www.gruenetexas.com/event/billie-jo-jones/
LOCATION:Gruene Hall\, 1281 Gruene Rd\, New Braunfels\, 78130
CATEGORIES:Ticketed Event
ATTACH;FMTTYPE=image/jpeg:https://www.gruenetexas.com/wp-content/uploads/2026/03/event-flyer-63639-q0K0ix.jpg
END:VEVENT
BEGIN:VEVENT
DTSTART;TZID=America/Chicago:20260627T210000
DTEND;TZID=America/Chicago:20260627T210000
DTSTAMP:20260421T213711
CREATED:20260325T031458Z
LAST-MODIFIED:20260421T064541Z
UID:10004599-1782594000-1782594000@www.gruenetexas.com
SUMMARY:Cooder Graw
DESCRIPTION:| 			\n			\n							 \n\nDoors: 8pm \nOpener: Charlie Shafter 9pm \nCooder Graw: 10:30pm \nGENERAL ADMISSION: $20 (+ $5.50 service fee) \n\n\n\n\n\n						\n							Add to calendar						 \n\n\n\n									\n										Google Calendar									\n								\n\n									\n										iCalendar									\n								\n\n									\n										Outlook 365									\n								\n\n									\n										Outlook Live									\n								\n\n \n \n \n \n\n\n\n					Details\n	\n\n\n				Date:\n				\n					  \n				\n			\n\n				Time:
URL:https://www.gruenetexas.com/event/cooder-graw-4/
LOCATION:Gruene Hall\, 1281 Gruene Rd\, New Braunfels\, 78130
CATEGORIES:Ticketed Event
ATTACH;FMTTYPE=image/jpeg:https://www.gruenetexas.com/wp-content/uploads/2026/03/event-flyer-63642-2-iUA5Dp.jpg
END:VEVENT
BEGIN:VEVENT
DTSTART;TZID=America/Chicago:20260702T200000
DTEND;TZID=America/Chicago:20260702T200000
DTSTAMP:20260421T213711
CREATED:20260401T031510Z
LAST-MODIFIED:20260421T064541Z
UID:10004602-1783022400-1783022400@www.gruenetexas.com
SUMMARY:Silverada
DESCRIPTION:| 			\n			\n							 \n\nDoors: 7pm \nOpener: Garrett T. Capps 8pm \nSilverada: 9:30pm \nGENERAL ADMISSION: $25 (+ $6.50 service fee) \n\n\n\n\n\n						\n							Add to calendar						 \n\n\n\n									\n										Google Calendar									\n								\n\n									\n										iCalendar									\n								\n\n									\n										Outlook 365									\n								\n\n									\n										Outlook Live									\n								\n\n \n \n \n \n\n\n\n					Details\n	\n\n\n				Date:\n				\n					  \n				\n			\n\n				Time:
URL:https://www.gruenetexas.com/event/silverada-2/
LOCATION:Gruene Hall\, 1281 Gruene Rd\, New Braunfels\, 78130
CATEGORIES:Ticketed Event
ATTACH;FMTTYPE=image/png:https://www.gruenetexas.com/wp-content/uploads/2026/03/Silverada-Prekindle-n7j01p.png
END:VEVENT
BEGIN:VEVENT
DTSTART;TZID=America/Chicago:20260703T200000
DTEND;TZID=America/Chicago:20260703T200000
DTSTAMP:20260421T213711
CREATED:20260401T031510Z
LAST-MODIFIED:20260421T064541Z
UID:10004603-1783108800-1783108800@www.gruenetexas.com
SUMMARY:Silverada
DESCRIPTION:| 			\n			\n							 \n\nDoors: 7pm \nOpener: Garrett T. Capps 8pm \nSilverada: 9:30pm \nGENERAL ADMISSION: $25 (+ $6.50 service fee) \n\n\n\n\n\n						\n							Add to calendar						 \n\n\n\n									\n										Google Calendar									\n								\n\n									\n										iCalendar									\n								\n\n									\n										Outlook 365									\n								\n\n									\n										Outlook Live									\n								\n\n \n \n \n \n\n\n\n					Details\n	\n\n\n				Date:\n				\n					  \n				\n			\n\n				Time:
URL:https://www.gruenetexas.com/event/silverada-3/
LOCATION:Gruene Hall\, 1281 Gruene Rd\, New Braunfels\, 78130
CATEGORIES:Ticketed Event
ATTACH;FMTTYPE=image/png:https://www.gruenetexas.com/wp-content/uploads/2026/03/Silverada-Prekindle-n7j01p.png
END:VEVENT
BEGIN:VEVENT
DTSTART;TZID=America/Chicago:20260710T200000
DTEND;TZID=America/Chicago:20260710T200000
DTSTAMP:20260421T213711
CREATED:20260408T053003Z
LAST-MODIFIED:20260421T064541Z
UID:10004619-1783713600-1783713600@www.gruenetexas.com
SUMMARY:Bleu Edmondson
DESCRIPTION:| 			\n			\n							 \n\nDoors: 7pm \nOpener: TBA 8pm \nBleu Edmondson: 9:30pm \nGENERAL ADMISSION: $20 (+ $5.50 service fee) \n\n\n\n\n\n						\n							Add to calendar						 \n\n\n\n									\n										Google Calendar									\n								\n\n									\n										iCalendar									\n								\n\n									\n										Outlook 365									\n								\n\n									\n										Outlook Live									\n								\n\n \n \n \n \n\n\n\n					Details\n	\n\n\n				Date:\n				\n					  \n				\n			\n\n				Time:
URL:https://www.gruenetexas.com/event/bleu-edmondson/
LOCATION:Gruene Hall\, 1281 Gruene Rd\, New Braunfels\, 78130
CATEGORIES:Ticketed Event
ATTACH;FMTTYPE=image/png:https://www.gruenetexas.com/wp-content/uploads/2026/04/Bleu-Edmondson-scaled-df2hDN.png
END:VEVENT
BEGIN:VEVENT
DTSTART;TZID=America/Chicago:20260711T210000
DTEND;TZID=America/Chicago:20260711T210000
DTSTAMP:20260421T213711
CREATED:20260408T053007Z
LAST-MODIFIED:20260421T064542Z
UID:10004620-1783803600-1783803600@www.gruenetexas.com
SUMMARY:Them Dirty Roses
DESCRIPTION:| 			\n			\n							 \n\nDoors: 8pm \nOpener: TBA 9pm \nThem Dirty Roses: 10:30pm \nGENERAL ADMISSION: $25 (+ $6.50 service fee) \n\n\n\n\n\n						\n							Add to calendar						 \n\n\n\n									\n										Google Calendar									\n								\n\n									\n										iCalendar									\n								\n\n									\n										Outlook 365									\n								\n\n									\n										Outlook Live									\n								\n\n \n \n \n \n\n\n\n					Details\n	\n\n\n				Date:\n				\n					  \n				\n			\n\n				Time:
URL:https://www.gruenetexas.com/event/them-dirty-roses-4/
LOCATION:Gruene Hall\, 1281 Gruene Rd\, New Braunfels\, 78130
CATEGORIES:Ticketed Event
ATTACH;FMTTYPE=image/png:https://www.gruenetexas.com/wp-content/uploads/2026/04/Them-Dirty-Roses-scaled-SwOr4g.png
END:VEVENT
BEGIN:VEVENT
DTSTART;TZID=America/Chicago:20260716T200000
DTEND;TZID=America/Chicago:20260716T200000
DTSTAMP:20260421T213711
CREATED:20260325T031458Z
LAST-MODIFIED:20260421T064542Z
UID:10004600-1784232000-1784232000@www.gruenetexas.com
SUMMARY:Billy Bob Thornton & The Boxmasters: 2026 Morro Rock Tour
DESCRIPTION:| 			\n			\n							 \n\nDoors: 7pm \nOpener: TBA 8pm \nBilly Bob Thornton & The Boxmasters: 9pm \nGENERAL ADMISSION: $75 (+ $11.00 service fee) \n\n\n\n\n\n						\n							Add to calendar						 \n\n\n\n									\n										Google Calendar									\n								\n\n									\n										iCalendar									\n								\n\n									\n										Outlook 365									\n								\n\n									\n										Outlook Live									\n								\n\n \n \n \n \n\n\n\n					Details\n	\n\n\n				Date:\n				\n					  \n				\n			\n\n				Time:
URL:https://www.gruenetexas.com/event/billy-bob-thornton-the-boxmasters-2026-morro-rock-tour/
LOCATION:Gruene Hall\, 1281 Gruene Rd\, New Braunfels\, 78130
CATEGORIES:Ticketed Event
ATTACH;FMTTYPE=image/png:https://www.gruenetexas.com/wp-content/uploads/2026/04/Billy-Bob-Thornton-and-The-Boxmasters-Sold-Out-aY0IGH.png
END:VEVENT
BEGIN:VEVENT
DTSTART;TZID=America/Chicago:20260718T210000
DTEND;TZID=America/Chicago:20260718T210000
DTSTAMP:20260421T213711
CREATED:20260414T061533Z
LAST-MODIFIED:20260421T064542Z
UID:10004645-1784408400-1784408400@www.gruenetexas.com
SUMMARY:Stoney LaRue
DESCRIPTION:| 			\n			\n							 \n\nDoors: 8pm \nOpener: TBA 9pm \nStoney LaRue: 10:30pm \nGENERAL ADMISSION: $30 (+ $6.50 service fee) \n\n\n\n\n\n						\n							Add to calendar						 \n\n\n\n									\n										Google Calendar									\n								\n\n									\n										iCalendar									\n								\n\n									\n										Outlook 365									\n								\n\n									\n										Outlook Live									\n								\n\n \n \n \n \n\n\n\n					Details\n	\n\n\n				Date:\n				\n					  \n				\n			\n\n				Time:
URL:https://www.gruenetexas.com/event/stoney-larue-11/
LOCATION:Gruene Hall\, 1281 Gruene Rd\, New Braunfels\, 78130
CATEGORIES:Ticketed Event
ATTACH;FMTTYPE=image/png:https://www.gruenetexas.com/wp-content/uploads/2026/04/Stoney-Larue-Prekindle-scaled-ACnsOf.png
END:VEVENT
BEGIN:VEVENT
DTSTART;TZID=America/Chicago:20260722T200000
DTEND;TZID=America/Chicago:20260722T200000
DTSTAMP:20260421T213711
CREATED:20260414T061536Z
LAST-MODIFIED:20260421T064542Z
UID:10004646-1784750400-1784750400@www.gruenetexas.com
SUMMARY:Roger Creager’s Birthday Show (Acoustic w/ Special Guest)
DESCRIPTION:| 			\n			\n							 \n\nDoors: 7pm \nRoger Creager with special guest TBA: 8pm \nGENERAL ADMISSION: $20 (+ $5.50 service fee) \n\n\n\n\n\n						\n							Add to calendar						 \n\n\n\n									\n										Google Calendar									\n								\n\n									\n										iCalendar									\n								\n\n									\n										Outlook 365									\n								\n\n									\n										Outlook Live									\n								\n\n \n \n \n \n\n\n\n					Details\n	\n\n\n				Date:\n				\n					  \n				\n			\n\n				Time:
URL:https://www.gruenetexas.com/event/roger-creagers-birthday-show-acoustic-w-special-guest/
LOCATION:Gruene Hall\, 1281 Gruene Rd\, New Braunfels\, 78130
CATEGORIES:Ticketed Event
ATTACH;FMTTYPE=image/png:https://www.gruenetexas.com/wp-content/uploads/2026/04/Roger-Creager-Prekindle-scaled-8DoVQJ.png
END:VEVENT
BEGIN:VEVENT
DTSTART;TZID=America/Chicago:20260723T200000
DTEND;TZID=America/Chicago:20260723T200000
DTSTAMP:20260421T213711
CREATED:20260414T061539Z
LAST-MODIFIED:20260421T064542Z
UID:10004647-1784836800-1784836800@www.gruenetexas.com
SUMMARY:Roger Creager’s Birthday Show (Full Band)
DESCRIPTION:| 			\n			\n							 \n\nDoors: 7pm \nOpener: Joni Jack 8pm \nRoger Creager: 9:30pm \nGENERAL ADMISSION: $25 (+ $6.50 service fee) \n\n\n\n\n\n						\n							Add to calendar						 \n\n\n\n									\n										Google Calendar									\n								\n\n									\n										iCalendar									\n								\n\n									\n										Outlook 365									\n								\n\n									\n										Outlook Live									\n								\n\n \n \n \n \n\n\n\n					Details\n	\n\n\n				Date:\n				\n					  \n				\n			\n\n				Time:
URL:https://www.gruenetexas.com/event/roger-creagers-birthday-show-full-band-10/
LOCATION:Gruene Hall\, 1281 Gruene Rd\, New Braunfels\, 78130
CATEGORIES:Ticketed Event
ATTACH;FMTTYPE=image/png:https://www.gruenetexas.com/wp-content/uploads/2026/04/Roger-Creager-Prekindle-scaled-8DoVQJ.png
END:VEVENT
BEGIN:VEVENT
DTSTART;TZID=America/Chicago:20260724T200000
DTEND;TZID=America/Chicago:20260724T200000
DTSTAMP:20260421T213711
CREATED:20260414T061539Z
LAST-MODIFIED:20260421T064542Z
UID:10004648-1784923200-1784923200@www.gruenetexas.com
SUMMARY:Roger Creager’s Birthday Show (Full Band)
DESCRIPTION:| 			\n			\n							 \n\nDoors: 7pm \nOpener: Ray Johnston 8pm \nRoger Creager: 9:30pm \nGENERAL ADMISSION: $25 (+ $6.50 service fee) \n\n\n\n\n\n						\n							Add to calendar						 \n\n\n\n									\n										Google Calendar									\n								\n\n									\n										iCalendar									\n								\n\n									\n										Outlook 365									\n								\n\n									\n										Outlook Live									\n								\n\n \n \n \n \n\n\n\n					Details\n	\n\n\n				Date:\n				\n					  \n				\n			\n\n				Time:
URL:https://www.gruenetexas.com/event/roger-creagers-birthday-show-full-band-11/
LOCATION:Gruene Hall\, 1281 Gruene Rd\, New Braunfels\, 78130
CATEGORIES:Ticketed Event
ATTACH;FMTTYPE=image/png:https://www.gruenetexas.com/wp-content/uploads/2026/04/Roger-Creager-Prekindle-scaled-8DoVQJ.png
END:VEVENT
BEGIN:VEVENT
DTSTART;TZID=America/Chicago:20260725T210000
DTEND;TZID=America/Chicago:20260725T210000
DTSTAMP:20260421T213711
CREATED:20260414T061539Z
LAST-MODIFIED:20260421T064542Z
UID:10004649-1785013200-1785013200@www.gruenetexas.com
SUMMARY:Roger Creager’s Birthday Show (Full Band)
DESCRIPTION:| 			\n			\n							 \n\nDoors: 8pm \nOpener: Gatlin Johnson 9pm \nRoger Creager: 10:30pm \nGENERAL ADMISSION: $25 (+ $6.50 service fee) \n\n\n\n\n\n						\n							Add to calendar						 \n\n\n\n									\n										Google Calendar									\n								\n\n									\n										iCalendar									\n								\n\n									\n										Outlook 365									\n								\n\n									\n										Outlook Live									\n								\n\n \n \n \n \n\n\n\n					Details\n	\n\n\n				Date:\n				\n					  \n				\n			\n\n				Time:
URL:https://www.gruenetexas.com/event/roger-creagers-birthday-show-full-band-12/
LOCATION:Gruene Hall\, 1281 Gruene Rd\, New Braunfels\, 78130
CATEGORIES:Ticketed Event
ATTACH;FMTTYPE=image/png:https://www.gruenetexas.com/wp-content/uploads/2026/04/Roger-Creager-Prekindle-scaled-8DoVQJ.png
END:VEVENT
END:VCALENDAR