BEGIN:VCALENDAR
VERSION:2.0
PRODID:-//Gruene - ECPv6.15.11//NONSGML v1.0//EN
CALSCALE:GREGORIAN
METHOD:PUBLISH
X-WR-CALNAME:Gruene
X-ORIGINAL-URL:https://www.gruenetexas.com
X-WR-CALDESC:Events for Gruene
REFRESH-INTERVAL;VALUE=DURATION:PT1H
X-Robots-Tag:noindex
X-PUBLISHED-TTL:PT1H
BEGIN:VTIMEZONE
TZID:America/Chicago
BEGIN:DAYLIGHT
TZOFFSETFROM:-0600
TZOFFSETTO:-0500
TZNAME:CDT
DTSTART:20220313T080000
END:DAYLIGHT
BEGIN:STANDARD
TZOFFSETFROM:-0500
TZOFFSETTO:-0600
TZNAME:CST
DTSTART:20221106T070000
END:STANDARD
BEGIN:DAYLIGHT
TZOFFSETFROM:-0600
TZOFFSETTO:-0500
TZNAME:CDT
DTSTART:20230312T080000
END:DAYLIGHT
BEGIN:STANDARD
TZOFFSETFROM:-0500
TZOFFSETTO:-0600
TZNAME:CST
DTSTART:20231105T070000
END:STANDARD
BEGIN:DAYLIGHT
TZOFFSETFROM:-0600
TZOFFSETTO:-0500
TZNAME:CDT
DTSTART:20240310T080000
END:DAYLIGHT
BEGIN:STANDARD
TZOFFSETFROM:-0500
TZOFFSETTO:-0600
TZNAME:CST
DTSTART:20241103T070000
END:STANDARD
END:VTIMEZONE
BEGIN:VTIMEZONE
TZID:UTC
BEGIN:STANDARD
TZOFFSETFROM:+0000
TZOFFSETTO:+0000
TZNAME:UTC
DTSTART:20220101T000000
END:STANDARD
END:VTIMEZONE
BEGIN:VEVENT
DTSTART;TZID=America/Chicago:20230317T200000
DTEND;TZID=America/Chicago:20230317T200000
DTSTAMP:20260422T233455
CREATED:20230224T220847Z
LAST-MODIFIED:20230316T213527Z
UID:10000302-1679083200-1679083200@www.gruenetexas.com
SUMMARY:The Steel Woods
DESCRIPTION:Opener: Dallas Moore | Doors: 7pm
URL:https://www.gruenetexas.com/event/the-steel-woods/
LOCATION:Gruene Hall\, 1281 Gruene Rd\, New Braunfels\, 78130
CATEGORIES:Special Event,Ticketed Event
ATTACH;FMTTYPE=image/jpeg:https://www.gruenetexas.com/wp-content/uploads/2023/02/TheSteelWoods-SOLD-OUT-RtSB3n.tmp_.jpg
END:VEVENT
BEGIN:VEVENT
DTSTART;TZID=America/Chicago:20230315T200000
DTEND;TZID=America/Chicago:20230315T200000
DTSTAMP:20260422T233455
CREATED:20230224T220846Z
LAST-MODIFIED:20230316T013135Z
UID:10000298-1678910400-1678910400@www.gruenetexas.com
SUMMARY:Sierra Ferrell: Long Time Going Tour
DESCRIPTION: \n\n| \n\n \n\nOpener: Jaime Wyatt | Doors: 7pm \n\n\n\n\n\n\n\n\nAdd to calendar  \n\n\n\n\nGoogle Calendar \n\niCalendar \n\nOutlook 365 \n\nOutlook Live
URL:https://www.gruenetexas.com/event/sierra-ferrell-long-time-going-tour/
LOCATION:Gruene Hall\, 1281 Gruene Rd\, New Braunfels\, 78130
CATEGORIES:Special Event,Ticketed Event
ATTACH;FMTTYPE=image/jpeg:https://www.gruenetexas.com/wp-content/uploads/2023/02/SierraFerrell-SOLD-OUT-9DccKV.tmp_.jpg
END:VEVENT
BEGIN:VEVENT
DTSTART;TZID=UTC:20230314T203000
DTEND;TZID=UTC:20230314T203000
DTSTAMP:20260422T233455
CREATED:20230215T235346Z
LAST-MODIFIED:20230315T034738Z
UID:10000003-1678825800-1678825800@www.gruenetexas.com
SUMMARY:Two Ton Tuesday: Spring Break Show
DESCRIPTION:Cover at the door. All ages welcome. Come early for Swing Dance Lessons.
URL:https://www.gruenetexas.com/event/two-ton-tuesdays-spring-break-show/
LOCATION:Gruene Hall\, 1281 Gruene Rd\, New Braunfels\, 78130
CATEGORIES:Special Event,Ticketed Event
ATTACH;FMTTYPE=image/jpeg:https://www.gruenetexas.com/wp-content/uploads/2023/02/TTT.jpg
END:VEVENT
BEGIN:VEVENT
DTSTART;TZID=America/Chicago:20230314T180000
DTEND;TZID=America/Chicago:20230314T190000
DTSTAMP:20260422T233455
CREATED:20230224T220845Z
LAST-MODIFIED:20230322T205433Z
UID:10000296-1678816800-1678820400@www.gruenetexas.com
SUMMARY:Swing Dance Lessons
DESCRIPTION:Cover at the door. All ages welcome.
URL:https://www.gruenetexas.com/event/swing-dance-lessons-2/2023-03-14/
LOCATION:Gruene Hall\, 1281 Gruene Rd\, New Braunfels\, 78130
CATEGORIES:Special Event,Ticketed Event
END:VEVENT
END:VCALENDAR