BEGIN:VCALENDAR
VERSION:2.0
PRODID:-//Gruene - ECPv6.15.11//NONSGML v1.0//EN
CALSCALE:GREGORIAN
METHOD:PUBLISH
X-WR-CALNAME:Gruene
X-ORIGINAL-URL:https://www.gruenetexas.com
X-WR-CALDESC:Events for Gruene
REFRESH-INTERVAL;VALUE=DURATION:PT1H
X-Robots-Tag:noindex
X-PUBLISHED-TTL:PT1H
BEGIN:VTIMEZONE
TZID:America/Chicago
BEGIN:DAYLIGHT
TZOFFSETFROM:-0600
TZOFFSETTO:-0500
TZNAME:CDT
DTSTART:20220313T080000
END:DAYLIGHT
BEGIN:STANDARD
TZOFFSETFROM:-0500
TZOFFSETTO:-0600
TZNAME:CST
DTSTART:20221106T070000
END:STANDARD
BEGIN:DAYLIGHT
TZOFFSETFROM:-0600
TZOFFSETTO:-0500
TZNAME:CDT
DTSTART:20230312T080000
END:DAYLIGHT
BEGIN:STANDARD
TZOFFSETFROM:-0500
TZOFFSETTO:-0600
TZNAME:CST
DTSTART:20231105T070000
END:STANDARD
BEGIN:DAYLIGHT
TZOFFSETFROM:-0600
TZOFFSETTO:-0500
TZNAME:CDT
DTSTART:20240310T080000
END:DAYLIGHT
BEGIN:STANDARD
TZOFFSETFROM:-0500
TZOFFSETTO:-0600
TZNAME:CST
DTSTART:20241103T070000
END:STANDARD
END:VTIMEZONE
BEGIN:VEVENT
DTSTART;TZID=America/Chicago:20230923T210000
DTEND;TZID=America/Chicago:20230923T210000
DTSTAMP:20260422T172409
CREATED:20230717T185711Z
LAST-MODIFIED:20230823T183837Z
UID:10001247-1695502800-1695502800@www.gruenetexas.com
SUMMARY:Kin Faux
DESCRIPTION:Opener: Mario Flores | Doors: 8pm
URL:https://www.gruenetexas.com/event/kin-faux/
LOCATION:Gruene Hall\, 1281 Gruene Rd\, New Braunfels\, 78130
CATEGORIES:Special Event,Ticketed Event
ATTACH;FMTTYPE=image/jpeg:https://www.gruenetexas.com/wp-content/uploads/2023/07/Kin-Faux-IptSmW.tmp_.jpg
END:VEVENT
BEGIN:VEVENT
DTSTART;TZID=America/Chicago:20230922T210000
DTEND;TZID=America/Chicago:20230922T210000
DTSTAMP:20260422T172409
CREATED:20230717T182703Z
LAST-MODIFIED:20230918T183753Z
UID:10001244-1695416400-1695416400@www.gruenetexas.com
SUMMARY:Citizen Cope: An Evening with Clarence Greenwood
DESCRIPTION:at Gruene Hall
URL:https://www.gruenetexas.com/event/citizen-cope-an-evening-with-clarence-greenwood/
LOCATION:Gruene Hall\, 1281 Gruene Rd\, New Braunfels\, 78130
CATEGORIES:Special Event,Ticketed Event
ATTACH;FMTTYPE=image/jpeg:https://www.gruenetexas.com/wp-content/uploads/2023/07/Citizen-Cope-SOLD-OUT.jpg
END:VEVENT
BEGIN:VEVENT
DTSTART;TZID=America/Chicago:20230916T210000
DTEND;TZID=America/Chicago:20230916T210000
DTSTAMP:20260422T172409
CREATED:20230710T184150Z
LAST-MODIFIED:20230725T003450Z
UID:10001239-1694898000-1694898000@www.gruenetexas.com
SUMMARY:Jack Ingram
DESCRIPTION:Opener: JD Clayton | Doors: 8pm
URL:https://www.gruenetexas.com/event/jack-ingram-2/
LOCATION:Gruene Hall\, 1281 Gruene Rd\, New Braunfels\, 78130
CATEGORIES:Special Event,Ticketed Event
ATTACH;FMTTYPE=image/jpeg:https://www.gruenetexas.com/wp-content/uploads/2023/07/Jack-Ingram-iATewO.tmp_.jpg
END:VEVENT
BEGIN:VEVENT
DTSTART;TZID=America/Chicago:20230914T200000
DTEND;TZID=America/Chicago:20230914T200000
DTSTAMP:20260422T172409
CREATED:20230626T191147Z
LAST-MODIFIED:20230726T030146Z
UID:10001199-1694721600-1694721600@www.gruenetexas.com
SUMMARY:Gabby Barrett
DESCRIPTION:Opener: Catie Offerman | Doors: 7pm
URL:https://www.gruenetexas.com/event/gabby-barrett/
LOCATION:Gruene Hall\, 1281 Gruene Rd\, New Braunfels\, 78130
CATEGORIES:Special Event,Ticketed Event
ATTACH;FMTTYPE=image/jpeg:https://www.gruenetexas.com/wp-content/uploads/2023/06/Gabby-Barrett-SOLD-OUT.jpg
END:VEVENT
BEGIN:VEVENT
DTSTART;TZID=America/Chicago:20230909T210000
DTEND;TZID=America/Chicago:20230909T210000
DTSTAMP:20260422T172409
CREATED:20230710T184150Z
LAST-MODIFIED:20230831T001546Z
UID:10001238-1694293200-1694293200@www.gruenetexas.com
SUMMARY:Austin Meade
DESCRIPTION:Opener: Matt Kirk & The Gueyfarers | Doors: 8pm
URL:https://www.gruenetexas.com/event/austin-meade/
LOCATION:Gruene Hall\, 1281 Gruene Rd\, New Braunfels\, 78130
CATEGORIES:Special Event,Ticketed Event
ATTACH;FMTTYPE=image/jpeg:https://www.gruenetexas.com/wp-content/uploads/2023/07/Austin-Meade-3SuNel.tmp_.jpg
END:VEVENT
BEGIN:VEVENT
DTSTART;TZID=America/Chicago:20230908T200000
DTEND;TZID=America/Chicago:20230908T200000
DTSTAMP:20260422T172409
CREATED:20230710T184150Z
LAST-MODIFIED:20230830T182511Z
UID:10001237-1694203200-1694203200@www.gruenetexas.com
SUMMARY:John Michael Montgomery
DESCRIPTION:Opener: Hayden Baker | Doors: 7pm
URL:https://www.gruenetexas.com/event/john-michael-montgomery/
LOCATION:Gruene Hall\, 1281 Gruene Rd\, New Braunfels\, 78130
CATEGORIES:Special Event,Ticketed Event
ATTACH;FMTTYPE=image/jpeg:https://www.gruenetexas.com/wp-content/uploads/2023/07/John-Michael-Montgomery-SOLD-OUT.jpg
END:VEVENT
BEGIN:VEVENT
DTSTART;TZID=America/Chicago:20230902T210000
DTEND;TZID=America/Chicago:20230902T210000
DTSTAMP:20260422T172409
CREATED:20230829T191150Z
LAST-MODIFIED:20230829T191354Z
UID:10001376-1693688400-1693688400@www.gruenetexas.com
SUMMARY:A Special Honky-Tonk Evening with The Derailers
DESCRIPTION:No Opener | Doors: 8pm
URL:https://www.gruenetexas.com/event/a-special-honky-tonk-evening-with-the-derailers/
LOCATION:Gruene Hall\, 1281 Gruene Rd\, New Braunfels\, 78130
CATEGORIES:Special Event,Ticketed Event
ATTACH;FMTTYPE=image/jpeg:https://www.gruenetexas.com/wp-content/uploads/2023/08/The-Derailers-EnIqfR.tmp_.jpg
END:VEVENT
BEGIN:VEVENT
DTSTART;TZID=America/Chicago:20230826T210000
DTEND;TZID=America/Chicago:20230826T210000
DTSTAMP:20260422T172409
CREATED:20230705T182725Z
LAST-MODIFIED:20230817T180732Z
UID:10001234-1693083600-1693083600@www.gruenetexas.com
SUMMARY:William Beckmann
DESCRIPTION:Opener: Max Flinn | Doors: 8pm
URL:https://www.gruenetexas.com/event/william-beckmann-2/
LOCATION:Gruene Hall\, 1281 Gruene Rd\, New Braunfels\, 78130
CATEGORIES:Special Event,Ticketed Event
ATTACH;FMTTYPE=image/jpeg:https://www.gruenetexas.com/wp-content/uploads/2023/07/William-Beckmann-SOLD-OUT.jpg
END:VEVENT
BEGIN:VEVENT
DTSTART;TZID=America/Chicago:20230825T200000
DTEND;TZID=America/Chicago:20230825T200000
DTSTAMP:20260422T172409
CREATED:20230705T182725Z
LAST-MODIFIED:20230821T183929Z
UID:10001233-1692993600-1692993600@www.gruenetexas.com
SUMMARY:William Beckmann
DESCRIPTION:Opener: Graycie York | Doors: 7pm
URL:https://www.gruenetexas.com/event/william-beckmann/
LOCATION:Gruene Hall\, 1281 Gruene Rd\, New Braunfels\, 78130
CATEGORIES:Special Event,Ticketed Event
ATTACH;FMTTYPE=image/jpeg:https://www.gruenetexas.com/wp-content/uploads/2023/07/William-Beckmann-SOLD-OUT.jpg
END:VEVENT
BEGIN:VEVENT
DTSTART;TZID=America/Chicago:20230822T203000
DTEND;TZID=America/Chicago:20230822T203000
DTSTAMP:20260422T172409
CREATED:20230304T181536Z
LAST-MODIFIED:20230322T205104Z
UID:10000581-1692736200-1692736200@www.gruenetexas.com
SUMMARY:Two Ton Tuesday
DESCRIPTION:Cover at the door. All ages welcome. Come early for Swing Dance Lessons.
URL:https://www.gruenetexas.com/event/two-ton-tuesday/2023-08-22/
LOCATION:Gruene Hall\, 1281 Gruene Rd\, New Braunfels\, 78130
CATEGORIES:Special Event,Ticketed Event
ATTACH;FMTTYPE=image/jpeg:https://www.gruenetexas.com/wp-content/uploads/2023/03/TTT-1-Rbetxx.tmp_.jpg
END:VEVENT
BEGIN:VEVENT
DTSTART;TZID=America/Chicago:20230822T180000
DTEND;TZID=America/Chicago:20230822T190000
DTSTAMP:20260422T172409
CREATED:20230322T205923Z
LAST-MODIFIED:20230322T210046Z
UID:10000615-1692727200-1692730800@www.gruenetexas.com
SUMMARY:Swing Dance Lessons
DESCRIPTION:Cover at the door. All ages welcome.
URL:https://www.gruenetexas.com/event/swing-dance-lessons-2-2/2023-08-22/
LOCATION:Gruene Hall\, 1281 Gruene Rd\, New Braunfels\, 78130
CATEGORIES:Special Event,Ticketed Event
END:VEVENT
BEGIN:VEVENT
DTSTART;TZID=America/Chicago:20230819T210000
DTEND;TZID=America/Chicago:20230819T210000
DTSTAMP:20260422T172409
CREATED:20230410T191207Z
LAST-MODIFIED:20230609T195038Z
UID:10000735-1692478800-1692478800@www.gruenetexas.com
SUMMARY:Pony Bradshaw
DESCRIPTION: \nOpener: Gabe Lee | Doors: 8pm
URL:https://www.gruenetexas.com/event/pony-bradshaw/
LOCATION:Gruene Hall\, 1281 Gruene Rd\, New Braunfels\, 78130
CATEGORIES:Special Event,Ticketed Event
ATTACH;FMTTYPE=image/jpeg:https://www.gruenetexas.com/wp-content/uploads/2023/04/Pony-Bradshaw-KQArIi.tmp_.jpg
END:VEVENT
BEGIN:VEVENT
DTSTART;TZID=America/Chicago:20230818T200000
DTEND;TZID=America/Chicago:20230818T200000
DTSTAMP:20260422T172409
CREATED:20230424T184207Z
LAST-MODIFIED:20230819T021723Z
UID:10000843-1692388800-1692388800@www.gruenetexas.com
SUMMARY:Ricky Skaggs & Kentucky Thunder
DESCRIPTION:Opener: The Hillsiders | Doors: 7pm
URL:https://www.gruenetexas.com/event/ricky-skaggs-kentucky-thunder/
LOCATION:Gruene Hall\, 1281 Gruene Rd\, New Braunfels\, 78130
CATEGORIES:Special Event,Ticketed Event
ATTACH;FMTTYPE=image/jpeg:https://www.gruenetexas.com/wp-content/uploads/2023/04/Ricky-Skaggs-SOLD-OUT.jpg
END:VEVENT
BEGIN:VEVENT
DTSTART;TZID=America/Chicago:20230815T203000
DTEND;TZID=America/Chicago:20230815T203000
DTSTAMP:20260422T172409
CREATED:20230304T181536Z
LAST-MODIFIED:20230322T205104Z
UID:10000580-1692131400-1692131400@www.gruenetexas.com
SUMMARY:Two Ton Tuesday
DESCRIPTION:Cover at the door. All ages welcome. Come early for Swing Dance Lessons.
URL:https://www.gruenetexas.com/event/two-ton-tuesday/2023-08-15/
LOCATION:Gruene Hall\, 1281 Gruene Rd\, New Braunfels\, 78130
CATEGORIES:Special Event,Ticketed Event
ATTACH;FMTTYPE=image/jpeg:https://www.gruenetexas.com/wp-content/uploads/2023/03/TTT-1-Rbetxx.tmp_.jpg
END:VEVENT
BEGIN:VEVENT
DTSTART;TZID=America/Chicago:20230815T180000
DTEND;TZID=America/Chicago:20230815T190000
DTSTAMP:20260422T172409
CREATED:20230322T205923Z
LAST-MODIFIED:20230322T210046Z
UID:10000614-1692122400-1692126000@www.gruenetexas.com
SUMMARY:Swing Dance Lessons
DESCRIPTION:Cover at the door. All ages welcome.
URL:https://www.gruenetexas.com/event/swing-dance-lessons-2-2/2023-08-15/
LOCATION:Gruene Hall\, 1281 Gruene Rd\, New Braunfels\, 78130
CATEGORIES:Special Event,Ticketed Event
END:VEVENT
BEGIN:VEVENT
DTSTART;TZID=America/Chicago:20230812T210000
DTEND;TZID=America/Chicago:20230812T210000
DTSTAMP:20260422T172409
CREATED:20230515T181147Z
LAST-MODIFIED:20230807T182929Z
UID:10001077-1691874000-1691874000@www.gruenetexas.com
SUMMARY:Shinyribs
DESCRIPTION:Opener: Zak Webb | Doors: 8pm
URL:https://www.gruenetexas.com/event/shinyribs/
LOCATION:Gruene Hall\, 1281 Gruene Rd\, New Braunfels\, 78130
CATEGORIES:Special Event,Ticketed Event
ATTACH;FMTTYPE=image/jpeg:https://www.gruenetexas.com/wp-content/uploads/2023/05/Shiny-Ribs-SOLD-OUT.jpg
END:VEVENT
BEGIN:VEVENT
DTSTART;TZID=America/Chicago:20230811T200000
DTEND;TZID=America/Chicago:20230811T200000
DTSTAMP:20260422T172409
CREATED:20230626T191145Z
LAST-MODIFIED:20230809T183640Z
UID:10001198-1691784000-1691784000@www.gruenetexas.com
SUMMARY:Braxton Keith
DESCRIPTION:Opener: Zach Meadows | Doors: 7pm
URL:https://www.gruenetexas.com/event/braxton-keith/
LOCATION:Gruene Hall\, 1281 Gruene Rd\, New Braunfels\, 78130
CATEGORIES:Special Event,Ticketed Event
ATTACH;FMTTYPE=image/jpeg:https://www.gruenetexas.com/wp-content/uploads/2023/06/Braxton-Keith-SOLD-OUT.jpg
END:VEVENT
BEGIN:VEVENT
DTSTART;TZID=America/Chicago:20230808T203000
DTEND;TZID=America/Chicago:20230808T203000
DTSTAMP:20260422T172409
CREATED:20230304T181536Z
LAST-MODIFIED:20230322T205104Z
UID:10000579-1691526600-1691526600@www.gruenetexas.com
SUMMARY:Two Ton Tuesday
DESCRIPTION:Cover at the door. All ages welcome. Come early for Swing Dance Lessons.
URL:https://www.gruenetexas.com/event/two-ton-tuesday/2023-08-08/
LOCATION:Gruene Hall\, 1281 Gruene Rd\, New Braunfels\, 78130
CATEGORIES:Special Event,Ticketed Event
ATTACH;FMTTYPE=image/jpeg:https://www.gruenetexas.com/wp-content/uploads/2023/03/TTT-1-Rbetxx.tmp_.jpg
END:VEVENT
BEGIN:VEVENT
DTSTART;TZID=America/Chicago:20230808T180000
DTEND;TZID=America/Chicago:20230808T190000
DTSTAMP:20260422T172409
CREATED:20230322T205923Z
LAST-MODIFIED:20230322T210046Z
UID:10000613-1691517600-1691521200@www.gruenetexas.com
SUMMARY:Swing Dance Lessons
DESCRIPTION:Cover at the door. All ages welcome.
URL:https://www.gruenetexas.com/event/swing-dance-lessons-2-2/2023-08-08/
LOCATION:Gruene Hall\, 1281 Gruene Rd\, New Braunfels\, 78130
CATEGORIES:Special Event,Ticketed Event
END:VEVENT
BEGIN:VEVENT
DTSTART;TZID=America/Chicago:20230805T210000
DTEND;TZID=America/Chicago:20230805T210000
DTSTAMP:20260422T172409
CREATED:20230508T184153Z
LAST-MODIFIED:20230731T195626Z
UID:10000902-1691269200-1691269200@www.gruenetexas.com
SUMMARY:Bob Schneider
DESCRIPTION:Opener: Braedon Barnhill | Doors: 8pm
URL:https://www.gruenetexas.com/event/bob-schneider/
LOCATION:Gruene Hall\, 1281 Gruene Rd\, New Braunfels\, 78130
CATEGORIES:Special Event,Ticketed Event
ATTACH;FMTTYPE=image/jpeg:https://www.gruenetexas.com/wp-content/uploads/2023/05/Bob-Schneider.jpg
END:VEVENT
BEGIN:VEVENT
DTSTART;TZID=America/Chicago:20230804T200000
DTEND;TZID=America/Chicago:20230804T200000
DTSTAMP:20260422T172409
CREATED:20230508T184153Z
LAST-MODIFIED:20230805T023237Z
UID:10000901-1691179200-1691179200@www.gruenetexas.com
SUMMARY:Them Dirty Roses
DESCRIPTION:Opener 1: Rhett Embry | Opener 2: The Droptines | Doors: 7pm
URL:https://www.gruenetexas.com/event/them-dirty-roses/
LOCATION:Gruene Hall\, 1281 Gruene Rd\, New Braunfels\, 78130
CATEGORIES:Special Event,Ticketed Event
ATTACH;FMTTYPE=image/jpeg:https://www.gruenetexas.com/wp-content/uploads/2023/05/Them-Dirty-Roses.jpg
END:VEVENT
BEGIN:VEVENT
DTSTART;TZID=America/Chicago:20230801T203000
DTEND;TZID=America/Chicago:20230801T203000
DTSTAMP:20260422T172409
CREATED:20230304T181536Z
LAST-MODIFIED:20230322T205104Z
UID:10000578-1690921800-1690921800@www.gruenetexas.com
SUMMARY:Two Ton Tuesday
DESCRIPTION:Cover at the door. All ages welcome. Come early for Swing Dance Lessons.
URL:https://www.gruenetexas.com/event/two-ton-tuesday/2023-08-01/
LOCATION:Gruene Hall\, 1281 Gruene Rd\, New Braunfels\, 78130
CATEGORIES:Special Event,Ticketed Event
ATTACH;FMTTYPE=image/jpeg:https://www.gruenetexas.com/wp-content/uploads/2023/03/TTT-1-Rbetxx.tmp_.jpg
END:VEVENT
BEGIN:VEVENT
DTSTART;TZID=America/Chicago:20230801T180000
DTEND;TZID=America/Chicago:20230801T190000
DTSTAMP:20260422T172409
CREATED:20230322T205923Z
LAST-MODIFIED:20230322T210046Z
UID:10000612-1690912800-1690916400@www.gruenetexas.com
SUMMARY:Swing Dance Lessons
DESCRIPTION:Cover at the door. All ages welcome.
URL:https://www.gruenetexas.com/event/swing-dance-lessons-2-2/2023-08-01/
LOCATION:Gruene Hall\, 1281 Gruene Rd\, New Braunfels\, 78130
CATEGORIES:Special Event,Ticketed Event
END:VEVENT
BEGIN:VEVENT
DTSTART;TZID=America/Chicago:20230729T210000
DTEND;TZID=America/Chicago:20230729T210000
DTSTAMP:20260422T172409
CREATED:20230501T185741Z
LAST-MODIFIED:20230717T180237Z
UID:10000887-1690664400-1690664400@www.gruenetexas.com
SUMMARY:Roger Creager’s Birthday Show (Full Band)
DESCRIPTION:Opener: Ray Johnston | Doors: 8pm
URL:https://www.gruenetexas.com/event/roger-creagers-birthday-show-full-band-3/
LOCATION:Gruene Hall\, 1281 Gruene Rd\, New Braunfels\, 78130
CATEGORIES:Special Event,Ticketed Event
ATTACH;FMTTYPE=image/jpeg:https://www.gruenetexas.com/wp-content/uploads/2023/05/Roger-Creager-SOLD-OUT.jpg
END:VEVENT
BEGIN:VEVENT
DTSTART;TZID=America/Chicago:20230728T200000
DTEND;TZID=America/Chicago:20230728T200000
DTSTAMP:20260422T172409
CREATED:20230501T185741Z
LAST-MODIFIED:20230713T214647Z
UID:10000886-1690574400-1690574400@www.gruenetexas.com
SUMMARY:Roger Creager’s Birthday Show (Full Band)
DESCRIPTION:Opener: Jordan Nix | Doors: 7pm
URL:https://www.gruenetexas.com/event/roger-creagers-birthday-show-full-band-2/
LOCATION:Gruene Hall\, 1281 Gruene Rd\, New Braunfels\, 78130
CATEGORIES:Special Event,Ticketed Event
ATTACH;FMTTYPE=image/jpeg:https://www.gruenetexas.com/wp-content/uploads/2023/05/Roger-Creager-SOLD-OUT.jpg
END:VEVENT
BEGIN:VEVENT
DTSTART;TZID=America/Chicago:20230727T200000
DTEND;TZID=America/Chicago:20230727T200000
DTSTAMP:20260422T172409
CREATED:20230501T185740Z
LAST-MODIFIED:20230728T000114Z
UID:10000885-1690488000-1690488000@www.gruenetexas.com
SUMMARY:Roger Creager’s Birthday Show (Full Band)
DESCRIPTION:Opener: Love & Chaos | Doors: 7pm
URL:https://www.gruenetexas.com/event/roger-creagers-birthday-show-full-band/
LOCATION:Gruene Hall\, 1281 Gruene Rd\, New Braunfels\, 78130
CATEGORIES:Special Event,Ticketed Event
ATTACH;FMTTYPE=image/jpeg:https://www.gruenetexas.com/wp-content/uploads/2023/05/Roger-Creager-SOLD-OUT.jpg
END:VEVENT
BEGIN:VEVENT
DTSTART;TZID=America/Chicago:20230726T200000
DTEND;TZID=America/Chicago:20230726T200000
DTSTAMP:20260422T172409
CREATED:20230501T185740Z
LAST-MODIFIED:20230629T014228Z
UID:10000884-1690401600-1690401600@www.gruenetexas.com
SUMMARY:Roger Creager’s Birthday Show (Acoustic w/ special guests)
DESCRIPTION:(Acoustic with Special Guests Trent Willmon & Thom Sheppard) \nDoors: 7pm
URL:https://www.gruenetexas.com/event/roger-creagers-birthday-show-acoustic-w-special-guests/
LOCATION:Gruene Hall\, 1281 Gruene Rd\, New Braunfels\, 78130
CATEGORIES:Special Event,Ticketed Event
ATTACH;FMTTYPE=image/jpeg:https://www.gruenetexas.com/wp-content/uploads/2023/05/Roger-Creager-1j43uq.tmp_.jpg
END:VEVENT
BEGIN:VEVENT
DTSTART;TZID=America/Chicago:20230725T203000
DTEND;TZID=America/Chicago:20230725T203000
DTSTAMP:20260422T172409
CREATED:20230304T181536Z
LAST-MODIFIED:20230322T205104Z
UID:10000577-1690317000-1690317000@www.gruenetexas.com
SUMMARY:Two Ton Tuesday
DESCRIPTION:Cover at the door. All ages welcome. Come early for Swing Dance Lessons.
URL:https://www.gruenetexas.com/event/two-ton-tuesday/2023-07-25/
LOCATION:Gruene Hall\, 1281 Gruene Rd\, New Braunfels\, 78130
CATEGORIES:Special Event,Ticketed Event
ATTACH;FMTTYPE=image/jpeg:https://www.gruenetexas.com/wp-content/uploads/2023/03/TTT-1-Rbetxx.tmp_.jpg
END:VEVENT
BEGIN:VEVENT
DTSTART;TZID=America/Chicago:20230725T180000
DTEND;TZID=America/Chicago:20230725T190000
DTSTAMP:20260422T172409
CREATED:20230322T205923Z
LAST-MODIFIED:20230322T210046Z
UID:10000611-1690308000-1690311600@www.gruenetexas.com
SUMMARY:Swing Dance Lessons
DESCRIPTION:Cover at the door. All ages welcome.
URL:https://www.gruenetexas.com/event/swing-dance-lessons-2-2/2023-07-25/
LOCATION:Gruene Hall\, 1281 Gruene Rd\, New Braunfels\, 78130
CATEGORIES:Special Event,Ticketed Event
END:VEVENT
BEGIN:VEVENT
DTSTART;TZID=America/Chicago:20230722T210000
DTEND;TZID=America/Chicago:20230722T210000
DTSTAMP:20260422T172409
CREATED:20230410T194145Z
LAST-MODIFIED:20230719T232528Z
UID:10000736-1690059600-1690059600@www.gruenetexas.com
SUMMARY:Cooder Graw
DESCRIPTION: Opener: Charlie Shafter | Doors: 8pm
URL:https://www.gruenetexas.com/event/cooder-graw/
LOCATION:Gruene Hall\, 1281 Gruene Rd\, New Braunfels\, 78130
CATEGORIES:Special Event,Ticketed Event
ATTACH;FMTTYPE=image/jpeg:https://www.gruenetexas.com/wp-content/uploads/2023/04/Cooder-Graw-SOLD-OUT.jpg
END:VEVENT
END:VCALENDAR