BEGIN:VCALENDAR
VERSION:2.0
PRODID:-//Gruene - ECPv6.15.11//NONSGML v1.0//EN
CALSCALE:GREGORIAN
METHOD:PUBLISH
X-WR-CALNAME:Gruene
X-ORIGINAL-URL:https://www.gruenetexas.com
X-WR-CALDESC:Events for Gruene
REFRESH-INTERVAL;VALUE=DURATION:PT1H
X-Robots-Tag:noindex
X-PUBLISHED-TTL:PT1H
BEGIN:VTIMEZONE
TZID:America/Chicago
BEGIN:DAYLIGHT
TZOFFSETFROM:-0600
TZOFFSETTO:-0500
TZNAME:CDT
DTSTART:20220313T080000
END:DAYLIGHT
BEGIN:STANDARD
TZOFFSETFROM:-0500
TZOFFSETTO:-0600
TZNAME:CST
DTSTART:20221106T070000
END:STANDARD
BEGIN:DAYLIGHT
TZOFFSETFROM:-0600
TZOFFSETTO:-0500
TZNAME:CDT
DTSTART:20230312T080000
END:DAYLIGHT
BEGIN:STANDARD
TZOFFSETFROM:-0500
TZOFFSETTO:-0600
TZNAME:CST
DTSTART:20231105T070000
END:STANDARD
BEGIN:DAYLIGHT
TZOFFSETFROM:-0600
TZOFFSETTO:-0500
TZNAME:CDT
DTSTART:20240310T080000
END:DAYLIGHT
BEGIN:STANDARD
TZOFFSETFROM:-0500
TZOFFSETTO:-0600
TZNAME:CST
DTSTART:20241103T070000
END:STANDARD
BEGIN:DAYLIGHT
TZOFFSETFROM:-0600
TZOFFSETTO:-0500
TZNAME:CDT
DTSTART:20250309T080000
END:DAYLIGHT
BEGIN:STANDARD
TZOFFSETFROM:-0500
TZOFFSETTO:-0600
TZNAME:CST
DTSTART:20251102T070000
END:STANDARD
END:VTIMEZONE
BEGIN:VEVENT
DTSTART;TZID=America/Chicago:20240217T210000
DTEND;TZID=America/Chicago:20240217T210000
DTSTAMP:20260422T131245
CREATED:20231211T204202Z
LAST-MODIFIED:20240215T011026Z
UID:10001593-1708203600-1708203600@www.gruenetexas.com
SUMMARY:Uncle Lucius
DESCRIPTION:Opener: Johnny Dango & The Stinking Roses | Doors: 8pm
URL:https://www.gruenetexas.com/event/uncle-lucius-2/
LOCATION:Gruene Hall\, 1281 Gruene Rd\, New Braunfels\, 78130
CATEGORIES:Special Event,Ticketed Event
ATTACH;FMTTYPE=image/jpeg:https://www.gruenetexas.com/wp-content/uploads/2023/12/Uncle-Lucius-SOLD-OUT.jpg
END:VEVENT
BEGIN:VEVENT
DTSTART;TZID=America/Chicago:20240216T200000
DTEND;TZID=America/Chicago:20240216T200000
DTSTAMP:20260422T131245
CREATED:20231211T204201Z
LAST-MODIFIED:20231219T233734Z
UID:10001592-1708113600-1708113600@www.gruenetexas.com
SUMMARY:Uncle Lucius
DESCRIPTION:Opener: Ramsay Midwood | Doors: 7pm
URL:https://www.gruenetexas.com/event/uncle-lucius/
LOCATION:Gruene Hall\, 1281 Gruene Rd\, New Braunfels\, 78130
CATEGORIES:Special Event,Ticketed Event
ATTACH;FMTTYPE=image/jpeg:https://www.gruenetexas.com/wp-content/uploads/2023/12/Uncle-Lucius-sEiQ56.tmp_.jpg
END:VEVENT
BEGIN:VEVENT
DTSTART;TZID=America/Chicago:20240214T200000
DTEND;TZID=America/Chicago:20240214T200000
DTSTAMP:20260422T131245
CREATED:20231106T202710Z
LAST-MODIFIED:20231106T205502Z
UID:10001516-1707940800-1707940800@www.gruenetexas.com
SUMMARY:Valentine’s Day w/ Dale Watson & His Lone Stars
DESCRIPTION:No Opener | Doors: 7pm
URL:https://www.gruenetexas.com/event/valentines-day-w-dale-watson-his-lone-stars/
LOCATION:Gruene Hall\, 1281 Gruene Rd\, New Braunfels\, 78130
CATEGORIES:Special Event,Ticketed Event
ATTACH;FMTTYPE=image/jpeg:https://www.gruenetexas.com/wp-content/uploads/2023/11/Dale-Watson-Valentine-V75pQ9.tmp_.jpg
END:VEVENT
BEGIN:VEVENT
DTSTART;TZID=America/Chicago:20240210T220000
DTEND;TZID=America/Chicago:20240210T220000
DTSTAMP:20260422T131245
CREATED:20231113T204230Z
LAST-MODIFIED:20240110T013200Z
UID:10001525-1707602400-1707602400@www.gruenetexas.com
SUMMARY:Pat Green (Full Band)
DESCRIPTION:Opener: Walt Wilkins | Doors: 9pm
URL:https://www.gruenetexas.com/event/pat-green-2/
LOCATION:Gruene Hall\, 1281 Gruene Rd\, New Braunfels\, 78130
CATEGORIES:Special Event,Ticketed Event
ATTACH;FMTTYPE=image/jpeg:https://www.gruenetexas.com/wp-content/uploads/2023/11/Pat-Green-SOLD-OUT.jpg
END:VEVENT
BEGIN:VEVENT
DTSTART;TZID=America/Chicago:20240210T180000
DTEND;TZID=America/Chicago:20240210T180000
DTSTAMP:20260422T131245
CREATED:20231113T204229Z
LAST-MODIFIED:20240110T013400Z
UID:10001524-1707588000-1707588000@www.gruenetexas.com
SUMMARY:Pat Green (Acoustic Full Band)
DESCRIPTION:Opener: Walt Wilkins | Doors: 5pm
URL:https://www.gruenetexas.com/event/pat-green/
LOCATION:Gruene Hall\, 1281 Gruene Rd\, New Braunfels\, 78130
CATEGORIES:Special Event,Ticketed Event
ATTACH;FMTTYPE=image/jpeg:https://www.gruenetexas.com/wp-content/uploads/2023/11/Pat-Green-SOLD-OUT.jpg
END:VEVENT
BEGIN:VEVENT
DTSTART;TZID=America/Chicago:20240209T220000
DTEND;TZID=America/Chicago:20240209T220000
DTSTAMP:20260422T131245
CREATED:20231127T202658Z
LAST-MODIFIED:20240130T203000Z
UID:10001537-1707516000-1707516000@www.gruenetexas.com
SUMMARY:Pat Green (Full Band)
DESCRIPTION:Opener: Django Walker | Doors: 9pm
URL:https://www.gruenetexas.com/event/pat-green-full-band/
LOCATION:Gruene Hall\, 1281 Gruene Rd\, New Braunfels\, 78130
CATEGORIES:Special Event,Ticketed Event
ATTACH;FMTTYPE=image/jpeg:https://www.gruenetexas.com/wp-content/uploads/2023/11/Pat-Green-SOLD-OUT1.jpg
END:VEVENT
BEGIN:VEVENT
DTSTART;TZID=America/Chicago:20240209T180000
DTEND;TZID=America/Chicago:20240209T180000
DTSTAMP:20260422T131245
CREATED:20231127T202658Z
LAST-MODIFIED:20240210T035532Z
UID:10001536-1707501600-1707501600@www.gruenetexas.com
SUMMARY:Pat Green (Acoustic Full Band)
DESCRIPTION:Opener: Django Walker | Doors: 5pm
URL:https://www.gruenetexas.com/event/pat-green-acoustic-full-band/
LOCATION:Gruene Hall\, 1281 Gruene Rd\, New Braunfels\, 78130
CATEGORIES:Special Event,Ticketed Event
ATTACH;FMTTYPE=image/jpeg:https://www.gruenetexas.com/wp-content/uploads/2023/11/Pat-Green-SOLD-OUT1.jpg
END:VEVENT
BEGIN:VEVENT
DTSTART;TZID=America/Chicago:20240203T210000
DTEND;TZID=America/Chicago:20240203T210000
DTSTAMP:20260422T131245
CREATED:20231205T202648Z
LAST-MODIFIED:20240202T234910Z
UID:10001554-1706994000-1706994000@www.gruenetexas.com
SUMMARY:Stoney LaRue
DESCRIPTION:Opener: Bo Phillips | Doors: 8pm
URL:https://www.gruenetexas.com/event/stoney-larue-4/
LOCATION:Gruene Hall\, 1281 Gruene Rd\, New Braunfels\, 78130
CATEGORIES:Special Event,Ticketed Event
ATTACH;FMTTYPE=image/jpeg:https://www.gruenetexas.com/wp-content/uploads/2023/12/Stoney-LaRue-SOLD-OUT.jpg
END:VEVENT
BEGIN:VEVENT
DTSTART;TZID=America/Chicago:20240202T200000
DTEND;TZID=America/Chicago:20240202T200000
DTSTAMP:20260422T131245
CREATED:20231205T202648Z
LAST-MODIFIED:20240202T234841Z
UID:10001553-1706904000-1706904000@www.gruenetexas.com
SUMMARY:Stoney LaRue
DESCRIPTION:Opener: Julianna Rankin | Doors: 7pm
URL:https://www.gruenetexas.com/event/stoney-larue-3/
LOCATION:Gruene Hall\, 1281 Gruene Rd\, New Braunfels\, 78130
CATEGORIES:Special Event,Ticketed Event
ATTACH;FMTTYPE=image/jpeg:https://www.gruenetexas.com/wp-content/uploads/2023/12/Stoney-LaRue-SOLD-OUT.jpg
END:VEVENT
BEGIN:VEVENT
DTSTART;TZID=America/Chicago:20240127T210000
DTEND;TZID=America/Chicago:20240127T210000
DTSTAMP:20260422T131245
CREATED:20231127T202658Z
LAST-MODIFIED:20231127T204100Z
UID:10001535-1706389200-1706389200@www.gruenetexas.com
SUMMARY:Triston Marez
DESCRIPTION:Opener: TBA | Doors: 8pm
URL:https://www.gruenetexas.com/event/triston-marez-2/
LOCATION:Gruene Hall\, 1281 Gruene Rd\, New Braunfels\, 78130
CATEGORIES:Special Event,Ticketed Event
ATTACH;FMTTYPE=image/jpeg:https://www.gruenetexas.com/wp-content/uploads/2023/11/Triston-Marez-rz9jjJ.tmp_.jpg
END:VEVENT
BEGIN:VEVENT
DTSTART;TZID=America/Chicago:20240125T200000
DTEND;TZID=America/Chicago:20240125T200000
DTSTAMP:20260422T131245
CREATED:20231205T202648Z
LAST-MODIFIED:20240113T034711Z
UID:10001552-1706212800-1706212800@www.gruenetexas.com
SUMMARY:Lyle Lovett and his Large Band
DESCRIPTION:No Opener | Doors: 7pm
URL:https://www.gruenetexas.com/event/lyle-lovett-and-his-acoustic-group-2/
LOCATION:Gruene Hall\, 1281 Gruene Rd\, New Braunfels\, 78130
CATEGORIES:Special Event,Ticketed Event
ATTACH;FMTTYPE=image/jpeg:https://www.gruenetexas.com/wp-content/uploads/2023/12/Lyle-Lovett-and-his-Large-Band-SOLD-OUT.jpg
END:VEVENT
BEGIN:VEVENT
DTSTART;TZID=America/Chicago:20240124T200000
DTEND;TZID=America/Chicago:20240124T200000
DTSTAMP:20260422T131245
CREATED:20231205T202648Z
LAST-MODIFIED:20240118T201248Z
UID:10001551-1706126400-1706126400@www.gruenetexas.com
SUMMARY:Lyle Lovett and his Large Band
DESCRIPTION:No Opener | Doors: 7pm
URL:https://www.gruenetexas.com/event/lyle-lovett-and-his-acoustic-group/
LOCATION:Gruene Hall\, 1281 Gruene Rd\, New Braunfels\, 78130
CATEGORIES:Special Event,Ticketed Event
ATTACH;FMTTYPE=image/jpeg:https://www.gruenetexas.com/wp-content/uploads/2023/12/Lyle-Lovett-and-his-Large-Band-SOLD-OUT.jpg
END:VEVENT
BEGIN:VEVENT
DTSTART;TZID=America/Chicago:20240120T210000
DTEND;TZID=America/Chicago:20240120T210000
DTSTAMP:20260422T131245
CREATED:20230828T181148Z
LAST-MODIFIED:20240116T020553Z
UID:10001371-1705784400-1705784400@www.gruenetexas.com
SUMMARY:The Panhandlers
DESCRIPTION:Opener: Tyler Halverson | Doors: 8pm
URL:https://www.gruenetexas.com/event/the-panhandlers/
LOCATION:Gruene Hall\, 1281 Gruene Rd\, New Braunfels\, 78130
CATEGORIES:Special Event,Ticketed Event
ATTACH;FMTTYPE=image/jpeg:https://www.gruenetexas.com/wp-content/uploads/2023/08/The-Panhandlers-SOLD-OUT.jpg
END:VEVENT
BEGIN:VEVENT
DTSTART;TZID=America/Chicago:20240119T200000
DTEND;TZID=America/Chicago:20240119T200000
DTSTAMP:20260422T131245
CREATED:20231023T184201Z
LAST-MODIFIED:20231218T200022Z
UID:10001481-1705694400-1705694400@www.gruenetexas.com
SUMMARY:The Bacon Brothers
DESCRIPTION:Opener: Cindy Alexander | Doors: 7pm
URL:https://www.gruenetexas.com/event/the-bacon-brothers-2/
LOCATION:Gruene Hall\, 1281 Gruene Rd\, New Braunfels\, 78130
CATEGORIES:Special Event,Ticketed Event
ATTACH;FMTTYPE=image/jpeg:https://www.gruenetexas.com/wp-content/uploads/2023/06/Bacon-Brothers-SOLD-OUT.jpg
END:VEVENT
BEGIN:VEVENT
DTSTART;TZID=America/Chicago:20240113T210000
DTEND;TZID=America/Chicago:20240113T210000
DTSTAMP:20260422T131245
CREATED:20231205T202648Z
LAST-MODIFIED:20240104T011130Z
UID:10001550-1705179600-1705179600@www.gruenetexas.com
SUMMARY:Grady Spencer & The Work
DESCRIPTION:Opener: Sachin & The Porch | Doors: 8pm
URL:https://www.gruenetexas.com/event/grady-spencer-the-work/
LOCATION:Gruene Hall\, 1281 Gruene Rd\, New Braunfels\, 78130
CATEGORIES:Special Event,Ticketed Event
ATTACH;FMTTYPE=image/jpeg:https://www.gruenetexas.com/wp-content/uploads/2023/12/Grady-Spencer-ONZKd2.tmp_.jpg
END:VEVENT
BEGIN:VEVENT
DTSTART;TZID=America/Chicago:20240106T210000
DTEND;TZID=America/Chicago:20240106T210000
DTSTAMP:20260422T131245
CREATED:20231023T184201Z
LAST-MODIFIED:20231220T011743Z
UID:10001479-1704574800-1704574800@www.gruenetexas.com
SUMMARY:Kody West
DESCRIPTION:Opener: Mitchell Ferguson | Doors: 8pm
URL:https://www.gruenetexas.com/event/kody-west-2/
LOCATION:Gruene Hall\, 1281 Gruene Rd\, New Braunfels\, 78130
CATEGORIES:Special Event,Ticketed Event
ATTACH;FMTTYPE=image/jpeg:https://www.gruenetexas.com/wp-content/uploads/2023/10/Kody-West-oNrfSa.tmp_.jpg
END:VEVENT
BEGIN:VEVENT
DTSTART;TZID=America/Chicago:20231231T200000
DTEND;TZID=America/Chicago:20231231T200000
DTSTAMP:20260422T131245
CREATED:20230925T195725Z
LAST-MODIFIED:20231207T201834Z
UID:10001436-1704052800-1704052800@www.gruenetexas.com
SUMMARY:New Year's Eve with The Mavericks
DESCRIPTION:Special Guest: Henri Herbert | Doors: 7pm
URL:https://www.gruenetexas.com/event/an-evening-with-the-mavericks-3/
LOCATION:Gruene Hall\, 1281 Gruene Rd\, New Braunfels\, 78130
CATEGORIES:Special Event,Ticketed Event
ATTACH;FMTTYPE=image/jpeg:https://www.gruenetexas.com/wp-content/uploads/2023/09/Mavericks-NYE-SOLD-OUT.jpg
END:VEVENT
BEGIN:VEVENT
DTSTART;TZID=America/Chicago:20231230T210000
DTEND;TZID=America/Chicago:20231230T210000
DTSTAMP:20260422T131245
CREATED:20230925T195725Z
LAST-MODIFIED:20231106T200810Z
UID:10001435-1703970000-1703970000@www.gruenetexas.com
SUMMARY:An Evening with The Mavericks
DESCRIPTION:No Opener | Doors: 8pm
URL:https://www.gruenetexas.com/event/an-evening-with-the-mavericks-2/
LOCATION:Gruene Hall\, 1281 Gruene Rd\, New Braunfels\, 78130
CATEGORIES:Special Event,Ticketed Event
ATTACH;FMTTYPE=image/jpeg:https://www.gruenetexas.com/wp-content/uploads/2023/09/Mavericks-SOLD-OUT.jpg
END:VEVENT
BEGIN:VEVENT
DTSTART;TZID=America/Chicago:20231229T200000
DTEND;TZID=America/Chicago:20231229T200000
DTSTAMP:20260422T131245
CREATED:20230925T195724Z
LAST-MODIFIED:20231013T182144Z
UID:10001434-1703880000-1703880000@www.gruenetexas.com
SUMMARY:An Evening with The Mavericks
DESCRIPTION:No Opener | Doors: 7pm
URL:https://www.gruenetexas.com/event/an-evening-with-the-mavericks/
LOCATION:Gruene Hall\, 1281 Gruene Rd\, New Braunfels\, 78130
CATEGORIES:Special Event,Ticketed Event
ATTACH;FMTTYPE=image/jpeg:https://www.gruenetexas.com/wp-content/uploads/2023/09/Mavericks-SOLD-OUT.jpg
END:VEVENT
BEGIN:VEVENT
DTSTART;TZID=America/Chicago:20231226T203000
DTEND;TZID=America/Chicago:20231226T203000
DTSTAMP:20260422T131245
CREATED:20231024T025655Z
LAST-MODIFIED:20231024T182756Z
UID:10001483-1703622600-1703622600@www.gruenetexas.com
SUMMARY:Two Ton Tuesday Holiday Show
DESCRIPTION:at Gruene Hall
URL:https://www.gruenetexas.com/event/two-ton-tuesday-holiday-show-2/
LOCATION:Gruene Hall\, 1281 Gruene Rd\, New Braunfels\, 78130
CATEGORIES:Special Event,Ticketed Event
ATTACH;FMTTYPE=image/jpeg:https://www.gruenetexas.com/wp-content/uploads/2023/03/TTT-1-Rbetxx.tmp_.jpg
END:VEVENT
BEGIN:VEVENT
DTSTART;TZID=America/Chicago:20231226T180000
DTEND;TZID=America/Chicago:20231226T180000
DTSTAMP:20260422T131245
CREATED:20231227T011301Z
LAST-MODIFIED:20231227T014754Z
UID:10001628-1703613600-1703613600@www.gruenetexas.com
SUMMARY:Swing Dance Lessons
DESCRIPTION:at Gruene Hall | Cover at the door
URL:https://www.gruenetexas.com/event/swing-dance-lessons/
LOCATION:Gruene Hall\, 1281 Gruene Rd\, New Braunfels\, 78130
CATEGORIES:Special Event,Ticketed Event
END:VEVENT
BEGIN:VEVENT
DTSTART;TZID=America/Chicago:20231223T210000
DTEND;TZID=America/Chicago:20231223T210000
DTSTAMP:20260422T131245
CREATED:20230927T195712Z
LAST-MODIFIED:20231212T203015Z
UID:10001438-1703365200-1703365200@www.gruenetexas.com
SUMMARY:Kevin Fowler’s Deck the Dancehalls Tour
DESCRIPTION:Opener: Wynn Williams | Doors: 8pm
URL:https://www.gruenetexas.com/event/kevin-fowlers-deck-the-dancehalls-tour/
LOCATION:Gruene Hall\, 1281 Gruene Rd\, New Braunfels\, 78130
CATEGORIES:Special Event,Ticketed Event
ATTACH;FMTTYPE=image/jpeg:https://www.gruenetexas.com/wp-content/uploads/2023/09/Kevin-Fowler-xmas-SOLD-OUT.jpg
END:VEVENT
BEGIN:VEVENT
DTSTART;TZID=America/Chicago:20231222T200000
DTEND;TZID=America/Chicago:20231222T200000
DTSTAMP:20260422T131245
CREATED:20231010T181155Z
LAST-MODIFIED:20231221T043709Z
UID:10001459-1703275200-1703275200@www.gruenetexas.com
SUMMARY:Cody Canada & The Departed
DESCRIPTION:Opener: Waves In April | Doors: 7pm
URL:https://www.gruenetexas.com/event/cody-canada-the-departed/
LOCATION:Gruene Hall\, 1281 Gruene Rd\, New Braunfels\, 78130
CATEGORIES:Special Event,Ticketed Event
ATTACH;FMTTYPE=image/jpeg:https://www.gruenetexas.com/wp-content/uploads/2023/10/Cody-Canada-SOLD-OUT.jpg
END:VEVENT
BEGIN:VEVENT
DTSTART;TZID=America/Chicago:20231219T203000
DTEND;TZID=America/Chicago:20231219T203000
DTSTAMP:20260422T131245
CREATED:20231024T025655Z
LAST-MODIFIED:20231024T182935Z
UID:10001482-1703017800-1703017800@www.gruenetexas.com
SUMMARY:Two Ton Tuesday Holiday Show
DESCRIPTION:at Gruene Hall
URL:https://www.gruenetexas.com/event/two-ton-tuesday-holiday-show/
LOCATION:Gruene Hall\, 1281 Gruene Rd\, New Braunfels\, 78130
CATEGORIES:Special Event,Ticketed Event
ATTACH;FMTTYPE=image/jpeg:https://www.gruenetexas.com/wp-content/uploads/2023/03/TTT-1-Rbetxx.tmp_.jpg
END:VEVENT
BEGIN:VEVENT
DTSTART;TZID=America/Chicago:20231217T200000
DTEND;TZID=America/Chicago:20231217T200000
DTSTAMP:20260422T131245
CREATED:20231010T212755Z
LAST-MODIFIED:20231031T233211Z
UID:10001462-1702843200-1702843200@www.gruenetexas.com
SUMMARY:An Aaron Watson Family Christmas Tour
DESCRIPTION:Opener: Hayden Baker | Doors: 7pm
URL:https://www.gruenetexas.com/event/an-aaron-watson-family-christmas-tour/
LOCATION:Gruene Hall\, 1281 Gruene Rd\, New Braunfels\, 78130
CATEGORIES:Special Event,Ticketed Event
ATTACH;FMTTYPE=image/jpeg:https://www.gruenetexas.com/wp-content/uploads/2023/10/An-Aaron-Watson-Christmas-Lpf1P1.tmp_.jpg
END:VEVENT
BEGIN:VEVENT
DTSTART;TZID=America/Chicago:20231216T210000
DTEND;TZID=America/Chicago:20231216T210000
DTSTAMP:20260422T131245
CREATED:20231010T205753Z
LAST-MODIFIED:20231128T235909Z
UID:10001461-1702760400-1702760400@www.gruenetexas.com
SUMMARY:Aaron Watson
DESCRIPTION:Opener: Hayden Baker | Doors: 8pm
URL:https://www.gruenetexas.com/event/aaron-watson/
LOCATION:Gruene Hall\, 1281 Gruene Rd\, New Braunfels\, 78130
CATEGORIES:Special Event,Ticketed Event
ATTACH;FMTTYPE=image/jpeg:https://www.gruenetexas.com/wp-content/uploads/2023/10/Aaron-Watson-SOLD-OUT.jpg
END:VEVENT
BEGIN:VEVENT
DTSTART;TZID=America/Chicago:20231215T200000
DTEND;TZID=America/Chicago:20231215T200000
DTSTAMP:20260422T131245
CREATED:20230925T195724Z
LAST-MODIFIED:20231215T212253Z
UID:10001433-1702670400-1702670400@www.gruenetexas.com
SUMMARY:Hayes Carll & Friends: The Grateful for Christmas Tour
DESCRIPTION:Special Guests: Melissa Carper\, Emily Gimble & Allison Moorer
URL:https://www.gruenetexas.com/event/grateful-for-christmas-an-evening-with-hayes-carll-friends/
LOCATION:Gruene Hall\, 1281 Gruene Rd\, New Braunfels\, 78130
CATEGORIES:Special Event,Ticketed Event
ATTACH;FMTTYPE=image/jpeg:https://www.gruenetexas.com/wp-content/uploads/2023/09/Hayes-Carll-xmas-SOLD-OUT.jpg
END:VEVENT
BEGIN:VEVENT
DTSTART;TZID=America/Chicago:20231209T210000
DTEND;TZID=America/Chicago:20231209T210000
DTSTAMP:20260422T131245
CREATED:20230918T182712Z
LAST-MODIFIED:20231208T040602Z
UID:10001418-1702155600-1702155600@www.gruenetexas.com
SUMMARY:Kolby Cooper
DESCRIPTION:Opener: Logan Jahnke | Doors: 8pm
URL:https://www.gruenetexas.com/event/kolby-cooper-2/
LOCATION:Gruene Hall\, 1281 Gruene Rd\, New Braunfels\, 78130
CATEGORIES:Special Event,Ticketed Event
ATTACH;FMTTYPE=image/jpeg:https://www.gruenetexas.com/wp-content/uploads/2023/09/Kolby-Cooper-SOLD-OUT.jpg
END:VEVENT
BEGIN:VEVENT
DTSTART;TZID=America/Chicago:20231208T200000
DTEND;TZID=America/Chicago:20231208T200000
DTSTAMP:20260422T131245
CREATED:20230918T182712Z
LAST-MODIFIED:20231004T232805Z
UID:10001417-1702065600-1702065600@www.gruenetexas.com
SUMMARY:Kolby Cooper
DESCRIPTION:Opener: Huser Brothers | Doors: 7pm
URL:https://www.gruenetexas.com/event/kolby-cooper/
LOCATION:Gruene Hall\, 1281 Gruene Rd\, New Braunfels\, 78130
CATEGORIES:Special Event,Ticketed Event
ATTACH;FMTTYPE=image/jpeg:https://www.gruenetexas.com/wp-content/uploads/2023/09/Kolby-Cooper-QiguHl.tmp_.jpg
END:VEVENT
BEGIN:VEVENT
DTSTART;TZID=America/Chicago:20231202T210000
DTEND;TZID=America/Chicago:20231202T210000
DTSTAMP:20260422T131245
CREATED:20230918T182712Z
LAST-MODIFIED:20231127T202204Z
UID:10001416-1701550800-1701550800@www.gruenetexas.com
SUMMARY:Gypsy Songman: The Music of Jerry Jeff Walker featuring Django Walker & Jerry Jeff Walker Band
DESCRIPTION:Opener: Rio Tripiano | Doors: 8pm
URL:https://www.gruenetexas.com/event/gypsy-songman-the-music-of-jerry-jeff-walker-featuring-django-walker-jerry-jeff-walker-band/
LOCATION:Gruene Hall\, 1281 Gruene Rd\, New Braunfels\, 78130
CATEGORIES:Special Event,Ticketed Event
ATTACH;FMTTYPE=image/jpeg:https://www.gruenetexas.com/wp-content/uploads/2023/09/Gypsy-Songman-LqptQd.tmp_.jpg
END:VEVENT
END:VCALENDAR