BEGIN:VCALENDAR
VERSION:2.0
PRODID:-//Gruene - ECPv6.15.11//NONSGML v1.0//EN
CALSCALE:GREGORIAN
METHOD:PUBLISH
X-ORIGINAL-URL:https://www.gruenetexas.com
X-WR-CALDESC:Events for Gruene
REFRESH-INTERVAL;VALUE=DURATION:PT1H
X-Robots-Tag:noindex
X-PUBLISHED-TTL:PT1H
BEGIN:VTIMEZONE
TZID:America/Chicago
BEGIN:DAYLIGHT
TZOFFSETFROM:-0600
TZOFFSETTO:-0500
TZNAME:CDT
DTSTART:20230312T080000
END:DAYLIGHT
BEGIN:STANDARD
TZOFFSETFROM:-0500
TZOFFSETTO:-0600
TZNAME:CST
DTSTART:20231105T070000
END:STANDARD
BEGIN:DAYLIGHT
TZOFFSETFROM:-0600
TZOFFSETTO:-0500
TZNAME:CDT
DTSTART:20240310T080000
END:DAYLIGHT
BEGIN:STANDARD
TZOFFSETFROM:-0500
TZOFFSETTO:-0600
TZNAME:CST
DTSTART:20241103T070000
END:STANDARD
BEGIN:DAYLIGHT
TZOFFSETFROM:-0600
TZOFFSETTO:-0500
TZNAME:CDT
DTSTART:20250309T080000
END:DAYLIGHT
BEGIN:STANDARD
TZOFFSETFROM:-0500
TZOFFSETTO:-0600
TZNAME:CST
DTSTART:20251102T070000
END:STANDARD
END:VTIMEZONE
BEGIN:VEVENT
DTSTART;TZID=America/Chicago:20240725T200000
DTEND;TZID=America/Chicago:20240725T200000
DTSTAMP:20260422T103522
CREATED:20240430T065653Z
LAST-MODIFIED:20240430T065653Z
UID:10002182-1721937600-1721937600@www.gruenetexas.com
SUMMARY:Roger Creager’s Birthday Show (Full Band)
DESCRIPTION:| 			\n			\n							 \n\n\nOpener: TBA 8pm | Doors: 7pm \n\n		\n\n\n\n\n\n\n						\n							Add to calendar						 \n\n\n\n									\n										Google Calendar									\n								\n\n									\n										iCalendar									\n								\n\n									\n										Outlook 365									\n								\n\n									\n										Outlook Live
URL:https://www.gruenetexas.com/event/roger-creagers-birthday-show-full-band-4/
LOCATION:Gruene Hall\, 1281 Gruene Rd\, New Braunfels\, 78130
CATEGORIES:Special Event,Ticketed Event
ATTACH;FMTTYPE=image/jpeg:https://www.gruenetexas.com/wp-content/uploads/2024/04/Roger_Creager_2024-h8aXwh.tmp_.jpg
END:VEVENT
BEGIN:VEVENT
DTSTART;TZID=America/Chicago:20240724T200000
DTEND;TZID=America/Chicago:20240724T200000
DTSTAMP:20260422T103522
CREATED:20240430T065652Z
LAST-MODIFIED:20240430T065652Z
UID:10002181-1721851200-1721851200@www.gruenetexas.com
SUMMARY:Roger Creager’s Birthday Show (Acoustic w/ special guests)
DESCRIPTION:| 			\n			\n							 \n\n\nRoger Creager w/ special guests: 8pm | Doors: 7pm \n\n		\n\n\n\n\n\n\n						\n							Add to calendar						 \n\n\n\n									\n										Google Calendar									\n								\n\n									\n										iCalendar									\n								\n\n									\n										Outlook 365									\n								\n\n									\n										Outlook Live
URL:https://www.gruenetexas.com/event/roger-creagers-birthday-show-acoustic-w-special-guests-2/
LOCATION:Gruene Hall\, 1281 Gruene Rd\, New Braunfels\, 78130
CATEGORIES:Special Event,Ticketed Event
ATTACH;FMTTYPE=image/jpeg:https://www.gruenetexas.com/wp-content/uploads/2024/04/Roger_Creager_2024-h8aXwh.tmp_.jpg
END:VEVENT
BEGIN:VEVENT
DTSTART;TZID=America/Chicago:20240723T203000
DTEND;TZID=America/Chicago:20240723T203000
DTSTAMP:20260422T103522
CREATED:20240719T151155Z
LAST-MODIFIED:20240719T151155Z
UID:10002375-1721766600-1721766600@www.gruenetexas.com
SUMMARY:Two Ton Tuesday
DESCRIPTION:| 			\n			\n							 \n\n\n$12 cover at the door
URL:https://www.gruenetexas.com/event/two-ton-tuesday-24/
LOCATION:Gruene Hall\, 1281 Gruene Rd\, New Braunfels\, 78130
CATEGORIES:Special Event,Ticketed Event
ATTACH;FMTTYPE=image/jpeg:https://www.gruenetexas.com/wp-content/uploads/2023/03/TTT-1-Rbetxx.tmp_.jpg
END:VEVENT
BEGIN:VEVENT
DTSTART;TZID=America/Chicago:20240723T203000
DTEND;TZID=America/Chicago:20240723T203000
DTSTAMP:20260422T103522
CREATED:20240228T214159Z
LAST-MODIFIED:20240618T135345Z
UID:10002028-1721766600-1721766600@www.gruenetexas.com
SUMMARY:Two Ton Tuesday
DESCRIPTION:$12 cover at the door
URL:https://www.gruenetexas.com/event/two-ton-tuesday-20/
LOCATION:Gruene Hall\, 1281 Gruene Rd\, New Braunfels\, 78130
CATEGORIES:Special Event,Ticketed Event
ATTACH;FMTTYPE=image/jpeg:https://www.gruenetexas.com/wp-content/uploads/2023/03/TTT-1-Rbetxx.tmp_.jpg
END:VEVENT
BEGIN:VEVENT
DTSTART;TZID=America/Chicago:20240720T210000
DTEND;TZID=America/Chicago:20240720T210000
DTSTAMP:20260422T103522
CREATED:20240416T064156Z
LAST-MODIFIED:20240416T064156Z
UID:10002157-1721509200-1721509200@www.gruenetexas.com
SUMMARY:Whitey Morgan and the 78’s
DESCRIPTION:| 			\n			\n							 \n\n\nOpener: TBA | Doors: 8pm \n\n		\n\n\n\n\n\n\n						\n							Add to calendar						 \n\n\n\n									\n										Google Calendar									\n								\n\n									\n										iCalendar									\n								\n\n									\n										Outlook 365									\n								\n\n									\n										Outlook Live
URL:https://www.gruenetexas.com/event/whitey-morgan-and-the-78s/
LOCATION:Gruene Hall\, 1281 Gruene Rd\, New Braunfels\, 78130
CATEGORIES:Special Event,Ticketed Event
ATTACH;FMTTYPE=image/jpeg:https://www.gruenetexas.com/wp-content/uploads/2024/04/Press_1-4P9a0N.tmp_.jpg
END:VEVENT
BEGIN:VEVENT
DTSTART;TZID=America/Chicago:20240719T200000
DTEND;TZID=America/Chicago:20240719T200000
DTSTAMP:20260422T103522
CREATED:20240507T065656Z
LAST-MODIFIED:20240507T065656Z
UID:10002189-1721419200-1721419200@www.gruenetexas.com
SUMMARY:James McMurtry
DESCRIPTION:| 			\n			\n							 \n\n\nOpener: BettySoo | Doors: 7pm \n\n		\n\n\n\n\n\n\n						\n							Add to calendar						 \n\n\n\n									\n										Google Calendar									\n								\n\n									\n										iCalendar									\n								\n\n									\n										Outlook 365									\n								\n\n									\n										Outlook Live
URL:https://www.gruenetexas.com/event/james-mcmurtry-2/
LOCATION:Gruene Hall\, 1281 Gruene Rd\, New Braunfels\, 78130
CATEGORIES:Special Event,Ticketed Event
ATTACH;FMTTYPE=image/jpeg:https://www.gruenetexas.com/wp-content/uploads/2024/05/james_mcmurtry-BPWB5Z.tmp_.jpg
END:VEVENT
BEGIN:VEVENT
DTSTART;TZID=America/Chicago:20240716T203000
DTEND;TZID=America/Chicago:20240716T203000
DTSTAMP:20260422T103522
CREATED:20240228T214159Z
LAST-MODIFIED:20240618T135342Z
UID:10002027-1721161800-1721161800@www.gruenetexas.com
SUMMARY:Two Ton Tuesday
DESCRIPTION:$12 cover at the door
URL:https://www.gruenetexas.com/event/two-ton-tuesday-19/
LOCATION:Gruene Hall\, 1281 Gruene Rd\, New Braunfels\, 78130
CATEGORIES:Special Event,Ticketed Event
ATTACH;FMTTYPE=image/jpeg:https://www.gruenetexas.com/wp-content/uploads/2023/03/TTT-1-Rbetxx.tmp_.jpg
END:VEVENT
BEGIN:VEVENT
DTSTART;TZID=America/Chicago:20240714T200000
DTEND;TZID=America/Chicago:20240714T200000
DTSTAMP:20260422T103522
CREATED:20240529T072653Z
LAST-MODIFIED:20240529T072653Z
UID:10002224-1720987200-1720987200@www.gruenetexas.com
SUMMARY:Deana Carter
DESCRIPTION:| 			\n			\n							 \n\n\nOpener: TBA | Doors: 7pm \n\n		\n\n\n\n\n\n\n						\n							Add to calendar						 \n\n\n\n									\n										Google Calendar									\n								\n\n									\n										iCalendar									\n								\n\n									\n										Outlook 365									\n								\n\n									\n										Outlook Live
URL:https://www.gruenetexas.com/event/deana-carter/
LOCATION:Gruene Hall\, 1281 Gruene Rd\, New Braunfels\, 78130
CATEGORIES:Special Event,Ticketed Event
ATTACH;FMTTYPE=image/jpeg:https://www.gruenetexas.com/wp-content/uploads/2024/05/deana_carter-vX5PJb.tmp_.jpg
END:VEVENT
BEGIN:VEVENT
DTSTART;TZID=America/Chicago:20240713T210000
DTEND;TZID=America/Chicago:20240713T233000
DTSTAMP:20260422T103522
CREATED:20240325T151215Z
LAST-MODIFIED:20240325T151215Z
UID:10002095-1720904400-1720913400@www.gruenetexas.com
SUMMARY:Silverada (formerly Mike & The Moonpies)
DESCRIPTION:| 			\n			\n							 \n\n\nDoors: 8pmOpener: TBA 9pmSilverada: 10pm \n\n		\n\n\n\n\n\n\n						\n							Add to calendar						 \n\n\n\n									\n										Google Calendar									\n								\n\n									\n										iCalendar									\n								\n\n									\n										Outlook 365									\n								\n\n									\n										Outlook Live
URL:https://www.gruenetexas.com/event/silverada-formerly-mike-the-moonpies/
CATEGORIES:Ticketed Event
ATTACH;FMTTYPE=image/jpeg:https://www.gruenetexas.com/wp-content/uploads/2024/03/silverada-image-rT4H4S.tmp_.jpg
END:VEVENT
BEGIN:VEVENT
DTSTART;TZID=America/Chicago:20240712T200000
DTEND;TZID=America/Chicago:20240712T200000
DTSTAMP:20260422T103522
CREATED:20240402T054151Z
LAST-MODIFIED:20240402T054151Z
UID:10002127-1720814400-1720814400@www.gruenetexas.com
SUMMARY:Gary P. Nunn
DESCRIPTION:| 			\n			\n							 \n\n\nOpener: TBA | Doors: 8pm \n\n		\n\n\n\n\n\n\n						\n							Add to calendar						 \n\n\n\n									\n										Google Calendar									\n								\n\n									\n										iCalendar									\n								\n\n									\n										Outlook 365									\n								\n\n									\n										Outlook Live
URL:https://www.gruenetexas.com/event/gary-p-nunn-2/
CATEGORIES:Special Event,Ticketed Event
ATTACH;FMTTYPE=image/jpeg:https://www.gruenetexas.com/wp-content/uploads/2024/04/Gary-P-Nunn-Hn9hDM.tmp_.jpg
END:VEVENT
BEGIN:VEVENT
DTSTART;TZID=America/Chicago:20240709T203000
DTEND;TZID=America/Chicago:20240709T203000
DTSTAMP:20260422T103522
CREATED:20240228T214159Z
LAST-MODIFIED:20240618T135325Z
UID:10002026-1720557000-1720557000@www.gruenetexas.com
SUMMARY:Two Ton Tuesday
DESCRIPTION:$12 cover at the door
URL:https://www.gruenetexas.com/event/two-ton-tuesday-18/
LOCATION:Gruene Hall\, 1281 Gruene Rd\, New Braunfels\, 78130
CATEGORIES:Special Event,Ticketed Event
ATTACH;FMTTYPE=image/jpeg:https://www.gruenetexas.com/wp-content/uploads/2023/03/TTT-1-Rbetxx.tmp_.jpg
END:VEVENT
BEGIN:VEVENT
DTSTART;TZID=America/Chicago:20240706T210000
DTEND;TZID=America/Chicago:20240706T210000
DTSTAMP:20260422T103522
CREATED:20240521T065708Z
LAST-MODIFIED:20240521T065708Z
UID:10002204-1720299600-1720299600@www.gruenetexas.com
SUMMARY:Josh Ward
DESCRIPTION:| 			\n			\n							 \n\n\nOpener: Chad Miller & The Good Fortune | Doors: 8pm \n\n		\n\n\n\n\n\n\n						\n							Add to calendar						 \n\n\n\n									\n										Google Calendar									\n								\n\n									\n										iCalendar									\n								\n\n									\n										Outlook 365									\n								\n\n									\n										Outlook Live
URL:https://www.gruenetexas.com/event/josh-ward-2/
LOCATION:Gruene Hall\, 1281 Gruene Rd\, New Braunfels\, 78130
CATEGORIES:Special Event,Ticketed Event
ATTACH;FMTTYPE=image/jpeg:https://www.gruenetexas.com/wp-content/uploads/2024/05/Josh_Ward-Y4RDPa.tmp_.jpg
END:VEVENT
BEGIN:VEVENT
DTSTART;TZID=America/Chicago:20240705T200000
DTEND;TZID=America/Chicago:20240705T200000
DTSTAMP:20260422T103522
CREATED:20240402T054151Z
LAST-MODIFIED:20240402T054151Z
UID:10002126-1720209600-1720209600@www.gruenetexas.com
SUMMARY:The Great Divide
DESCRIPTION:| 			\n			\n							 \n\n\nOpener: Joey Green | Doors: 7pm \n\n		\n\n\n\n\n\n\n						\n							Add to calendar						 \n\n\n\n									\n										Google Calendar									\n								\n\n									\n										iCalendar									\n								\n\n									\n										Outlook 365									\n								\n\n									\n										Outlook Live
URL:https://www.gruenetexas.com/event/the-great-divide-2/
CATEGORIES:Special Event,Ticketed Event
ATTACH;FMTTYPE=image/jpeg:https://www.gruenetexas.com/wp-content/uploads/2024/04/the_great_divide-Cgddxb.tmp_.jpg
END:VEVENT
BEGIN:VEVENT
DTSTART;TZID=America/Chicago:20240703T200000
DTEND;TZID=America/Chicago:20240703T233000
DTSTAMP:20260422T103522
CREATED:20240325T151215Z
LAST-MODIFIED:20240325T151215Z
UID:10002094-1720036800-1720049400@www.gruenetexas.com
SUMMARY:Dale Watson & His Lone Stars
DESCRIPTION:| 			\n			\n							 \n\n\nDoors: 7pmDale Watson & His Lone Stars: 8pm \n\n		\n\n\n\n\n\n\n						\n							Add to calendar						 \n\n\n\n									\n										Google Calendar									\n								\n\n									\n										iCalendar									\n								\n\n									\n										Outlook 365									\n								\n\n									\n										Outlook Live
URL:https://www.gruenetexas.com/event/dale-watson-his-lone-stars-2/
CATEGORIES:Ticketed Event
ATTACH;FMTTYPE=image/jpeg:https://www.gruenetexas.com/wp-content/uploads/2024/03/dale-watson-image-uXvfTN.tmp_.jpg
END:VEVENT
BEGIN:VEVENT
DTSTART;TZID=America/Chicago:20240702T203000
DTEND;TZID=America/Chicago:20240702T203000
DTSTAMP:20260422T103522
CREATED:20240228T214159Z
LAST-MODIFIED:20240618T135322Z
UID:10002025-1719952200-1719952200@www.gruenetexas.com
SUMMARY:Two Ton Tuesday
DESCRIPTION:$12 cover at the door
URL:https://www.gruenetexas.com/event/two-ton-tuesday-17/
LOCATION:Gruene Hall\, 1281 Gruene Rd\, New Braunfels\, 78130
CATEGORIES:Special Event,Ticketed Event
ATTACH;FMTTYPE=image/jpeg:https://www.gruenetexas.com/wp-content/uploads/2023/03/TTT-1-Rbetxx.tmp_.jpg
END:VEVENT
BEGIN:VEVENT
DTSTART;TZID=America/Chicago:20240629T210000
DTEND;TZID=America/Chicago:20240629T233000
DTSTAMP:20260422T103522
CREATED:20240325T151214Z
LAST-MODIFIED:20240325T151214Z
UID:10002093-1719694800-1719703800@www.gruenetexas.com
SUMMARY:Cameron Sacky Band
DESCRIPTION:| 			\n			\n							 \n\n\nDoors: 8pmOpener: TBA 9pmCameron Sacky Band: 10:30pm \n\n		\n\n\n\n\n\n\n						\n							Add to calendar						 \n\n\n\n									\n										Google Calendar									\n								\n\n									\n										iCalendar									\n								\n\n									\n										Outlook 365									\n								\n\n									\n										Outlook Live
URL:https://www.gruenetexas.com/event/cameron-sacky-band-2/
CATEGORIES:Special Event,Ticketed Event
ATTACH;FMTTYPE=image/jpeg:https://www.gruenetexas.com/wp-content/uploads/2024/03/cameron-image-jTYN5L.tmp_.jpg
END:VEVENT
BEGIN:VEVENT
DTSTART;TZID=America/Chicago:20240628T200000
DTEND;TZID=America/Chicago:20240628T200000
DTSTAMP:20260422T103522
CREATED:20240423T065706Z
LAST-MODIFIED:20240423T065706Z
UID:10002176-1719604800-1719604800@www.gruenetexas.com
SUMMARY:The Wilder Blue
DESCRIPTION:| 			\n			\n							 \n\n\nOpener: TBA | Doors: 7pm \n\n		\n\n\n\n\n\n\n						\n							Add to calendar						 \n\n\n\n									\n										Google Calendar									\n								\n\n									\n										iCalendar									\n								\n\n									\n										Outlook 365									\n								\n\n									\n										Outlook Live
URL:https://www.gruenetexas.com/event/the-wilder-blue-2/
LOCATION:Gruene Hall\, 1281 Gruene Rd\, New Braunfels\, 78130
CATEGORIES:Special Event,Ticketed Event
ATTACH;FMTTYPE=image/jpeg:https://www.gruenetexas.com/wp-content/uploads/2024/04/wilder-blue-l3xVdb.tmp_.jpg
END:VEVENT
BEGIN:VEVENT
DTSTART;TZID=America/Chicago:20240625T203000
DTEND;TZID=America/Chicago:20240625T203000
DTSTAMP:20260422T103522
CREATED:20240228T214159Z
LAST-MODIFIED:20240618T135306Z
UID:10002024-1719347400-1719347400@www.gruenetexas.com
SUMMARY:Two Ton Tuesday
DESCRIPTION:$12 cover at the door
URL:https://www.gruenetexas.com/event/two-ton-tuesday-16/
LOCATION:Gruene Hall\, 1281 Gruene Rd\, New Braunfels\, 78130
CATEGORIES:Special Event,Ticketed Event
ATTACH;FMTTYPE=image/jpeg:https://www.gruenetexas.com/wp-content/uploads/2023/03/TTT-1-Rbetxx.tmp_.jpg
END:VEVENT
BEGIN:VEVENT
DTSTART;TZID=America/Chicago:20240622T210000
DTEND;TZID=America/Chicago:20240622T210000
DTSTAMP:20260422T103522
CREATED:20240322T222730Z
LAST-MODIFIED:20240322T222730Z
UID:10002092-1719090000-1719090000@www.gruenetexas.com
SUMMARY:Cooder Graw
DESCRIPTION:| 			\n			\n							 \n\n\nOpener: Chad Miller | Doors: 8pm
URL:https://www.gruenetexas.com/event/cooder-graw-2/
CATEGORIES:Special Event,Ticketed Event
ATTACH;FMTTYPE=image/jpeg:https://www.gruenetexas.com/wp-content/uploads/2024/03/Cooder-Graw-at-Gruene-Hall-hdRnxi.tmp_.jpg
END:VEVENT
BEGIN:VEVENT
DTSTART;TZID=America/Chicago:20240621T200000
DTEND;TZID=America/Chicago:20240621T200000
DTSTAMP:20260422T103522
CREATED:20240322T222730Z
LAST-MODIFIED:20240322T222730Z
UID:10002091-1719000000-1719000000@www.gruenetexas.com
SUMMARY:Radney Foster Band
DESCRIPTION:| 			\n			\n							 \n\n\nOpener: TBA | Doors: 7pm
URL:https://www.gruenetexas.com/event/radney-foster-band/
CATEGORIES:Special Event,Ticketed Event
ATTACH;FMTTYPE=image/jpeg:https://www.gruenetexas.com/wp-content/uploads/2024/03/Radney-Foster-at-Gruene-Hall-esF1dp.tmp_.jpg
END:VEVENT
BEGIN:VEVENT
DTSTART;TZID=America/Chicago:20240618T203000
DTEND;TZID=America/Chicago:20240618T203000
DTSTAMP:20260422T103522
CREATED:20240228T214159Z
LAST-MODIFIED:20240618T135217Z
UID:10002023-1718742600-1718742600@www.gruenetexas.com
SUMMARY:Two Ton Tuesday
DESCRIPTION:$12 cover at the door
URL:https://www.gruenetexas.com/event/two-ton-tuesday-15/
LOCATION:Gruene Hall\, 1281 Gruene Rd\, New Braunfels\, 78130
CATEGORIES:Special Event,Ticketed Event
ATTACH;FMTTYPE=image/jpeg:https://www.gruenetexas.com/wp-content/uploads/2023/03/TTT-1-Rbetxx.tmp_.jpg
END:VEVENT
BEGIN:VEVENT
DTSTART;TZID=America/Chicago:20240615T210000
DTEND;TZID=America/Chicago:20240615T210000
DTSTAMP:20260422T103522
CREATED:20240322T222730Z
LAST-MODIFIED:20240322T222730Z
UID:10002090-1718485200-1718485200@www.gruenetexas.com
SUMMARY:Micky & The Motorcars
DESCRIPTION:| 			\n			\n							 \n\n\nOpener: TBA | Doors: 8pm
URL:https://www.gruenetexas.com/event/micky-the-motorcars-3/
CATEGORIES:Special Event,Ticketed Event
ATTACH;FMTTYPE=image/jpeg:https://www.gruenetexas.com/wp-content/uploads/2024/03/Micky-The-Motorcars-at-Gruene-Hall-Gc324g.tmp_.jpg
END:VEVENT
BEGIN:VEVENT
DTSTART;TZID=America/Chicago:20240614T200000
DTEND;TZID=America/Chicago:20240614T200000
DTSTAMP:20260422T103522
CREATED:20240322T222730Z
LAST-MODIFIED:20240322T222730Z
UID:10002089-1718395200-1718395200@www.gruenetexas.com
SUMMARY:Larry Joe Taylor
DESCRIPTION:| 			\n			\n							 \n\n\nOpener: TBA | Doors: 7pm
URL:https://www.gruenetexas.com/event/larry-joe-taylor-2/
CATEGORIES:Special Event,Ticketed Event
ATTACH;FMTTYPE=image/jpeg:https://www.gruenetexas.com/wp-content/uploads/2024/03/Larry-Joe-Taylor-at-Gruene-Hall-fNilm5.tmp_.jpg
END:VEVENT
BEGIN:VEVENT
DTSTART;TZID=America/Chicago:20240608T210000
DTEND;TZID=America/Chicago:20240608T210000
DTSTAMP:20260422T103522
CREATED:20240219T202701Z
LAST-MODIFIED:20240219T203903Z
UID:10002003-1717880400-1717880400@www.gruenetexas.com
SUMMARY:Hayes Carll
DESCRIPTION:Opener: TBA | Doors: 8pm
URL:https://www.gruenetexas.com/event/hayes-carll-2/
LOCATION:Gruene Hall\, 1281 Gruene Rd\, New Braunfels\, 78130
CATEGORIES:Special Event,Ticketed Event
ATTACH;FMTTYPE=image/jpeg:https://www.gruenetexas.com/wp-content/uploads/2024/02/Hayes-Carll-2-PV4cYT.tmp_.jpg
END:VEVENT
BEGIN:VEVENT
DTSTART;TZID=America/Chicago:20240607T200000
DTEND;TZID=America/Chicago:20240607T200000
DTSTAMP:20260422T103522
CREATED:20240322T222729Z
LAST-MODIFIED:20240322T222729Z
UID:10002088-1717790400-1717790400@www.gruenetexas.com
SUMMARY:Max Stalling
DESCRIPTION:| 			\n			\n							 \n\n\nOpener: Mark David Manders | Doors: 7pm
URL:https://www.gruenetexas.com/event/max-stalling-2/
CATEGORIES:Special Event,Ticketed Event
ATTACH;FMTTYPE=image/jpeg:https://www.gruenetexas.com/wp-content/uploads/2024/03/Max-Stalling-at-Gruene-Hall-ICeoL7.tmp_.jpg
END:VEVENT
BEGIN:VEVENT
DTSTART;TZID=America/Chicago:20240601T210000
DTEND;TZID=America/Chicago:20240601T210000
DTSTAMP:20260422T103522
CREATED:20240322T222729Z
LAST-MODIFIED:20240322T222729Z
UID:10002087-1717275600-1717275600@www.gruenetexas.com
SUMMARY:Red Shahan
DESCRIPTION:| 			\n			\n							 \n\n\nOpener: TBA | Doors: 9pm
URL:https://www.gruenetexas.com/event/red-shahan-2/
CATEGORIES:Special Event,Ticketed Event
ATTACH;FMTTYPE=image/jpeg:https://www.gruenetexas.com/wp-content/uploads/2024/03/Red-Shahan-at-Gruene-Hall-omTd5E.tmp_.jpg
END:VEVENT
BEGIN:VEVENT
DTSTART;TZID=America/Chicago:20240531T200000
DTEND;TZID=America/Chicago:20240531T200000
DTSTAMP:20260422T103522
CREATED:20240322T222729Z
LAST-MODIFIED:20240322T222729Z
UID:10002086-1717185600-1717185600@www.gruenetexas.com
SUMMARY:Tab Benoit
DESCRIPTION:| 			\n			\n							 \n\n\nOpener: Larry McCray | Doors: 7pm
URL:https://www.gruenetexas.com/event/tab-benoit-2/
CATEGORIES:Special Event,Ticketed Event
ATTACH;FMTTYPE=image/jpeg:https://www.gruenetexas.com/wp-content/uploads/2024/03/Tab-Benoit-at-Gruene-Hall-aUzYS2.tmp_.jpg
END:VEVENT
BEGIN:VEVENT
DTSTART;TZID=America/Chicago:20240526T200000
DTEND;TZID=America/Chicago:20240526T200000
DTSTAMP:20260422T103522
CREATED:20240226T214157Z
LAST-MODIFIED:20240226T220305Z
UID:10002017-1716753600-1716753600@www.gruenetexas.com
SUMMARY:The Derailers
DESCRIPTION:Opener: TBA | Doors: 7pm
URL:https://www.gruenetexas.com/event/the-derailers/
LOCATION:Gruene Hall\, 1281 Gruene Rd\, New Braunfels\, 78130
CATEGORIES:Special Event,Ticketed Event
ATTACH;FMTTYPE=image/jpeg:https://www.gruenetexas.com/wp-content/uploads/2024/02/The-Derailers-TpcW4S.tmp_.jpg
END:VEVENT
BEGIN:VEVENT
DTSTART;TZID=America/Chicago:20240525T210000
DTEND;TZID=America/Chicago:20240525T210000
DTSTAMP:20260422T103522
CREATED:20240226T214157Z
LAST-MODIFIED:20240226T220222Z
UID:10002016-1716670800-1716670800@www.gruenetexas.com
SUMMARY:Cory Morrow
DESCRIPTION:Opener: TBA | Doors: 8pm
URL:https://www.gruenetexas.com/event/cory-morrow-3/
LOCATION:Gruene Hall\, 1281 Gruene Rd\, New Braunfels\, 78130
CATEGORIES:Special Event,Ticketed Event
ATTACH;FMTTYPE=image/jpeg:https://www.gruenetexas.com/wp-content/uploads/2024/02/Cory-Morrow-5.25-TxsCff.tmp_.jpg
END:VEVENT
BEGIN:VEVENT
DTSTART;TZID=America/Chicago:20240524T200000
DTEND;TZID=America/Chicago:20240524T200000
DTSTAMP:20260422T103523
CREATED:20240213T212723Z
LAST-MODIFIED:20240307T001903Z
UID:10001996-1716580800-1716580800@www.gruenetexas.com
SUMMARY:Molly Tuttle & Golden Highway: Down The Rabbit Hole Tour
DESCRIPTION:Opener: Amythyst Kiah | Doors: 7pm
URL:https://www.gruenetexas.com/event/molly-tuttle-golden-highway-down-the-rabbit-hole-tour/
LOCATION:Gruene Hall\, 1281 Gruene Rd\, New Braunfels\, 78130
CATEGORIES:Special Event,Ticketed Event
ATTACH;FMTTYPE=image/jpeg:https://www.gruenetexas.com/wp-content/uploads/2024/02/Molly-Tuttle-R2rsss.tmp_.jpg
END:VEVENT
END:VCALENDAR