BEGIN:VCALENDAR
VERSION:2.0
PRODID:-//Gruene - ECPv6.15.11//NONSGML v1.0//EN
CALSCALE:GREGORIAN
METHOD:PUBLISH
X-ORIGINAL-URL:https://www.gruenetexas.com
X-WR-CALDESC:Events for Gruene
REFRESH-INTERVAL;VALUE=DURATION:PT1H
X-Robots-Tag:noindex
X-PUBLISHED-TTL:PT1H
BEGIN:VTIMEZONE
TZID:America/Chicago
BEGIN:DAYLIGHT
TZOFFSETFROM:-0600
TZOFFSETTO:-0500
TZNAME:CDT
DTSTART:20250309T080000
END:DAYLIGHT
BEGIN:STANDARD
TZOFFSETFROM:-0500
TZOFFSETTO:-0600
TZNAME:CST
DTSTART:20251102T070000
END:STANDARD
BEGIN:DAYLIGHT
TZOFFSETFROM:-0600
TZOFFSETTO:-0500
TZNAME:CDT
DTSTART:20260308T080000
END:DAYLIGHT
BEGIN:STANDARD
TZOFFSETFROM:-0500
TZOFFSETTO:-0600
TZNAME:CST
DTSTART:20261101T070000
END:STANDARD
BEGIN:DAYLIGHT
TZOFFSETFROM:-0600
TZOFFSETTO:-0500
TZNAME:CDT
DTSTART:20270314T080000
END:DAYLIGHT
BEGIN:STANDARD
TZOFFSETFROM:-0500
TZOFFSETTO:-0600
TZNAME:CST
DTSTART:20271107T070000
END:STANDARD
END:VTIMEZONE
BEGIN:VEVENT
DTSTART;TZID=America/Chicago:20260103T210000
DTEND;TZID=America/Chicago:20260103T210000
DTSTAMP:20260421T170659
CREATED:20250916T200009Z
LAST-MODIFIED:20260103T225958Z
UID:10003833-1767474000-1767474000@www.gruenetexas.com
SUMMARY:Austin Meade
DESCRIPTION:| 			\n			\n							 \n\nDoors: 8pm \nOpener: Cole Barnhill 9pm \nAustin Meade: 10:30pm \nGENERAL ADMISSION: $25 (+ $6.50 service fee) \n\n\n\n\n\n						\n							Add to calendar						 \n\n\n\n									\n										Google Calendar									\n								\n\n									\n										iCalendar									\n								\n\n									\n										Outlook 365									\n								\n\n									\n										Outlook Live									\n								\n\n \n \n \n \n\n\n\n					Details\n	\n\n\n				Date:\n				\n					  \n				\n			\n\n				Time:
URL:https://www.gruenetexas.com/event/austin-meade-4/
LOCATION:Gruene Hall\, 1281 Gruene Rd\, New Braunfels\, 78130
CATEGORIES:Ticketed Event
ATTACH;FMTTYPE=image/jpeg:https://www.gruenetexas.com/wp-content/uploads/2025/09/event-flyer-60783-NSerzN.jpg
END:VEVENT
BEGIN:VEVENT
DTSTART;TZID=America/Chicago:20260110T210000
DTEND;TZID=America/Chicago:20260110T210000
DTSTAMP:20260421T170659
CREATED:20250918T200011Z
LAST-MODIFIED:20260110T231504Z
UID:10003836-1768078800-1768078800@www.gruenetexas.com
SUMMARY:Summer Dean
DESCRIPTION:| 			\n			\n							 \n\nTickets going on sale Friday\, September 19th at 10am! \nDoors: 8pm \nOpener: Marley Hale 9pm \nSummer Dean: 10:30pm \nGENERAL ADMISSION: $20 (+ $5.50 service fee) \n\n\n\n\n\n						\n							Add to calendar						 \n\n\n\n									\n										Google Calendar									\n								\n\n									\n										iCalendar									\n								\n\n									\n										Outlook 365									\n								\n\n									\n										Outlook Live									\n								\n\n \n \n \n \n\n\n\n					Details\n	\n\n\n				Date:\n				\n					  \n				\n			\n\n				Time:
URL:https://www.gruenetexas.com/event/summer-dean/
LOCATION:Gruene Hall\, 1281 Gruene Rd\, New Braunfels\, 78130
CATEGORIES:Ticketed Event
ATTACH;FMTTYPE=image/jpeg:https://www.gruenetexas.com/wp-content/uploads/2025/09/event-flyer-60828-FSP3tJ.jpg
END:VEVENT
BEGIN:VEVENT
DTSTART;TZID=America/Chicago:20260116T200000
DTEND;TZID=America/Chicago:20260116T200000
DTSTAMP:20260421T170659
CREATED:20251103T211502Z
LAST-MODIFIED:20260116T231503Z
UID:10004056-1768593600-1768593600@www.gruenetexas.com
SUMMARY:Logan Ryan Band
DESCRIPTION:| 			\n			\n							 \n\nDoors: 7pm \nOpener: Cole Phillips  8pm \nLogan Ryan Band: 9:30pm \nGENERAL ADMISSION: $20 (+ $5.50 service fee) \n\n\n\n\n\n						\n							Add to calendar						 \n\n\n\n									\n										Google Calendar									\n								\n\n									\n										iCalendar									\n								\n\n									\n										Outlook 365									\n								\n\n									\n										Outlook Live									\n								\n\n \n \n \n \n\n\n\n					Details\n	\n\n\n				Date:\n				\n					  \n				\n			\n\n				Time:
URL:https://www.gruenetexas.com/event/logan-ryan-band/
LOCATION:Gruene Hall\, 1281 Gruene Rd\, New Braunfels\, 78130
CATEGORIES:Ticketed Event
ATTACH;FMTTYPE=image/jpeg:https://www.gruenetexas.com/wp-content/uploads/2026/01/event-flyer-61284-sYkmNf.jpg
END:VEVENT
BEGIN:VEVENT
DTSTART;TZID=America/Chicago:20260117T210000
DTEND;TZID=America/Chicago:20260117T210000
DTSTAMP:20260421T170659
CREATED:20251027T210016Z
LAST-MODIFIED:20260117T231505Z
UID:10004052-1768683600-1768683600@www.gruenetexas.com
SUMMARY:Tyler Halverson: In Defense of Drinking Tour
DESCRIPTION:| 			\n			\n							 \n\nDoors: 8pm \nOpener: Julianna Rankin 9pm \nTyler Halverson: 10:30pm \nGENERAL ADMISSION: $20 (+ $5.50 service fee) \n\n\n\n\n\n						\n							Add to calendar						 \n\n\n\n									\n										Google Calendar									\n								\n\n									\n										iCalendar									\n								\n\n									\n										Outlook 365									\n								\n\n									\n										Outlook Live									\n								\n\n \n \n \n \n\n\n\n					Details\n	\n\n\n				Date:\n				\n					  \n				\n			\n\n				Time:
URL:https://www.gruenetexas.com/event/tyler-halverson-in-defense-of-drinking-tour/
LOCATION:Gruene Hall\, 1281 Gruene Rd\, New Braunfels\, 78130
CATEGORIES:Ticketed Event
ATTACH;FMTTYPE=image/jpeg:https://www.gruenetexas.com/wp-content/uploads/2025/10/event-flyer-61333-R7NRkW.jpg
END:VEVENT
BEGIN:VEVENT
DTSTART;TZID=America/Chicago:20260118T190000
DTEND;TZID=America/Chicago:20260118T190000
DTSTAMP:20260421T170659
CREATED:20260109T231554Z
LAST-MODIFIED:20260118T231505Z
UID:10004335-1768762800-1768762800@www.gruenetexas.com
SUMMARY:Colter Wall
DESCRIPTION:| 			\n			\n							 \n\nDoors: 6pm \nOpener: Hayden Redwine 7pm \nColter Wall: 8pm \nGENERAL ADMISSION: $40 (+ $8.00 service fee) \n\n\n\n\n\n						\n							Add to calendar						 \n\n\n\n									\n										Google Calendar									\n								\n\n									\n										iCalendar									\n								\n\n									\n										Outlook 365									\n								\n\n									\n										Outlook Live									\n								\n\n \n \n \n \n\n\n\n					Details\n	\n\n\n				Date:\n				\n					  \n				\n			\n\n				Time:
URL:https://www.gruenetexas.com/event/colter-wall/
LOCATION:Gruene Hall\, 1281 Gruene Rd\, New Braunfels\, 78130
CATEGORIES:Ticketed Event
ATTACH;FMTTYPE=image/jpeg:https://www.gruenetexas.com/wp-content/uploads/2026/01/event-flyer-62408-1-aikGgL.jpg
END:VEVENT
BEGIN:VEVENT
DTSTART;TZID=America/Chicago:20260130T200000
DTEND;TZID=America/Chicago:20260130T200000
DTSTAMP:20260421T170659
CREATED:20251021T204504Z
LAST-MODIFIED:20260130T233116Z
UID:10003955-1769803200-1769803200@www.gruenetexas.com
SUMMARY:Wade Bowen
DESCRIPTION:| 			\n			\n							 \n\nTickets on sale Friday\, October 24th at 10AM! \nDoors: 7pm \nOpener: Matt Kirk & The Gueyfarers 8pm \nWade Bowen: 9:30pm \nGENERAL ADMISSION: $30 (+ $6.50 service fee) \n\n\n\n\n\n						\n							Add to calendar						 \n\n\n\n									\n										Google Calendar									\n								\n\n									\n										iCalendar									\n								\n\n									\n										Outlook 365									\n								\n\n									\n										Outlook Live									\n								\n\n \n \n \n \n\n\n\n					Details\n	\n\n\n				Date:\n				\n					  \n				\n			\n\n				Time:
URL:https://www.gruenetexas.com/event/wade-bowen-5/
LOCATION:Gruene Hall\, 1281 Gruene Rd\, New Braunfels\, 78130
CATEGORIES:Ticketed Event
ATTACH;FMTTYPE=image/jpeg:https://www.gruenetexas.com/wp-content/uploads/2026/01/event-flyer-61269-1-WMTi3q.jpg
END:VEVENT
BEGIN:VEVENT
DTSTART;TZID=America/Chicago:20260131T210000
DTEND;TZID=America/Chicago:20260131T210000
DTSTAMP:20260421T170659
CREATED:20251021T204504Z
LAST-MODIFIED:20260131T233013Z
UID:10003956-1769893200-1769893200@www.gruenetexas.com
SUMMARY:Wade Bowen
DESCRIPTION:| 			\n			\n							 \n\nTickets on sale Friday\, October 24th at 10AM! \nDoors: 8pm \nOpener: Matt Kirk & The Gueyfarers 8pm \nWade Bowen: 10:30pm \nGENERAL ADMISSION: $30 (+ $6.50 service fee) \n\n\n\n\n\n						\n							Add to calendar						 \n\n\n\n									\n										Google Calendar									\n								\n\n									\n										iCalendar									\n								\n\n									\n										Outlook 365									\n								\n\n									\n										Outlook Live									\n								\n\n \n \n \n \n\n\n\n					Details\n	\n\n\n				Date:\n				\n					  \n				\n			\n\n				Time:
URL:https://www.gruenetexas.com/event/wade-bowen-6/
LOCATION:Gruene Hall\, 1281 Gruene Rd\, New Braunfels\, 78130
CATEGORIES:Ticketed Event
ATTACH;FMTTYPE=image/jpeg:https://www.gruenetexas.com/wp-content/uploads/2026/01/event-flyer-61272-1-brb13t.jpg
END:VEVENT
END:VCALENDAR