BEGIN:VCALENDAR
VERSION:2.0
PRODID:-//Gruene - ECPv6.15.11//NONSGML v1.0//EN
CALSCALE:GREGORIAN
METHOD:PUBLISH
X-WR-CALNAME:Gruene
X-ORIGINAL-URL:https://www.gruenetexas.com
X-WR-CALDESC:Events for Gruene
REFRESH-INTERVAL;VALUE=DURATION:PT1H
X-Robots-Tag:noindex
X-PUBLISHED-TTL:PT1H
BEGIN:VTIMEZONE
TZID:America/Chicago
BEGIN:DAYLIGHT
TZOFFSETFROM:-0600
TZOFFSETTO:-0500
TZNAME:CDT
DTSTART:20250309T080000
END:DAYLIGHT
BEGIN:STANDARD
TZOFFSETFROM:-0500
TZOFFSETTO:-0600
TZNAME:CST
DTSTART:20251102T070000
END:STANDARD
BEGIN:DAYLIGHT
TZOFFSETFROM:-0600
TZOFFSETTO:-0500
TZNAME:CDT
DTSTART:20260308T080000
END:DAYLIGHT
BEGIN:STANDARD
TZOFFSETFROM:-0500
TZOFFSETTO:-0600
TZNAME:CST
DTSTART:20261101T070000
END:STANDARD
BEGIN:DAYLIGHT
TZOFFSETFROM:-0600
TZOFFSETTO:-0500
TZNAME:CDT
DTSTART:20270314T080000
END:DAYLIGHT
BEGIN:STANDARD
TZOFFSETFROM:-0500
TZOFFSETTO:-0600
TZNAME:CST
DTSTART:20271107T070000
END:STANDARD
END:VTIMEZONE
BEGIN:VEVENT
DTSTART;TZID=America/Chicago:20260524T113000
DTEND;TZID=America/Chicago:20260524T143000
DTSTAMP:20260421T131108
CREATED:20260414T061528Z
LAST-MODIFIED:20260421T064534Z
UID:10004629-1779622200-1779633000@www.gruenetexas.com
SUMMARY:Kayla Jane
DESCRIPTION:| 			\n			\n							 \n\n\n		\n\n\n\n\n\n\n						\n							Add to calendar						 \n\n\n\n									\n										Google Calendar									\n								\n\n									\n										iCalendar									\n								\n\n									\n										Outlook 365									\n								\n\n									\n										Outlook Live
URL:https://www.gruenetexas.com/event/kayla-jane-10/
LOCATION:Gruene Hall\, 1281 Gruene Rd\, New Braunfels\, 78130
CATEGORIES:Free Event
END:VEVENT
BEGIN:VEVENT
DTSTART;TZID=America/Chicago:20260524T120000
DTEND;TZID=America/Chicago:20260524T150000
DTSTAMP:20260421T131108
CREATED:20260414T202950Z
LAST-MODIFIED:20260416T204500Z
UID:10004679-1779624000-1779634800@www.gruenetexas.com
SUMMARY:Tony Taylor
DESCRIPTION:
URL:https://www.gruenetexas.com/event/tony-taylor-91/
LOCATION:Gristmill River Restaurant & Bar\, 1287 Gruene Rd\, New Braunfels\, TX\, 78130\, United States
CATEGORIES:Free Event
END:VEVENT
BEGIN:VEVENT
DTSTART;TZID=America/Chicago:20260524T130000
DTEND;TZID=America/Chicago:20260524T160000
DTSTAMP:20260421T131108
CREATED:20260414T141450Z
LAST-MODIFIED:20260421T141448Z
UID:10004667-1779627600-1779638400@www.gruenetexas.com
SUMMARY:Austin Gilliam & The Well Fed Texans
DESCRIPTION:
URL:https://www.gruenetexas.com/event/austin-gilliam-the-well-fed-texans-18/
LOCATION:The Grapevine\, 1612 Hunter Rd.\, New Braunfels\, TX\, 78130\, United States
CATEGORIES:Free Event
END:VEVENT
BEGIN:VEVENT
DTSTART;TZID=America/Chicago:20260524T150000
DTEND;TZID=America/Chicago:20260524T180000
DTSTAMP:20260421T131108
CREATED:20260414T061529Z
LAST-MODIFIED:20260421T064535Z
UID:10004630-1779634800-1779645600@www.gruenetexas.com
SUMMARY:Chris Cunningham
DESCRIPTION:| 			\n			\n							 \n\n\n		\n\n\n\n\n\n\n						\n							Add to calendar						 \n\n\n\n									\n										Google Calendar									\n								\n\n									\n										iCalendar									\n								\n\n									\n										Outlook 365									\n								\n\n									\n										Outlook Live
URL:https://www.gruenetexas.com/event/chris-cunningham/
LOCATION:Gruene Hall\, 1281 Gruene Rd\, New Braunfels\, 78130
CATEGORIES:Free Event
END:VEVENT
BEGIN:VEVENT
DTSTART;TZID=America/Chicago:20260524T170000
DTEND;TZID=America/Chicago:20260524T200000
DTSTAMP:20260421T131108
CREATED:20260414T141450Z
LAST-MODIFIED:20260421T141448Z
UID:10004668-1779642000-1779652800@www.gruenetexas.com
SUMMARY:Colton’s Kin
DESCRIPTION:
URL:https://www.gruenetexas.com/event/coltons-kin-113/
LOCATION:The Grapevine\, 1612 Hunter Rd.\, New Braunfels\, TX\, 78130\, United States
CATEGORIES:Free Event
END:VEVENT
BEGIN:VEVENT
DTSTART;TZID=America/Chicago:20260524T183000
DTEND;TZID=America/Chicago:20260524T223000
DTSTAMP:20260421T131108
CREATED:20260414T202950Z
LAST-MODIFIED:20260416T204500Z
UID:10004680-1779647400-1779661800@www.gruenetexas.com
SUMMARY:Owen Stroud
DESCRIPTION:
URL:https://www.gruenetexas.com/event/owen-stroud-8/
LOCATION:Gristmill River Restaurant & Bar\, 1287 Gruene Rd\, New Braunfels\, TX\, 78130\, United States
CATEGORIES:Free Event
END:VEVENT
END:VCALENDAR