BEGIN:VCALENDAR
VERSION:2.0
PRODID:-//Gruene - ECPv6.15.11//NONSGML v1.0//EN
CALSCALE:GREGORIAN
METHOD:PUBLISH
X-ORIGINAL-URL:https://www.gruenetexas.com
X-WR-CALDESC:Events for Gruene
REFRESH-INTERVAL;VALUE=DURATION:PT1H
X-Robots-Tag:noindex
X-PUBLISHED-TTL:PT1H
BEGIN:VTIMEZONE
TZID:America/Chicago
BEGIN:DAYLIGHT
TZOFFSETFROM:-0600
TZOFFSETTO:-0500
TZNAME:CDT
DTSTART:20250309T080000
END:DAYLIGHT
BEGIN:STANDARD
TZOFFSETFROM:-0500
TZOFFSETTO:-0600
TZNAME:CST
DTSTART:20251102T070000
END:STANDARD
BEGIN:DAYLIGHT
TZOFFSETFROM:-0600
TZOFFSETTO:-0500
TZNAME:CDT
DTSTART:20260308T080000
END:DAYLIGHT
BEGIN:STANDARD
TZOFFSETFROM:-0500
TZOFFSETTO:-0600
TZNAME:CST
DTSTART:20261101T070000
END:STANDARD
BEGIN:DAYLIGHT
TZOFFSETFROM:-0600
TZOFFSETTO:-0500
TZNAME:CDT
DTSTART:20270314T080000
END:DAYLIGHT
BEGIN:STANDARD
TZOFFSETFROM:-0500
TZOFFSETTO:-0600
TZNAME:CST
DTSTART:20271107T070000
END:STANDARD
END:VTIMEZONE
BEGIN:VEVENT
DTSTART;TZID=America/Chicago:20260502T110000
DTEND;TZID=America/Chicago:20260502T130000
DTSTAMP:20260421T115404
CREATED:20260311T021459Z
LAST-MODIFIED:20260421T064531Z
UID:10004564-1777719600-1777726800@www.gruenetexas.com
SUMMARY:Dean Paul Willeford
DESCRIPTION:| 			\n			\n							 \n\n\n		\n\n\n\n\n\n\n						\n							Add to calendar						 \n\n\n\n									\n										Google Calendar									\n								\n\n									\n										iCalendar									\n								\n\n									\n										Outlook 365									\n								\n\n									\n										Outlook Live
URL:https://www.gruenetexas.com/event/dean-paul-willeford-2/
LOCATION:Gruene Hall\, 1281 Gruene Rd\, New Braunfels\, 78130
CATEGORIES:Free Event
END:VEVENT
BEGIN:VEVENT
DTSTART;TZID=America/Chicago:20260502T123000
DTEND;TZID=America/Chicago:20260502T153000
DTSTAMP:20260421T115404
CREATED:20260414T202950Z
LAST-MODIFIED:20260416T204500Z
UID:10004677-1777725000-1777735800@www.gruenetexas.com
SUMMARY:Collie Miller
DESCRIPTION:
URL:https://www.gruenetexas.com/event/collie-miller-4/
LOCATION:Gristmill River Restaurant & Bar\, 1287 Gruene Rd\, New Braunfels\, TX\, 78130\, United States
CATEGORIES:Free Event
END:VEVENT
BEGIN:VEVENT
DTSTART;TZID=America/Chicago:20260502T130000
DTEND;TZID=America/Chicago:20260502T160000
DTSTAMP:20260421T115404
CREATED:20260414T141448Z
LAST-MODIFIED:20260421T141446Z
UID:10004651-1777726800-1777737600@www.gruenetexas.com
SUMMARY:Bo Luna
DESCRIPTION:
URL:https://www.gruenetexas.com/event/bo-luna-5/
LOCATION:The Grapevine\, 1612 Hunter Rd.\, New Braunfels\, TX\, 78130\, United States
CATEGORIES:Free Event
END:VEVENT
BEGIN:VEVENT
DTSTART;TZID=America/Chicago:20260502T130000
DTEND;TZID=America/Chicago:20260502T170000
DTSTAMP:20260421T115404
CREATED:20260311T021459Z
LAST-MODIFIED:20260421T064531Z
UID:10004565-1777726800-1777741200@www.gruenetexas.com
SUMMARY:Dusty Moats
DESCRIPTION:| 			\n			\n							 \n\n\n		\n\n\n\n\n\n\n						\n							Add to calendar						 \n\n\n\n									\n										Google Calendar									\n								\n\n									\n										iCalendar									\n								\n\n									\n										Outlook 365									\n								\n\n									\n										Outlook Live
URL:https://www.gruenetexas.com/event/dusty-moats-3/
LOCATION:Gruene Hall\, 1281 Gruene Rd\, New Braunfels\, 78130
CATEGORIES:Free Event
END:VEVENT
BEGIN:VEVENT
DTSTART;TZID=America/Chicago:20260502T170000
DTEND;TZID=America/Chicago:20260502T200000
DTSTAMP:20260421T115404
CREATED:20260414T141448Z
LAST-MODIFIED:20260421T141446Z
UID:10004652-1777741200-1777752000@www.gruenetexas.com
SUMMARY:Bret Graham
DESCRIPTION:
URL:https://www.gruenetexas.com/event/bret-graham-151/
LOCATION:The Grapevine\, 1612 Hunter Rd.\, New Braunfels\, TX\, 78130\, United States
CATEGORIES:Free Event
END:VEVENT
BEGIN:VEVENT
DTSTART;TZID=America/Chicago:20260502T180000
DTEND;TZID=America/Chicago:20260502T210000
DTSTAMP:20260421T115404
CREATED:20260224T185952Z
LAST-MODIFIED:20260416T204500Z
UID:10004532-1777744800-1777755600@www.gruenetexas.com
SUMMARY:Allan Hendrickson
DESCRIPTION:
URL:https://www.gruenetexas.com/event/allan-hendrickson-14/
LOCATION:Gristmill River Restaurant & Bar\, 1287 Gruene Rd\, New Braunfels\, TX\, 78130\, United States
CATEGORIES:Free Event
END:VEVENT
END:VCALENDAR