BEGIN:VCALENDAR
VERSION:2.0
PRODID:-//Gruene - ECPv6.15.11//NONSGML v1.0//EN
CALSCALE:GREGORIAN
METHOD:PUBLISH
X-WR-CALNAME:Gruene
X-ORIGINAL-URL:https://www.gruenetexas.com
X-WR-CALDESC:Events for Gruene
REFRESH-INTERVAL;VALUE=DURATION:PT1H
X-Robots-Tag:noindex
X-PUBLISHED-TTL:PT1H
BEGIN:VTIMEZONE
TZID:America/Chicago
BEGIN:DAYLIGHT
TZOFFSETFROM:-0600
TZOFFSETTO:-0500
TZNAME:CDT
DTSTART:20250309T080000
END:DAYLIGHT
BEGIN:STANDARD
TZOFFSETFROM:-0500
TZOFFSETTO:-0600
TZNAME:CST
DTSTART:20251102T070000
END:STANDARD
BEGIN:DAYLIGHT
TZOFFSETFROM:-0600
TZOFFSETTO:-0500
TZNAME:CDT
DTSTART:20260308T080000
END:DAYLIGHT
BEGIN:STANDARD
TZOFFSETFROM:-0500
TZOFFSETTO:-0600
TZNAME:CST
DTSTART:20261101T070000
END:STANDARD
BEGIN:DAYLIGHT
TZOFFSETFROM:-0600
TZOFFSETTO:-0500
TZNAME:CDT
DTSTART:20270314T080000
END:DAYLIGHT
BEGIN:STANDARD
TZOFFSETFROM:-0500
TZOFFSETTO:-0600
TZNAME:CST
DTSTART:20271107T070000
END:STANDARD
END:VTIMEZONE
BEGIN:VEVENT
DTSTART;TZID=America/Chicago:20260418T110000
DTEND;TZID=America/Chicago:20260418T130000
DTSTAMP:20260421T115100
CREATED:20260310T021457Z
LAST-MODIFIED:20260418T061457Z
UID:10004553-1776510000-1776517200@www.gruenetexas.com
SUMMARY:Dylan Rhys
DESCRIPTION:| 			\n			\n							 \n\n\n		\n\n\n\n\n\n\n						\n							Add to calendar						 \n\n\n\n									\n										Google Calendar									\n								\n\n									\n										iCalendar									\n								\n\n									\n										Outlook 365									\n								\n\n									\n										Outlook Live
URL:https://www.gruenetexas.com/event/dylan-rhys-6/
LOCATION:Gruene Hall\, 1281 Gruene Rd\, New Braunfels\, 78130
CATEGORIES:Free Event
END:VEVENT
BEGIN:VEVENT
DTSTART;TZID=America/Chicago:20260418T123000
DTEND;TZID=America/Chicago:20260418T153000
DTSTAMP:20260421T115100
CREATED:20260218T185959Z
LAST-MODIFIED:20260416T204459Z
UID:10004502-1776515400-1776526200@www.gruenetexas.com
SUMMARY:Michael Monroe Goodman
DESCRIPTION:
URL:https://www.gruenetexas.com/event/michael-monroe-goodman-72/
LOCATION:Gristmill River Restaurant & Bar\, 1287 Gruene Rd\, New Braunfels\, TX\, 78130\, United States
CATEGORIES:Free Event
END:VEVENT
BEGIN:VEVENT
DTSTART;TZID=America/Chicago:20260418T130000
DTEND;TZID=America/Chicago:20260418T160000
DTSTAMP:20260421T115100
CREATED:20260311T212959Z
LAST-MODIFIED:20260418T141458Z
UID:10004573-1776517200-1776528000@www.gruenetexas.com
SUMMARY:Andrew Kreitz
DESCRIPTION:
URL:https://www.gruenetexas.com/event/andrew-kreitz-73/
LOCATION:The Grapevine\, 1612 Hunter Rd.\, New Braunfels\, TX\, 78130\, United States
CATEGORIES:Free Event
END:VEVENT
BEGIN:VEVENT
DTSTART;TZID=America/Chicago:20260418T130000
DTEND;TZID=America/Chicago:20260418T170000
DTSTAMP:20260421T115100
CREATED:20260310T021457Z
LAST-MODIFIED:20260418T061457Z
UID:10004554-1776517200-1776531600@www.gruenetexas.com
SUMMARY:Red Iron Push
DESCRIPTION:| 			\n			\n							 \n\n\n		\n\n\n\n\n\n\n						\n							Add to calendar						 \n\n\n\n									\n										Google Calendar									\n								\n\n									\n										iCalendar									\n								\n\n									\n										Outlook 365									\n								\n\n									\n										Outlook Live
URL:https://www.gruenetexas.com/event/red-iron-push-19/
LOCATION:Gruene Hall\, 1281 Gruene Rd\, New Braunfels\, 78130
CATEGORIES:Free Event
END:VEVENT
BEGIN:VEVENT
DTSTART;TZID=America/Chicago:20260418T170000
DTEND;TZID=America/Chicago:20260418T200000
DTSTAMP:20260421T115100
CREATED:20260407T052616Z
LAST-MODIFIED:20260418T141458Z
UID:10004609-1776531600-1776542400@www.gruenetexas.com
SUMMARY:Allan Hendrickson Band
DESCRIPTION:
URL:https://www.gruenetexas.com/event/allan-hendrickson-band-17/
LOCATION:The Grapevine\, 1612 Hunter Rd.\, New Braunfels\, TX\, 78130\, United States
CATEGORIES:Free Event
END:VEVENT
BEGIN:VEVENT
DTSTART;TZID=America/Chicago:20260418T180000
DTEND;TZID=America/Chicago:20260418T210000
DTSTAMP:20260421T115100
CREATED:20260218T185959Z
LAST-MODIFIED:20260416T204459Z
UID:10004503-1776535200-1776546000@www.gruenetexas.com
SUMMARY:Owen Stroud
DESCRIPTION:
URL:https://www.gruenetexas.com/event/owen-stroud-6/
LOCATION:Gristmill River Restaurant & Bar\, 1287 Gruene Rd\, New Braunfels\, TX\, 78130\, United States
CATEGORIES:Free Event
END:VEVENT
END:VCALENDAR