BEGIN:VCALENDAR
VERSION:2.0
PRODID:-//Gruene - ECPv6.15.11//NONSGML v1.0//EN
CALSCALE:GREGORIAN
METHOD:PUBLISH
X-WR-CALNAME:Gruene
X-ORIGINAL-URL:https://www.gruenetexas.com
X-WR-CALDESC:Events for Gruene
REFRESH-INTERVAL;VALUE=DURATION:PT1H
X-Robots-Tag:noindex
X-PUBLISHED-TTL:PT1H
BEGIN:VTIMEZONE
TZID:America/Chicago
BEGIN:DAYLIGHT
TZOFFSETFROM:-0600
TZOFFSETTO:-0500
TZNAME:CDT
DTSTART:20250309T080000
END:DAYLIGHT
BEGIN:STANDARD
TZOFFSETFROM:-0500
TZOFFSETTO:-0600
TZNAME:CST
DTSTART:20251102T070000
END:STANDARD
BEGIN:DAYLIGHT
TZOFFSETFROM:-0600
TZOFFSETTO:-0500
TZNAME:CDT
DTSTART:20260308T080000
END:DAYLIGHT
BEGIN:STANDARD
TZOFFSETFROM:-0500
TZOFFSETTO:-0600
TZNAME:CST
DTSTART:20261101T070000
END:STANDARD
BEGIN:DAYLIGHT
TZOFFSETFROM:-0600
TZOFFSETTO:-0500
TZNAME:CDT
DTSTART:20270314T080000
END:DAYLIGHT
BEGIN:STANDARD
TZOFFSETFROM:-0500
TZOFFSETTO:-0600
TZNAME:CST
DTSTART:20271107T070000
END:STANDARD
END:VTIMEZONE
BEGIN:VEVENT
DTSTART;TZID=America/Chicago:20260404T110000
DTEND;TZID=America/Chicago:20260404T130000
DTSTAMP:20260421T115056
CREATED:20260219T010004Z
LAST-MODIFIED:20260404T031501Z
UID:10004523-1775300400-1775307600@www.gruenetexas.com
SUMMARY:Rowdy Brooks
DESCRIPTION:| 			\n			\n							 \n\n\n		\n\n\n\n\n\n\n						\n							Add to calendar						 \n\n\n\n									\n										Google Calendar									\n								\n\n									\n										iCalendar									\n								\n\n									\n										Outlook 365									\n								\n\n									\n										Outlook Live
URL:https://www.gruenetexas.com/event/rowdy-brooks/
LOCATION:Gruene Hall\, 1281 Gruene Rd\, New Braunfels\, 78130
CATEGORIES:Free Event
END:VEVENT
BEGIN:VEVENT
DTSTART;TZID=America/Chicago:20260404T123000
DTEND;TZID=America/Chicago:20260404T153000
DTSTAMP:20260421T115056
CREATED:20260218T185959Z
LAST-MODIFIED:20260404T202949Z
UID:10004499-1775305800-1775316600@www.gruenetexas.com
SUMMARY:Brandon Ford
DESCRIPTION:
URL:https://www.gruenetexas.com/event/brandon-ford-32/
LOCATION:Gristmill River Restaurant & Bar\, 1287 Gruene Rd\, New Braunfels\, TX\, 78130\, United States
CATEGORIES:Free Event
END:VEVENT
BEGIN:VEVENT
DTSTART;TZID=America/Chicago:20260404T130000
DTEND;TZID=America/Chicago:20260404T170000
DTSTAMP:20260421T115056
CREATED:20260219T010005Z
LAST-MODIFIED:20260404T031501Z
UID:10004524-1775307600-1775322000@www.gruenetexas.com
SUMMARY:Jake Penrod
DESCRIPTION:| 			\n			\n							 \n\n\n		\n\n\n\n\n\n\n						\n							Add to calendar						 \n\n\n\n									\n										Google Calendar									\n								\n\n									\n										iCalendar									\n								\n\n									\n										Outlook 365									\n								\n\n									\n										Outlook Live
URL:https://www.gruenetexas.com/event/jake-penrod-4/
LOCATION:Gruene Hall\, 1281 Gruene Rd\, New Braunfels\, 78130
CATEGORIES:Free Event
END:VEVENT
BEGIN:VEVENT
DTSTART;TZID=America/Chicago:20260404T170000
DTEND;TZID=America/Chicago:20260404T200000
DTSTAMP:20260421T115056
CREATED:20260311T212958Z
LAST-MODIFIED:20260319T222948Z
UID:10004567-1775322000-1775332800@www.gruenetexas.com
SUMMARY:Andrew Kreitz
DESCRIPTION:
URL:https://www.gruenetexas.com/event/andrew-kreitz-72/
LOCATION:The Grapevine\, 1612 Hunter Rd.\, New Braunfels\, TX\, 78130\, United States
CATEGORIES:Free Event
END:VEVENT
BEGIN:VEVENT
DTSTART;TZID=America/Chicago:20260404T180000
DTEND;TZID=America/Chicago:20260404T210000
DTSTAMP:20260421T115056
CREATED:20260218T185959Z
LAST-MODIFIED:20260404T202949Z
UID:10004500-1775325600-1775336400@www.gruenetexas.com
SUMMARY:Colton’s Kin
DESCRIPTION:
URL:https://www.gruenetexas.com/event/coltons-kin-106/
LOCATION:Gristmill River Restaurant & Bar\, 1287 Gruene Rd\, New Braunfels\, TX\, 78130\, United States
CATEGORIES:Free Event
END:VEVENT
END:VCALENDAR