BEGIN:VCALENDAR
VERSION:2.0
PRODID:-//Gruene - ECPv6.15.11//NONSGML v1.0//EN
CALSCALE:GREGORIAN
METHOD:PUBLISH
X-WR-CALNAME:Gruene
X-ORIGINAL-URL:https://www.gruenetexas.com
X-WR-CALDESC:Events for Gruene
REFRESH-INTERVAL;VALUE=DURATION:PT1H
X-Robots-Tag:noindex
X-PUBLISHED-TTL:PT1H
BEGIN:VTIMEZONE
TZID:America/Chicago
BEGIN:DAYLIGHT
TZOFFSETFROM:-0600
TZOFFSETTO:-0500
TZNAME:CDT
DTSTART:20250309T080000
END:DAYLIGHT
BEGIN:STANDARD
TZOFFSETFROM:-0500
TZOFFSETTO:-0600
TZNAME:CST
DTSTART:20251102T070000
END:STANDARD
BEGIN:DAYLIGHT
TZOFFSETFROM:-0600
TZOFFSETTO:-0500
TZNAME:CDT
DTSTART:20260308T080000
END:DAYLIGHT
BEGIN:STANDARD
TZOFFSETFROM:-0500
TZOFFSETTO:-0600
TZNAME:CST
DTSTART:20261101T070000
END:STANDARD
BEGIN:DAYLIGHT
TZOFFSETFROM:-0600
TZOFFSETTO:-0500
TZNAME:CDT
DTSTART:20270314T080000
END:DAYLIGHT
BEGIN:STANDARD
TZOFFSETFROM:-0500
TZOFFSETTO:-0600
TZNAME:CST
DTSTART:20271107T070000
END:STANDARD
END:VTIMEZONE
BEGIN:VEVENT
DTSTART;TZID=America/Chicago:20260703T160000
DTEND;TZID=America/Chicago:20260703T190000
DTSTAMP:20260421T144241
CREATED:20260218T010032Z
LAST-MODIFIED:20260421T064541Z
UID:10004496-1783094400-1783105200@www.gruenetexas.com
SUMMARY:Friday Afternoon Club
DESCRIPTION:| 			\n			\n							 \n\n\n		\n\n\n\n\n\n\n						\n							Add to calendar						 \n\n\n\n									\n										Google Calendar									\n								\n\n									\n										iCalendar									\n								\n\n									\n										Outlook 365									\n								\n\n									\n										Outlook Live
URL:https://www.gruenetexas.com/event/friday-afternoon-club-152/
LOCATION:Gruene Hall\, 1281 Gruene Rd\, New Braunfels\, 78130
CATEGORIES:Free Event
END:VEVENT
BEGIN:VEVENT
DTSTART;TZID=America/Chicago:20260709T180000
DTEND;TZID=America/Chicago:20260709T190000
DTSTAMP:20260421T144241
CREATED:20260105T231513Z
LAST-MODIFIED:20260421T064541Z
UID:10004330-1783620000-1783623600@www.gruenetexas.com
SUMMARY:Two Step Dance Lessons
DESCRIPTION:| 			\n			\n							 \n\n\n		\n\n\n\n\n\n\n						\n							Add to calendar						 \n\n\n\n									\n										Google Calendar									\n								\n\n									\n										iCalendar									\n								\n\n									\n										Outlook 365									\n								\n\n									\n										Outlook Live
URL:https://www.gruenetexas.com/event/two-step-lessons-9/
LOCATION:Gruene Hall\, 1281 Gruene Rd\, New Braunfels\, 78130
CATEGORIES:Free Event
END:VEVENT
BEGIN:VEVENT
DTSTART;TZID=America/Chicago:20260709T203000
DTEND;TZID=America/Chicago:20260709T223000
DTSTAMP:20260421T144241
CREATED:20260105T231513Z
LAST-MODIFIED:20260421T064541Z
UID:10004331-1783629000-1783636200@www.gruenetexas.com
SUMMARY:Jessee Lee
DESCRIPTION:| 			\n			\n							 \n\n\n		\n\n\n\n\n\n\n						\n							Add to calendar						 \n\n\n\n									\n										Google Calendar									\n								\n\n									\n										iCalendar									\n								\n\n									\n										Outlook 365									\n								\n\n									\n										Outlook Live
URL:https://www.gruenetexas.com/event/jessee-lee-12/
LOCATION:Gruene Hall\, 1281 Gruene Rd\, New Braunfels\, 78130
CATEGORIES:Free Event
ATTACH;FMTTYPE=image/jpeg:https://www.gruenetexas.com/wp-content/uploads/2026/01/HTT-Event-Cover-vt9m8b.jpg
END:VEVENT
BEGIN:VEVENT
DTSTART;TZID=America/Chicago:20260710T160000
DTEND;TZID=America/Chicago:20260710T190000
DTSTAMP:20260421T144241
CREATED:20260218T010033Z
LAST-MODIFIED:20260421T064541Z
UID:10004467-1783699200-1783710000@www.gruenetexas.com
SUMMARY:Friday Afternoon Club
DESCRIPTION:| 			\n			\n							 \n\n\n		\n\n\n\n\n\n\n						\n							Add to calendar						 \n\n\n\n									\n										Google Calendar									\n								\n\n									\n										iCalendar									\n								\n\n									\n										Outlook 365									\n								\n\n									\n										Outlook Live
URL:https://www.gruenetexas.com/event/friday-afternoon-club-153/
LOCATION:Gruene Hall\, 1281 Gruene Rd\, New Braunfels\, 78130
CATEGORIES:Free Event
END:VEVENT
BEGIN:VEVENT
DTSTART;TZID=America/Chicago:20260717T160000
DTEND;TZID=America/Chicago:20260717T190000
DTSTAMP:20260421T144241
CREATED:20260218T010033Z
LAST-MODIFIED:20260421T064542Z
UID:10004469-1784304000-1784314800@www.gruenetexas.com
SUMMARY:Friday Afternoon Club
DESCRIPTION:| 			\n			\n							 \n\n\n		\n\n\n\n\n\n\n						\n							Add to calendar						 \n\n\n\n									\n										Google Calendar									\n								\n\n									\n										iCalendar									\n								\n\n									\n										Outlook 365									\n								\n\n									\n										Outlook Live
URL:https://www.gruenetexas.com/event/friday-afternoon-club-154/
LOCATION:Gruene Hall\, 1281 Gruene Rd\, New Braunfels\, 78130
CATEGORIES:Free Event
END:VEVENT
BEGIN:VEVENT
DTSTART;TZID=America/Chicago:20260724T160000
DTEND;TZID=America/Chicago:20260724T190000
DTSTAMP:20260421T144241
CREATED:20260218T010033Z
LAST-MODIFIED:20260421T064542Z
UID:10004470-1784908800-1784919600@www.gruenetexas.com
SUMMARY:Friday Afternoon Club
DESCRIPTION:| 			\n			\n							 \n\n\n		\n\n\n\n\n\n\n						\n							Add to calendar						 \n\n\n\n									\n										Google Calendar									\n								\n\n									\n										iCalendar									\n								\n\n									\n										Outlook 365									\n								\n\n									\n										Outlook Live
URL:https://www.gruenetexas.com/event/friday-afternoon-club-155/
LOCATION:Gruene Hall\, 1281 Gruene Rd\, New Braunfels\, 78130
CATEGORIES:Free Event
END:VEVENT
BEGIN:VEVENT
DTSTART;TZID=America/Chicago:20260731T160000
DTEND;TZID=America/Chicago:20260731T190000
DTSTAMP:20260421T144241
CREATED:20260218T010034Z
LAST-MODIFIED:20260421T064543Z
UID:10004471-1785513600-1785524400@www.gruenetexas.com
SUMMARY:Friday Afternoon Club
DESCRIPTION:| 			\n			\n							 \n\n\n		\n\n\n\n\n\n\n						\n							Add to calendar						 \n\n\n\n									\n										Google Calendar									\n								\n\n									\n										iCalendar									\n								\n\n									\n										Outlook 365									\n								\n\n									\n										Outlook Live
URL:https://www.gruenetexas.com/event/friday-afternoon-club-156/
LOCATION:Gruene Hall\, 1281 Gruene Rd\, New Braunfels\, 78130
CATEGORIES:Free Event
END:VEVENT
END:VCALENDAR