BEGIN:VCALENDAR
VERSION:2.0
PRODID:-//Gruene - ECPv6.15.11//NONSGML v1.0//EN
CALSCALE:GREGORIAN
METHOD:PUBLISH
X-ORIGINAL-URL:https://www.gruenetexas.com
X-WR-CALDESC:Events for Gruene
REFRESH-INTERVAL;VALUE=DURATION:PT1H
X-Robots-Tag:noindex
X-PUBLISHED-TTL:PT1H
BEGIN:VTIMEZONE
TZID:America/Chicago
BEGIN:DAYLIGHT
TZOFFSETFROM:-0600
TZOFFSETTO:-0500
TZNAME:CDT
DTSTART:20240310T080000
END:DAYLIGHT
BEGIN:STANDARD
TZOFFSETFROM:-0500
TZOFFSETTO:-0600
TZNAME:CST
DTSTART:20241103T070000
END:STANDARD
BEGIN:DAYLIGHT
TZOFFSETFROM:-0600
TZOFFSETTO:-0500
TZNAME:CDT
DTSTART:20250309T080000
END:DAYLIGHT
BEGIN:STANDARD
TZOFFSETFROM:-0500
TZOFFSETTO:-0600
TZNAME:CST
DTSTART:20251102T070000
END:STANDARD
BEGIN:DAYLIGHT
TZOFFSETFROM:-0600
TZOFFSETTO:-0500
TZNAME:CDT
DTSTART:20260308T080000
END:DAYLIGHT
BEGIN:STANDARD
TZOFFSETFROM:-0500
TZOFFSETTO:-0600
TZNAME:CST
DTSTART:20261101T070000
END:STANDARD
END:VTIMEZONE
BEGIN:VEVENT
DTSTART;TZID=America/Chicago:20250105T120000
DTEND;TZID=America/Chicago:20250105T153000
DTSTAMP:20260421T030815
CREATED:20241203T195703Z
LAST-MODIFIED:20241203T195703Z
UID:10002788-1736078400-1736091000@www.gruenetexas.com
SUMMARY:Linda Gail Lewis
DESCRIPTION:| 			\n			\n							 \n\n\nRock a Billy \n\n		\n\n\n\n\n\n\n						\n							Add to calendar						 \n\n\n\n									\n										Google Calendar									\n								\n\n									\n										iCalendar									\n								\n\n									\n										Outlook 365									\n								\n\n									\n										Outlook Live
URL:https://www.gruenetexas.com/event/linda-gail-lewis-6/
LOCATION:Gruene Hall\, 1281 Gruene Rd\, New Braunfels\, 78130
CATEGORIES:Free Event
END:VEVENT
BEGIN:VEVENT
DTSTART;TZID=America/Chicago:20250105T123000
DTEND;TZID=America/Chicago:20250105T153000
DTSTAMP:20260421T030815
CREATED:20241226T231158Z
LAST-MODIFIED:20241226T231158Z
UID:10002896-1736080200-1736091000@www.gruenetexas.com
SUMMARY:True Labowski
DESCRIPTION:
URL:https://www.gruenetexas.com/event/true-labowski-54/
LOCATION:Gristmill River Restaurant & Bar\, 1287 Gruene Rd\, New Braunfels\, TX\, 78130\, United States
CATEGORIES:Free Event
END:VEVENT
BEGIN:VEVENT
DTSTART;TZID=America/Chicago:20250105T140000
DTEND;TZID=America/Chicago:20250105T170000
DTSTAMP:20260421T030815
CREATED:20241227T154146Z
LAST-MODIFIED:20241227T154146Z
UID:10002907-1736085600-1736096400@www.gruenetexas.com
SUMMARY:Andrew Kreitz
DESCRIPTION:
URL:https://www.gruenetexas.com/event/andrew-kreitz-35/
LOCATION:The Grapevine\, 1612 Hunter Rd.\, New Braunfels\, TX\, 78130\, United States
CATEGORIES:Free Event
END:VEVENT
BEGIN:VEVENT
DTSTART;TZID=America/Chicago:20250105T160000
DTEND;TZID=America/Chicago:20250105T200000
DTSTAMP:20260421T030815
CREATED:20241203T195703Z
LAST-MODIFIED:20241203T195703Z
UID:10002789-1736092800-1736107200@www.gruenetexas.com
SUMMARY:Aaron Stephens
DESCRIPTION:| 			\n			\n							 \n\n\nBlues / Country \n\n		\n\n\n\n\n\n\n						\n							Add to calendar						 \n\n\n\n									\n										Google Calendar									\n								\n\n									\n										iCalendar									\n								\n\n									\n										Outlook 365									\n								\n\n									\n										Outlook Live
URL:https://www.gruenetexas.com/event/aaron-stephens-2/
LOCATION:Gruene Hall\, 1281 Gruene Rd\, New Braunfels\, 78130
CATEGORIES:Free Event
END:VEVENT
BEGIN:VEVENT
DTSTART;TZID=America/Chicago:20250105T200000
DTEND;TZID=America/Chicago:20250105T200000
DTSTAMP:20260421T030815
CREATED:20241230T204154Z
LAST-MODIFIED:20241230T204154Z
UID:10002921-1736107200-1736107200@www.gruenetexas.com
SUMMARY:Closed at 8pm for private event
DESCRIPTION:| 			\n			\n							 \n\n\n\n		\n\n\n\n\n\n\n						\n							Add to calendar						 \n\n\n\n									\n										Google Calendar									\n								\n\n									\n										iCalendar									\n								\n\n									\n										Outlook 365									\n								\n\n									\n										Outlook Live
URL:https://www.gruenetexas.com/event/closed-at-8pm-for-private-event/
LOCATION:Gruene Hall\, 1281 Gruene Rd\, New Braunfels\, 78130
CATEGORIES:Free Event
END:VEVENT
END:VCALENDAR