BEGIN:VCALENDAR
VERSION:2.0
PRODID:-//Gruene - ECPv6.15.11//NONSGML v1.0//EN
CALSCALE:GREGORIAN
METHOD:PUBLISH
X-WR-CALNAME:Gruene
X-ORIGINAL-URL:https://www.gruenetexas.com
X-WR-CALDESC:Events for Gruene
REFRESH-INTERVAL;VALUE=DURATION:PT1H
X-Robots-Tag:noindex
X-PUBLISHED-TTL:PT1H
BEGIN:VTIMEZONE
TZID:UTC
BEGIN:STANDARD
TZOFFSETFROM:+0000
TZOFFSETTO:+0000
TZNAME:UTC
DTSTART:20220101T000000
END:STANDARD
END:VTIMEZONE
BEGIN:VTIMEZONE
TZID:America/Chicago
BEGIN:DAYLIGHT
TZOFFSETFROM:-0600
TZOFFSETTO:-0500
TZNAME:CDT
DTSTART:20220313T080000
END:DAYLIGHT
BEGIN:STANDARD
TZOFFSETFROM:-0500
TZOFFSETTO:-0600
TZNAME:CST
DTSTART:20221106T070000
END:STANDARD
BEGIN:DAYLIGHT
TZOFFSETFROM:-0600
TZOFFSETTO:-0500
TZNAME:CDT
DTSTART:20230312T080000
END:DAYLIGHT
BEGIN:STANDARD
TZOFFSETFROM:-0500
TZOFFSETTO:-0600
TZNAME:CST
DTSTART:20231105T070000
END:STANDARD
BEGIN:DAYLIGHT
TZOFFSETFROM:-0600
TZOFFSETTO:-0500
TZNAME:CDT
DTSTART:20240310T080000
END:DAYLIGHT
BEGIN:STANDARD
TZOFFSETFROM:-0500
TZOFFSETTO:-0600
TZNAME:CST
DTSTART:20241103T070000
END:STANDARD
END:VTIMEZONE
BEGIN:VEVENT
DTSTART;TZID=UTC:20230617T100000
DTEND;TZID=UTC:20230617T170000
DTSTAMP:20260421T030656
CREATED:20230509T011900Z
LAST-MODIFIED:20230509T011900Z
UID:10001050-1686996000-1687021200@www.gruenetexas.com
SUMMARY:Old Gruene Market Days
DESCRIPTION:Nearly 100 Texas artisans selling their wares\, rain or shine. Free entry & parking
URL:https://www.gruenetexas.com/event/old-gruene-market-days-6/
LOCATION:Gruene Historic District\, 1601 Hunter Rd.\, New Braunfels\, TX\, 78130\, United States
CATEGORIES:Free Event,Special Event
ATTACH;FMTTYPE=image/jpeg:https://www.gruenetexas.com/wp-content/uploads/2023/03/MarketDays.jpg
END:VEVENT
BEGIN:VEVENT
DTSTART;TZID=UTC:20230617T123000
DTEND;TZID=UTC:20230617T153000
DTSTAMP:20260421T030656
CREATED:20230411T051453Z
LAST-MODIFIED:20230419T012618Z
UID:10000744-1687005000-1687015800@www.gruenetexas.com
SUMMARY:Lance Lipinsky
DESCRIPTION:at The Gristmill
URL:https://www.gruenetexas.com/event/lance-lipinsky-9/
CATEGORIES:Free Event
END:VEVENT
BEGIN:VEVENT
DTSTART;TZID=America/Chicago:20230617T130000
DTEND;TZID=America/Chicago:20230617T170000
DTSTAMP:20260421T030656
CREATED:20230406T004204Z
LAST-MODIFIED:20230608T183231Z
UID:10000671-1687006800-1687021200@www.gruenetexas.com
SUMMARY:Johnny Nicholas & Katie Shore
DESCRIPTION:at Gruene Hall
URL:https://www.gruenetexas.com/event/johnny-nicholas-band/
LOCATION:Gruene Hall\, 1281 Gruene Rd\, New Braunfels\, 78130
CATEGORIES:Free Event
END:VEVENT
BEGIN:VEVENT
DTSTART;TZID=UTC:20230617T140000
DTEND;TZID=UTC:20230617T170000
DTSTAMP:20260421T030656
CREATED:20230424T214145Z
LAST-MODIFIED:20230424T214145Z
UID:10000870-1687010400-1687021200@www.gruenetexas.com
SUMMARY:Adam Johnson Band
DESCRIPTION:at The Grapevine
URL:https://www.gruenetexas.com/event/adam-johnson-band-2/
CATEGORIES:Free Event
END:VEVENT
BEGIN:VEVENT
DTSTART;TZID=UTC:20230617T180000
DTEND;TZID=UTC:20230617T210000
DTSTAMP:20260421T030656
CREATED:20230417T202703Z
LAST-MODIFIED:20230417T202703Z
UID:10000783-1687024800-1687035600@www.gruenetexas.com
SUMMARY:Phil Luna Band
DESCRIPTION:at The Grapevine
URL:https://www.gruenetexas.com/event/phil-luna-band-5/
CATEGORIES:Free Event
END:VEVENT
BEGIN:VEVENT
DTSTART;TZID=America/Chicago:20230617T183000
DTEND;TZID=America/Chicago:20230617T223000
DTSTAMP:20260421T030656
CREATED:20230519T201222Z
LAST-MODIFIED:20230608T201006Z
UID:10001082-1687026600-1687041000@www.gruenetexas.com
SUMMARY:Lance Lipinsky
DESCRIPTION:at the Gristmill
URL:https://www.gruenetexas.com/event/true-labowski-5/
LOCATION:Gristmill River Restaurant & Bar\, 1287 Gruene Rd\, New Braunfels\, TX\, 78130\, United States
CATEGORIES:Free Event
END:VEVENT
BEGIN:VEVENT
DTSTART;TZID=America/Chicago:20230617T200000
DTEND;TZID=America/Chicago:20230617T200000
DTSTAMP:20260421T030656
CREATED:20230320T195716Z
LAST-MODIFIED:20230320T200444Z
UID:10000498-1687032000-1687032000@www.gruenetexas.com
SUMMARY:Rodney Crowell: The Chicago Sessions Tour
DESCRIPTION:Opener: Rob Ickes & Trey Hensley | Doors: 7pm
URL:https://www.gruenetexas.com/event/rodney-crowell-the-chicago-sessions-tour/
LOCATION:Gruene Hall\, 1281 Gruene Rd\, New Braunfels\, 78130
CATEGORIES:Special Event,Ticketed Event
ATTACH;FMTTYPE=image/jpeg:https://www.gruenetexas.com/wp-content/uploads/2023/03/RodneyCrowell-Wi71WD.tmp_.jpg
END:VEVENT
END:VCALENDAR